Workbook

Sheet État PMZ
A1: Commune | B1: Code INSEE | C1: ID ARCEP | D1: Nb EL | E1: Construit | F1: Raccordé | G1: Commercialisé | H1: Plaquette métallique | I1: Photos | J1: Lien vue d'ensemble | K1: Lien vue étiquette | L1: Commentaire
A2: Antonne-et-Trigonant | B2: 24011 | C2: FI-24011-0003 | D2: ='Évolution ZAPM'!AG3 -> 387 | E2: Oui | F2: Oui | G2: Non | H2: Non | I2: Oui | J2: https://commons.wikimedia.org/wiki/File:PMZ_FI-24011-0003.jpg | K2: https://commons.wikimedia.org/wiki/File:FI-24011-0003.jpg | L2: Pas encore d'étiquette
A3: Escoire | B3: 24162 | C3: FI-24011-0004 | D3: ='Évolution ZAPM'!AG4 -> 538 | E3: Oui | F3: Oui | G3: Non | H3: Non | I3: Oui | J3: https://commons.wikimedia.org/wiki/File:PMZ_FI-24011-0004.jpg | K3: https://commons.wikimedia.org/wiki/File:FI-24011-0004.jpg | L3: Taille 40U
A4: Bergerac | B4: 24037 | C4: FI-24037-0001 | D4: ='Évolution ZAPM'!AG5 -> 386 | E4: Oui | F4: Oui | G4: Oui | I4: Non
C5: FI-24037-0002 | D5: ='Évolution ZAPM'!AG6 -> 340 | E5: Oui | F5: Oui | G5: Oui | I5: Non
C6: FI-24037-0003 | D6: ='Évolution ZAPM'!AG7 -> 283 | E6: Oui | F6: Oui | G6: Oui | I6: Non
C7: FI-24037-0004 | D7: ='Évolution ZAPM'!AG8 -> 378 | E7: Oui | F7: Oui | G7: Oui | I7: Non
C8: FI-24037-0005 | D8: ='Évolution ZAPM'!AG9 -> 444 | E8: Oui | F8: Oui | G8: Oui | I8: Non
C9: FI-24037-0006 | D9: ='Évolution ZAPM'!AG10 -> 376 | E9: Oui | F9: Oui | G9: Oui | I9: Non
C10: FI-24037-0007 | D10: ='Évolution ZAPM'!AG11 -> 421 | E10: Oui | F10: Oui | G10: Oui | I10: Non
C11: FI-24037-0008 | D11: ='Évolution ZAPM'!AG12 -> 383 | E11: Oui | F11: Oui | G11: Oui | I11: Non
C12: FI-24037-0009 | D12: ='Évolution ZAPM'!AG13 -> 480 | E12: Oui | F12: Oui | G12: Oui | I12: Non
C13: FI-24037-000A | D13: ='Évolution ZAPM'!AG14 -> 375 | E13: Oui | F13: Oui | G13: Oui | I13: Non
C14: FI-24037-000B | D14: ='Évolution ZAPM'!AG15 -> 408 | E14: Oui | F14: Oui | G14: Oui | I14: Non
C15: FI-24037-000C | D15: ='Évolution ZAPM'!AG16 -> 318 | E15: Oui | F15: Oui | G15: Oui | I15: Non
C16: FI-24037-000D | D16: ='Évolution ZAPM'!AG17 -> 443 | E16: Oui | F16: Oui | G16: Oui | I16: Non
... C55: FI-24037-001H | D55: ='Évolution ZAPM'!AG56 -> 358 | E55: Oui | F55: Oui | G55: Oui | I55: Non
C56: FI-24037-001I | D56: ='Évolution ZAPM'!AG57 -> 418 | G56: Non | I56: Non
C57: FI-24037-001J | D57: ='Évolution ZAPM'!AG58 -> 365 | E57: Oui | F57: Oui | G57: Oui | I57: Non
C58: FI-24037-001K | D58: ='Évolution ZAPM'!AG59 -> 177 | G58: Non | I58: Non
A59: Champcevinel | B59: 24098 | C59: FI-24098-0002 | D59: ='Évolution ZAPM'!AG60 -> 298 | E59: Oui | F59: Oui | G59: Oui | H59: Non | I59: Oui | J59: https://commons.wikimedia.org/wiki/File:PMZ_FI-24098-0002.jpg | K59: https://commons.wikimedia.org/wiki/File:FI-24098-0002.jpg
C60: FI-24098-0003 | D60: ='Évolution ZAPM'!AG61 -> 334 | E60: Oui | F60: Oui | G60: Non | H60: Non | I60: Oui | J60: https://commons.wikimedia.org/wiki/File:PMZ_FI-24098-0003.jpg | K60: https://commons.wikimedia.org/wiki/File:FI-24098-0003.jpg
C61: FI-24098-0005 | D61: ='Évolution ZAPM'!AG62 -> 419 | E61: Oui | F61: Oui | G61: Non | H61: Non | I61: Oui | J61: https://commons.wikimedia.org/wiki/File:PMZ_FI-24098-0005.jpg | K61: https://commons.wikimedia.org/wiki/File:FI-24098-0005.jpg
C62: FI-24098-0007 | D62: ='Évolution ZAPM'!AG63 -> 352 | E62: Oui | F62: Oui | G62: Non | H62: Non | I62: Oui | J62: https://commons.wikimedia.org/wiki/File:PMZ_FI-24098-0007.jpg | K62: https://commons.wikimedia.org/wiki/File:FI-24098-0007.jpg
A63: Chancelade | B63: 24102 | C63: FI-24102-0000 | D63: ='Évolution ZAPM'!AG64 -> 381 | E63: Oui | F63: Oui | G63: Oui | H63: Non | I63: Oui | J63: https://commons.wikimedia.org/wiki/File:PMZ_FI-24102-0000.jpg | K63: https://commons.wikimedia.org/wiki/File:FI-24102-0000.jpg
C64: FI-24102-0001 | D64: ='Évolution ZAPM'!AG65 -> 244 | E64: Oui | F64: Oui | G64: Oui | H64: Oui | I64: Oui | J64: https://commons.wikimedia.org/wiki/File:PMZ_FI-24102-0001.jpg | K64: https://commons.wikimedia.org/wiki/File:FI-24102-0001.jpg
C65: FI-24102-0002 | D65: ='Évolution ZAPM'!AG66 -> 325 | E65: Oui | F65: Oui | G65: Oui | H65: Oui | I65: Oui | J65: https://commons.wikimedia.org/wiki/File:PMZ_FI-24102-0002.jpg | K65: https://commons.wikimedia.org/wiki/File:FI-24102-0002.jpg
C66: FI-24102-0003 | D66: ='Évolution ZAPM'!AG67 -> 347 | E66: Oui | F66: Non | G66: Non | H66: Non | I66: Oui | J66: https://commons.wikimedia.org/wiki/File:PMZ_FI-24102-0003.jpg | K66: https://commons.wikimedia.org/wiki/File:FI-24102-0003.jpg | L66: Pas encore d'étiquette
C67: FI-24102-0005 | D67: ='Évolution ZAPM'!AG68 -> 358 | E67: Oui | F67: Oui | G67: Oui | H67: Oui | I67: Oui | J67: https://commons.wikimedia.org/wiki/File:PMZ_FI-24102-0005.jpg | K67: https://commons.wikimedia.org/wiki/File:FI-24102-0005.jpg
C68: FI-24102-0006 | D68: ='Évolution ZAPM'!AG69 -> 410 | E68: Oui | F68: Oui | G68: Oui | H68: Non | I68: Oui | J68: https://commons.wikimedia.org/wiki/File:PMZ_FI-24102-0006.jpg | K68: https://commons.wikimedia.org/wiki/File:FI-24102-0006.jpg
C69: FI-24102-0007 | D69: ='Évolution ZAPM'!AG70 -> 390 | E69: Oui | F69: Oui | G69: Oui | H69: Oui | I69: Oui | J69: https://commons.wikimedia.org/wiki/File:PMZ_FI-24102-0007.jpg | K69: https://commons.wikimedia.org/wiki/File:FI-24102-0007.jpg
C70: FI-24102-0008 | D70: ='Évolution ZAPM'!AG71 -> 349 | E70: Oui | F70: Oui | G70: Oui | H70: Non | I70: Oui | J70: https://commons.wikimedia.org/wiki/File:PMZ_FI-24102-0008.jpg | K70: https://commons.wikimedia.org/wiki/File:FI-24102-0008.jpg
A71: La Chapelle-Gonaguet | B71: 24108 | C71: FI-24108-0000 | D71: ='Évolution ZAPM'!AG72 -> 631 | E71: Oui | F71: Non | G71: Non | H71: Non | I71: Oui | J71: https://commons.wikimedia.org/wiki/File:PMZ_FI-24108-0000.jpg | K71: https://commons.wikimedia.org/wiki/File:FI-24108-0000.jpg | L71: Taille 40U
A72: Château-l'Évêque | B72: 24115 | C72: FI-24115-0000 | D72: ='Évolution ZAPM'!AG73 -> 445 | E72: Oui | F72: Oui | G72: Non | H72: Non | I72: Oui | J72: https://commons.wikimedia.org/wiki/File:PMZ_FI-24115-0000.jpg | K72: https://commons.wikimedia.org/wiki/File:FI-24115-0000.jpg
C73: FI-24115-0001 | D73: ='Évolution ZAPM'!AG74 -> 458 | E73: Oui | F73: Oui | G73: Non | H73: Non | I73: Oui | J73: https://commons.wikimedia.org/wiki/File:PMZ_FI-24115-0001.jpg | K73: https://commons.wikimedia.org/wiki/File:FI-24115-0001.jpg
C74: FI-24115-0002 | D74: ='Évolution ZAPM'!AG75 -> 441 | E74: Oui | F74: Oui | G74: Non | H74: Non | I74: Oui | J74: https://commons.wikimedia.org/wiki/File:PMZ_FI-24115-0002.jpg | K74: https://commons.wikimedia.org/wiki/File:FI-24115-0002.jpg
A75: Coulounieix-Chamiers | B75: 24138 | C75: FI-24138-0000 | D75: ='Évolution ZAPM'!AG76 -> 331 | E75: Oui | F75: Oui | G75: Oui | H75: Non | I75: Oui | J75: https://commons.wikimedia.org/wiki/File:PMZ_FI-24138-0000.jpg | K75: https://commons.wikimedia.org/wiki/File:FI-24138-0000.jpg
C76: FI-24138-0001 | D76: ='Évolution ZAPM'!AG77 -> 502 | E76: Oui | F76: Oui | G76: Oui | H76: Non | I76: Oui | J76: https://commons.wikimedia.org/wiki/File:PMZ_FI-24138-0001.jpg | K76: https://commons.wikimedia.org/wiki/File:FI-24138-0001.jpg
C77: FI-24138-0002 | D77: ='Évolution ZAPM'!AG78 -> 343 | E77: Oui | F77: Oui | G77: Oui | H77: Non | I77: Oui | J77: https://commons.wikimedia.org/wiki/File:PMZ_FI-24138-0002.jpg | K77: https://commons.wikimedia.org/wiki/File:FI-24138-0002.jpg
C78: FI-24138-0003 | D78: ='Évolution ZAPM'!AG79 -> 443 | E78: Oui | F78: Oui | G78: Oui | H78: Non | I78: Oui | J78: https://commons.wikimedia.org/wiki/File:PMZ_FI-24138-0003.jpg | K78: https://commons.wikimedia.org/wiki/File:FI-24138-0003.jpg
...

Sheet Évolution ZAPM
A1: Commune | B1: ID ARCEP | C1: T4 2017 | F1: T1 2018 | I1: T2 2018 | L1: T3 2018 | O1: T4 2018 | R1: T1 2019 | U1: T2 2019 | X1: T3 2019 | AA1: T4 2019 | AD1: T1 2020 | AG1: T2 2020
C2: EL total | D2: Eligibles | E2: % | F2: EL total | G2: Eligibles | H2: % | I2: EL total | J2: Eligibles | K2: % | L2: EL total | M2: Eligibles | N2: % | O2: EL total | P2: Eligibles | Q2: % | R2: EL total | S2: Eligibles | T2: % | U2: EL total | V2: Eligibles | W2: % | X2: EL total | Y2: Eligibles | Z2: % | AA2: EL total | AB2: Eligibles | AC2: % | AD2: EL total | AE2: Eligibles | AF2: % | AG2: EL total | AH2: Eligibles | AI2: %
A3: Antonne-et-Trigonant | B3: FI-24011-0003 | AD3: 384 | AE3: 0 | AF3: =AE3/AD3 -> 0 | AG3: 387 | AH3: 0 | AI3: =AH3/AG3 -> 0
A4: Escoire | B4: FI-24011-0004 | AD4: 539 | AE4: 0 | AF4: =AE4/AD4 -> 0 | AG4: 538 | AH4: 0 | AI4: =AH4/AG4 -> 0
A5: Bergerac | B5: FI-24037-0001 | C5: 352 | D5: 225 | E5: =D5/C5 -> 0.63920455 | F5: 352 | G5: 225 | H5: =G5/F5 -> 0.63920455 | I5: 352 | J5: 225 | K5: =J5/I5 -> 0.63920455 | L5: 352 | M5: 243 | N5: =M5/L5 -> 0.69034091 | O5: 353 | P5: 243 | Q5: =P5/O5 -> 0.68838527 | R5: 358 | S5: 285 | T5: =S5/R5 -> 0.79608939 | U5: 358 | V5: 285 | W5: =V5/U5 -> 0.79608939 | X5: 358 | Y5: 285 | Z5: =Y5/X5 -> 0.79608939 | AA5: 358 | AB5: 285 | AC5: =AB5/AA5 -> 0.79608939 | AD5: 359 | AE5: 285 | AF5: =AE5/AD5 -> 0.79387187 | AG5: 386 | AH5: 309 | AI5: =AH5/AG5 -> 0.80051813
B6: FI-24037-0002 | C6: 339 | D6: 0 | E6: =D6/C6 -> 0 | F6: 331 | G6: 0 | H6: =G6/F6 -> 0 | I6: 418 | J6: 89 | K6: =J6/I6 -> 0.21291866 | L6: 417 | M6: 89 | N6: =M6/L6 -> 0.21342926 | O6: 336 | P6: 89 | Q6: =P6/O6 -> 0.26488095 | R6: 336 | S6: 119 | T6: =S6/R6 -> 0.35416667 | U6: 335 | V6: 167 | W6: =V6/U6 -> 0.49850746 | X6: 335 | Y6: 167 | Z6: =Y6/X6 -> 0.49850746 | AA6: 334 | AB6: 167 | AC6: =AB6/AA6 -> 0.5 | AD6: 337 | AE6: 167 | AF6: =AE6/AD6 -> 0.49554896 | AG6: 340 | AH6: 216 | AI6: =AH6/AG6 -> 0.63529412
B7: FI-24037-0003 | I7: 282 | J7: 75 | K7: =J7/I7 -> 0.26595745 | L7: 282 | M7: 75 | N7: =M7/L7 -> 0.26595745 | O7: 282 | P7: 75 | Q7: =P7/O7 -> 0.26595745 | R7: 282 | S7: 80 | T7: =S7/R7 -> 0.28368794 | U7: 283 | V7: 80 | W7: =V7/U7 -> 0.28268551 | X7: 283 | Y7: 80 | Z7: =Y7/X7 -> 0.28268551 | AA7: 283 | AB7: 131 | AC7: =AB7/AA7 -> 0.46289753 | AD7: 283 | AE7: 136 | AF7: =AE7/AD7 -> 0.48056537 | AG7: 283 | AH7: 136 | AI7: =AH7/AG7 -> 0.48056537
B8: FI-24037-0004 | C8: 346 | D8: 0 | E8: =D8/C8 -> 0 | F8: 364 | G8: 0 | H8: =G8/F8 -> 0 | I8: 373 | J8: 95 | K8: =J8/I8 -> 0.25469169 | L8: 373 | M8: 95 | N8: =M8/L8 -> 0.25469169 | O8: 373 | P8: 95 | Q8: =P8/O8 -> 0.25469169 | R8: 373 | S8: 120 | T8: =S8/R8 -> 0.32171582 | U8: 384 | V8: 120 | W8: =V8/U8 -> 0.3125 | X8: 383 | Y8: 120 | Z8: =Y8/X8 -> 0.31331593 | AA8: 383 | AB8: 120 | AC8: =AB8/AA8 -> 0.31331593 | AD8: 376 | AE8: 126 | AF8: =AE8/AD8 -> 0.33510638 | AG8: 378 | AH8: 126 | AI8: =AH8/AG8 -> 0.33333333
B9: FI-24037-0005 | I9: 421 | J9: 30 | K9: =J9/I9 -> 0.071258907 | L9: 421 | M9: 33 | N9: =M9/L9 -> 0.078384798 | O9: 406 | P9: 33 | Q9: =P9/O9 -> 0.081280788 | R9: 407 | S9: 45 | T9: =S9/R9 -> 0.11056511 | U9: 407 | V9: 45 | W9: =V9/U9 -> 0.11056511 | X9: 407 | Y9: 45 | Z9: =Y9/X9 -> 0.11056511 | AA9: 437 | AB9: 49 | AC9: =AB9/AA9 -> 0.11212815 | AD9: 439 | AE9: 49 | AF9: =AE9/AD9 -> 0.11161731 | AG9: 444 | AH9: 49 | AI9: =AH9/AG9 -> 0.11036036
B10: FI-24037-0006 | C10: 332 | D10: 46 | E10: =D10/C10 -> 0.13855422 | F10: 332 | G10: 46 | H10: =G10/F10 -> 0.13855422 | I10: 338 | J10: 46 | K10: =J10/I10 -> 0.13609467 | L10: 338 | M10: 48 | N10: =M10/L10 -> 0.14201183 | O10: 329 | P10: 48 | Q10: =P10/O10 -> 0.14589666 | R10: 329 | S10: 48 | T10: =S10/R10 -> 0.14589666 | U10: 329 | V10: 54 | W10: =V10/U10 -> 0.16413374 | X10: 329 | Y10: 83 | Z10: =Y10/X10 -> 0.25227964 | AA10: 365 | AB10: 84 | AC10: =AB10/AA10 -> 0.23013699 | AD10: 374 | AE10: 98 | AF10: =AE10/AD10 -> 0.26203209 | AG10: 376 | AH10: 98 | AI10: =AH10/AG10 -> 0.2606383
B11: FI-24037-0007 | C11: 345 | D11: 159 | E11: =D11/C11 -> 0.46086957 | F11: 341 | G11: 215 | H11: =G11/F11 -> 0.63049853 | I11: 410 | J11: 215 | K11: =J11/I11 -> 0.52439024 | L11: 397 | M11: 235 | N11: =M11/L11 -> 0.59193955 | O11: 382 | P11: 305 | Q11: =P11/O11 -> 0.79842932 | R11: 412 | S11: 305 | T11: =S11/R11 -> 0.74029126 | U11: 381 | V11: 305 | W11: =V11/U11 -> 0.80052493 | X11: 381 | Y11: 305 | Z11: =Y11/X11 -> 0.80052493 | AA11: 381 | AB11: 305 | AC11: =AB11/AA11 -> 0.80052493 | AD11: 343 | AE11: 305 | AF11: =AE11/AD11 -> 0.88921283 | AG11: 421 | AH11: 305 | AI11: =AH11/AG11 -> 0.72446556
B12: FI-24037-0008 | C12: 365 | D12: 146 | E12: =D12/C12 -> 0.4 | F12: 378 | G12: 167 | H12: =G12/F12 -> 0.44179894 | I12: 379 | J12: 196 | K12: =J12/I12 -> 0.5171504 | L12: 379 | M12: 216 | N12: =M12/L12 -> 0.56992084 | O12: 378 | P12: 254 | Q12: =P12/O12 -> 0.67195767 | R12: 378 | S12: 254 | T12: =S12/R12 -> 0.67195767 | U12: 378 | V12: 254 | W12: =V12/U12 -> 0.67195767 | X12: 378 | Y12: 254 | Z12: =Y12/X12 -> 0.67195767 | AA12: 378 | AB12: 254 | AC12: =AB12/AA12 -> 0.67195767 | AD12: 378 | AE12: 254 | AF12: =AE12/AD12 -> 0.67195767 | AG12: 383 | AH12: 278 | AI12: =AH12/AG12 -> 0.72584856
B13: FI-24037-0009 | C13: 506 | D13: 214 | E13: =D13/C13 -> 0.4229249 | F13: 478 | G13: 221 | H13: =G13/F13 -> 0.4623431 | I13: 478 | J13: 244 | K13: =J13/I13 -> 0.51046025 | L13: 475 | M13: 280 | N13: =M13/L13 -> 0.58947368 | O13: 475 | P13: 280 | Q13: =P13/O13 -> 0.58947368 | R13: 475 | S13: 280 | T13: =S13/R13 -> 0.58947368 | U13: 451 | V13: 280 | W13: =V13/U13 -> 0.62084257 | X13: 455 | Y13: 280 | Z13: =Y13/X13 -> 0.61538462 | AA13: 457 | AB13: 280 | AC13: =AB13/AA13 -> 0.61269147 | AD13: 452 | AE13: 287 | AF13: =AE13/AD13 -> 0.63495575 | AG13: 480 | AH13: 287 | AI13: =AH13/AG13 -> 0.59791667
B14: FI-24037-000A | C14: 334 | D14: 116 | E14: =D14/C14 -> 0.34730539 | F14: 334 | G14: 122 | H14: =G14/F14 -> 0.36526946 | I14: 334 | J14: 191 | K14: =J14/I14 -> 0.57185629 | L14: 334 | M14: 191 | N14: =M14/L14 -> 0.57185629 | O14: 333 | P14: 191 | Q14: =P14/O14 -> 0.57357357 | R14: 333 | S14: 200 | T14: =S14/R14 -> 0.6006006 | U14: 333 | V14: 200 | W14: =V14/U14 -> 0.6006006 | X14: 333 | Y14: 200 | Z14: =Y14/X14 -> 0.6006006 | AA14: 333 | AB14: 200 | AC14: =AB14/AA14 -> 0.6006006 | AD14: 333 | AE14: 200 | AF14: =AE14/AD14 -> 0.6006006 | AG14: 375 | AH14: 200 | AI14: =AH14/AG14 -> 0.53333333
B15: FI-24037-000B | C15: 318 | D15: 272 | E15: =D15/C15 -> 0.85534591 | F15: 318 | G15: 272 | H15: =G15/F15 -> 0.85534591 | I15: 409 | J15: 272 | K15: =J15/I15 -> 0.66503667 | L15: 409 | M15: 272 | N15: =M15/L15 -> 0.66503667 | O15: 409 | P15: 272 | Q15: =P15/O15 -> 0.66503667 | R15: 409 | S15: 272 | T15: =S15/R15 -> 0.66503667 | U15: 409 | V15: 272 | W15: =V15/U15 -> 0.66503667 | X15: 409 | Y15: 272 | Z15: =Y15/X15 -> 0.66503667 | AA15: 409 | AB15: 272 | AC15: =AB15/AA15 -> 0.66503667 | AD15: 409 | AE15: 272 | AF15: =AE15/AD15 -> 0.66503667 | AG15: 408 | AH15: 272 | AI15: =AH15/AG15 -> 0.66666667
B16: FI-24037-000C | C16: 312 | D16: 207 | E16: =D16/C16 -> 0.66346154 | F16: 312 | G16: 207 | H16: =G16/F16 -> 0.66346154 | I16: 312 | J16: 207 | K16: =J16/I16 -> 0.66346154 | L16: 312 | M16: 207 | N16: =M16/L16 -> 0.66346154 | O16: 309 | P16: 207 | Q16: =P16/O16 -> 0.66990291 | R16: 309 | S16: 207 | T16: =S16/R16 -> 0.66990291 | U16: 309 | V16: 217 | W16: =V16/U16 -> 0.70226537 | X16: 310 | Y16: 217 | Z16: =Y16/X16 -> 0.7 | AA16: 310 | AB16: 217 | AC16: =AB16/AA16 -> 0.7 | AD16: 310 | AE16: 217 | AF16: =AE16/AD16 -> 0.7 | AG16: 318 | AH16: 219 | AI16: =AH16/AG16 -> 0.68867925
B17: FI-24037-000D | C17: 303 | D17: 241 | E17: =D17/C17 -> 0.79537954 | F17: 313 | G17: 242 | H17: =G17/F17 -> 0.77316294 | I17: 313 | J17: 242 | K17: =J17/I17 -> 0.77316294 | L17: 317 | M17: 263 | N17: =M17/L17 -> 0.829653 | O17: 317 | P17: 263 | Q17: =P17/O17 -> 0.829653 | R17: 321 | S17: 264 | T17: =S17/R17 -> 0.82242991 | U17: 321 | V17: 264 | W17: =V17/U17 -> 0.82242991 | X17: 321 | Y17: 265 | Z17: =Y17/X17 -> 0.82554517 | AA17: 352 | AB17: 265 | AC17: =AB17/AA17 -> 0.75284091 | AD17: 442 | AE17: 265 | AF17: =AE17/AD17 -> 0.59954751 | AG17: 443 | AH17: 261 | AI17: =AH17/AG17 -> 0.58916479
B18: FI-24037-000E | C18: 309 | D18: 299 | E18: =D18/C18 -> 0.96763754 | F18: 309 | G18: 299 | H18: =G18/F18 -> 0.96763754 | I18: 309 | J18: 299 | K18: =J18/I18 -> 0.96763754 | L18: 309 | M18: 299 | N18: =M18/L18 -> 0.96763754 | O18: 333 | P18: 299 | Q18: =P18/O18 -> 0.8978979 | R18: 333 | S18: 299 | T18: =S18/R18 -> 0.8978979 | U18: 333 | V18: 299 | W18: =V18/U18 -> 0.8978979 | X18: 333 | Y18: 299 | Z18: =Y18/X18 -> 0.8978979 | AA18: 333 | AB18: 299 | AC18: =AB18/AA18 -> 0.8978979 | AD18: 333 | AE18: 299 | AF18: =AE18/AD18 -> 0.8978979 | AG18: 333 | AH18: 299 | AI18: =AH18/AG18 -> 0.8978979
B19: FI-24037-000F | C19: 303 | D19: 0 | E19: =D19/C19 -> 0 | F19: 303 | G19: 0 | H19: =G19/F19 -> 0 | I19: 306 | J19: 116 | K19: =J19/I19 -> 0.37908497 | L19: 306 | M19: 116 | N19: =M19/L19 -> 0.37908497 | O19: 306 | P19: 116 | Q19: =P19/O19 -> 0.37908497 | R19: 306 | S19: 116 | T19: =S19/R19 -> 0.37908497 | U19: 306 | V19: 127 | W19: =V19/U19 -> 0.41503268 | X19: 307 | Y19: 127 | Z19: =Y19/X19 -> 0.41368078 | AA19: 307 | AB19: 127 | AC19: =AB19/AA19 -> 0.41368078 | AD19: 307 | AE19: 127 | AF19: =AE19/AD19 -> 0.41368078 | AG19: 308 | AH19: 128 | AI19: =AH19/AG19 -> 0.41558442
B20: FI-24037-000G | F20: 300 | G20: 0 | H20: =G20/F20 -> 0 | I20: 300 | J20: 0 | K20: =J20/I20 -> 0 | L20: 300 | M20: 0 | N20: =M20/L20 -> 0 | O20: 299 | P20: 0 | Q20: =P20/O20 -> 0 | R20: 299 | S20: 0 | T20: =S20/R20 -> 0 | U20: 332 | V20: 0 | W20: =V20/U20 -> 0 | X20: 331 | Y20: 45 | Z20: =Y20/X20 -> 0.13595166 | AA20: 331 | AB20: 45 | AC20: =AB20/AA20 -> 0.13595166 | AD20: 331 | AE20: 45 | AF20: =AE20/AD20 -> 0.13595166 | AG20: 331 | AH20: 97 | AI20: =AH20/AG20 -> 0.29305136
B21: FI-24037-000H | C21: 374 | D21: 197 | E21: =D21/C21 -> 0.52673797 | F21: 380 | G21: 235 | H21: =G21/F21 -> 0.61842105 | I21: 380 | J21: 235 | K21: =J21/I21 -> 0.61842105 | L21: 380 | M21: 254 | N21: =M21/L21 -> 0.66842105 | O21: 388 | P21: 254 | Q21: =P21/O21 -> 0.65463918 | R21: 387 | S21: 254 | T21: =S21/R21 -> 0.65633075 | U21: 387 | V21: 254 | W21: =V21/U21 -> 0.65633075 | X21: 392 | Y21: 254 | Z21: =Y21/X21 -> 0.64795918 | AA21: 391 | AB21: 254 | AC21: =AB21/AA21 -> 0.64961637 | AD21: 398 | AE21: 254 | AF21: =AE21/AD21 -> 0.63819095 | AG21: 403 | AH21: 254 | AI21: =AH21/AG21 -> 0.63027295
B22: FI-24037-000I | C22: 447 | D22: 140 | E22: =D22/C22 -> 0.31319911 | F22: 447 | G22: 144 | H22: =G22/F22 -> 0.32214765 | I22: 451 | J22: 144 | K22: =J22/I22 -> 0.31929047 | L22: 450 | M22: 160 | N22: =M22/L22 -> 0.35555556 | O22: 462 | P22: 175 | Q22: =P22/O22 -> 0.37878788 | R22: 462 | S22: 175 | T22: =S22/R22 -> 0.37878788 | U22: 464 | V22: 175 | W22: =V22/U22 -> 0.37715517 | X22: 464 | Y22: 175 | Z22: =Y22/X22 -> 0.37715517 | AA22: 495 | AB22: 187 | AC22: =AB22/AA22 -> 0.37777778 | AD22: 501 | AE22: 187 | AF22: =AE22/AD22 -> 0.37325349 | AG22: 504 | AH22: 196 | AI22: =AH22/AG22 -> 0.38888889
B23: FI-24037-000K | AD23: 318 | AE23: 218 | AF23: =AE23/AD23 -> 0.68553459 | AG23: 336 | AH23: 222 | AI23: =AH23/AG23 -> 0.66071429
B24: FI-24037-000L | AD24: 416 | AE24: 0 | AF24: =AE24/AD24 -> 0 | AG24: 419 | AH24: 111 | AI24: =AH24/AG24 -> 0.26491647
B25: FI-24037-000M | L25: 323 | M25: 0 | N25: =M25/L25 -> 0 | O25: 323 | P25: 0 | Q25: =P25/O25 -> 0 | R25: 388 | S25: 107 | T25: =S25/R25 -> 0.2757732 | U25: 395 | V25: 107 | W25: =V25/U25 -> 0.27088608 | X25: 395 | Y25: 161 | Z25: =Y25/X25 -> 0.40759494 | AA25: 394 | AB25: 198 | AC25: =AB25/AA25 -> 0.50253807 | AD25: 394 | AE25: 204 | AF25: =AE25/AD25 -> 0.5177665 | AG25: 394 | AH25: 210 | AI25: =AH25/AG25 -> 0.53299492
B26: FI-24037-000N | L26: 327 | M26: 0 | N26: =M26/L26 -> 0 | O26: 357 | P26: 109 | Q26: =P26/O26 -> 0.30532213 | R26: 364 | S26: 133 | T26: =S26/R26 -> 0.36538462 | U26: 370 | V26: 141 | W26: =V26/U26 -> 0.38108108 | X26: 371 | Y26: 141 | Z26: =Y26/X26 -> 0.38005391 | AA26: 371 | AB26: 141 | AC26: =AB26/AA26 -> 0.38005391 | AD26: 360 | AE26: 142 | AF26: =AE26/AD26 -> 0.39444444 | AG26: 359 | AH26: 142 | AI26: =AH26/AG26 -> 0.39554318
B27: FI-24037-000O | L27: 378 | M27: 0 | N27: =M27/L27 -> 0 | O27: 378 | P27: 90 | Q27: =P27/O27 -> 0.23809524 | R27: 379 | S27: 106 | T27: =S27/R27 -> 0.27968338 | U27: 379 | V27: 106 | W27: =V27/U27 -> 0.27968338 | X27: 378 | Y27: 106 | Z27: =Y27/X27 -> 0.28042328 | AA27: 378 | AB27: 106 | AC27: =AB27/AA27 -> 0.28042328 | AD27: 378 | AE27: 106 | AF27: =AE27/AD27 -> 0.28042328 | AG27: 377 | AH27: 103 | AI27: =AH27/AG27 -> 0.27320955
B28: FI-24037-000P | L28: 330 | M28: 0 | N28: =M28/L28 -> 0 | O28: 333 | P28: 132 | Q28: =P28/O28 -> 0.3963964 | R28: 331 | S28: 132 | T28: =S28/R28 -> 0.39879154 | U28: 331 | V28: 132 | W28: =V28/U28 -> 0.39879154 | X28: 328 | Y28: 132 | Z28: =Y28/X28 -> 0.40243902 | AA28: 328 | AB28: 132 | AC28: =AB28/AA28 -> 0.40243902 | AD28: 339 | AE28: 132 | AF28: =AE28/AD28 -> 0.38938053 | AG28: 340 | AH28: 132 | AI28: =AH28/AG28 -> 0.38823529
B29: FI-24037-000Q | U29: 223 | V29: 0 | W29: =V29/U29 -> 0 | X29: 223 | Y29: 0 | Z29: =Y29/X29 -> 0 | AA29: 390 | AB29: 76 | AC29: =AB29/AA29 -> 0.19487179 | AD29: 395 | AE29: 76 | AF29: =AE29/AD29 -> 0.19240506 | AG29: 396 | AH29: 172 | AI29: =AH29/AG29 -> 0.43434343
B30: FI-24037-000R | O30: 512 | P30: 54 | Q30: =P30/O30 -> 0.10546875 | R30: 424 | S30: 168 | T30: =S30/R30 -> 0.39622642 | U30: 425 | V30: 169 | W30: =V30/U30 -> 0.39764706 | X30: 481 | Y30: 169 | Z30: =Y30/X30 -> 0.35135135 | AA30: 656 | AB30: 169 | AC30: =AB30/AA30 -> 0.25762195 | AD30: 613 | AE30: 169 | AF30: =AE30/AD30 -> 0.27569331 | AG30: 613 | AH30: 169 | AI30: =AH30/AG30 -> 0.27569331
B31: FI-24037-000S | O31: 272 | P31: 0 | Q31: =P31/O31 -> 0 | R31: 357 | S31: 72 | T31: =S31/R31 -> 0.20168067 | U31: 357 | V31: 72 | W31: =V31/U31 -> 0.20168067 | X31: 359 | Y31: 72 | Z31: =Y31/X31 -> 0.2005571 | AA31: 359 | AB31: 131 | AC31: =AB31/AA31 -> 0.36490251 | AD31: 359 | AE31: 132 | AF31: =AE31/AD31 -> 0.36768802 | AG31: 363 | AH31: 132 | AI31: =AH31/AG31 -> 0.36363636
B32: FI-24037-000T | O32: 333 | P32: 0 | Q32: =P32/O32 -> 0 | R32: 515 | S32: 0 | T32: =S32/R32 -> 0 | U32: 523 | V32: 26 | W32: =V32/U32 -> 0.049713193 | X32: 517 | Y32: 26 | Z32: =Y32/X32 -> 0.050290135 | AA32: 511 | AB32: 89 | AC32: =AB32/AA32 -> 0.1741683 | AD32: 510 | AE32: 89 | AF32: =AE32/AD32 -> 0.1745098 | AG32: 510 | AH32: 89 | AI32: =AH32/AG32 -> 0.1745098
B33: FI-24037-000U | O33: 301 | P33: 0 | Q33: =P33/O33 -> 0 | R33: 338 | S33: 0 | T33: =S33/R33 -> 0 | U33: 355 | V33: 0 | W33: =V33/U33 -> 0 | X33: 356 | Y33: 52 | Z33: =Y33/X33 -> 0.14606742 | AA33: 355 | AB33: 114 | AC33: =AB33/AA33 -> 0.32112676 | AD33: 355 | AE33: 114 | AF33: =AE33/AD33 -> 0.32112676 | AG33: 373 | AH33: 136 | AI33: =AH33/AG33 -> 0.36461126
B34: FI-24037-000V | O34: 392 | P34: 0 | Q34: =P34/O34 -> 0 | R34: 416 | S34: 0 | T34: =S34/R34 -> 0 | U34: 416 | V34: 36 | W34: =V34/U34 -> 0.086538462 | X34: 413 | Y34: 56 | Z34: =Y34/X34 -> 0.13559322 | AA34: 413 | AB34: 97 | AC34: =AB34/AA34 -> 0.23486683 | AD34: 386 | AE34: 97 | AF34: =AE34/AD34 -> 0.25129534 | AG34: 446 | AH34: 97 | AI34: =AH34/AG34 -> 0.21748879
B35: FI-24037-000W | O35: 381 | P35: 0 | Q35: =P35/O35 -> 0 | R35: 364 | S35: 0 | T35: =S35/R35 -> 0 | U35: 400 | V35: 0 | W35: =V35/U35 -> 0 | X35: 401 | Y35: 38 | Z35: =Y35/X35 -> 0.094763092 | AA35: 436 | AB35: 38 | AC35: =AB35/AA35 -> 0.087155963 | AD35: 436 | AE35: 38 | AF35: =AE35/AD35 -> 0.087155963 | AG35: 397 | AH35: 46 | AI35: =AH35/AG35 -> 0.11586902
B36: FI-24037-000X | AD36: 421 | AE36: 70 | AF36: =AE36/AD36 -> 0.16627078 | AG36: 423 | AH36: 157 | AI36: =AH36/AG36 -> 0.37115839
B37: FI-24037-000Y | AA37: 316 | AB37: 73 | AC37: =AB37/AA37 -> 0.23101266 | AD37: 304 | AE37: 136 | AF37: =AE37/AD37 -> 0.44736842 | AG37: 296 | AH37: 194 | AI37: =AH37/AG37 -> 0.65540541
B38: FI-24037-000Z | AA38: 306 | AB38: 5 | AC38: =AB38/AA38 -> 0.016339869 | AD38: 306 | AE38: 15 | AF38: =AE38/AD38 -> 0.049019608 | AG38: 306 | AH38: 15 | AI38: =AH38/AG38 -> 0.049019608
B39: FI-24037-0010 | AA39: 361 | AB39: 114 | AC39: =AB39/AA39 -> 0.31578947 | AD39: 360 | AE39: 171 | AF39: =AE39/AD39 -> 0.475 | AG39: 375 | AH39: 194 | AI39: =AH39/AG39 -> 0.51733333
B40: FI-24037-0011 | AD40: 394 | AE40: 116 | AF40: =AE40/AD40 -> 0.29441624 | AG40: 395 | AH40: 121 | AI40: =AH40/AG40 -> 0.30632911
...

Sheet Périgueux

Sheet Bergerac

Sheet Coulounieix-Chamiers

Sheet Trélissac_Antonne_Escoire

Sheet Chancelade

Sheet Marsac_Razac

Sheet Sanilhac_Coursac

Sheet Champcevinel_Château-l'Évêque

Sheet Feuil3
C1: 2018 | D1: 2018.25 | E1: 2018.5 | F1: 2018.75 | G1: 2019 | H1: 2019.25 | I1: 2019.5 | J1: 2019.75 | K1: 2020 | L1: 2020.25 | M1: 2020.5
A2: Antonne-et-Trigonant | B2: FI-24011-0003 | M2: ='Évolution ZAPM'!AH3/'État PMZ'!D2 -> 0
A3: Escoire | B3: FI-24011-0004 | M3: ='Évolution ZAPM'!AH4/'État PMZ'!D3 -> 0
A4: Bergerac | B4: FI-24037-0001 | C4: ='Évolution ZAPM'!D5/'État PMZ'!D4 -> 0.58290155 | D4: ='Évolution ZAPM'!G5/'État PMZ'!D4 -> 0.58290155 | E4: ='Évolution ZAPM'!J5/'État PMZ'!D4 -> 0.58290155 | F4: ='Évolution ZAPM'!M5/'État PMZ'!D4 -> 0.62953368 | G4: ='Évolution ZAPM'!P5/'État PMZ'!D4 -> 0.62953368 | H4: ='Évolution ZAPM'!S5/'État PMZ'!D4 -> 0.73834197 | I4: ='Évolution ZAPM'!V5/'État PMZ'!D4 -> 0.73834197 | J4: ='Évolution ZAPM'!Y5/'État PMZ'!D4 -> 0.73834197 | K4: ='Évolution ZAPM'!AB5/'État PMZ'!D4 -> 0.73834197 | L4: ='Évolution ZAPM'!AE5/'État PMZ'!D4 -> 0.73834197 | M4: ='Évolution ZAPM'!AH5/'État PMZ'!D4 -> 0.80051813
B5: FI-24037-0002 | D5: ='Évolution ZAPM'!G6/'État PMZ'!D5 -> 0 | E5: ='Évolution ZAPM'!J6/'État PMZ'!D5 -> 0.26176471 | F5: ='Évolution ZAPM'!M6/'État PMZ'!D5 -> 0.26176471 | G5: ='Évolution ZAPM'!P6/'État PMZ'!D5 -> 0.26176471 | H5: ='Évolution ZAPM'!S6/'État PMZ'!D5 -> 0.35 | I5: ='Évolution ZAPM'!V6/'État PMZ'!D5 -> 0.49117647 | J5: ='Évolution ZAPM'!Y6/'État PMZ'!D5 -> 0.49117647 | K5: ='Évolution ZAPM'!AB6/'État PMZ'!D5 -> 0.49117647 | L5: ='Évolution ZAPM'!AE6/'État PMZ'!D5 -> 0.49117647 | M5: ='Évolution ZAPM'!AH6/'État PMZ'!D5 -> 0.63529412
B6: FI-24037-0003 | D6: ='Évolution ZAPM'!G7/'État PMZ'!D6 -> 0 | E6: ='Évolution ZAPM'!J7/'État PMZ'!D6 -> 0.26501767 | F6: ='Évolution ZAPM'!M7/'État PMZ'!D6 -> 0.26501767 | G6: ='Évolution ZAPM'!P7/'État PMZ'!D6 -> 0.26501767 | H6: ='Évolution ZAPM'!S7/'État PMZ'!D6 -> 0.28268551 | I6: ='Évolution ZAPM'!V7/'État PMZ'!D6 -> 0.28268551 | J6: ='Évolution ZAPM'!Y7/'État PMZ'!D6 -> 0.28268551 | K6: ='Évolution ZAPM'!AB7/'État PMZ'!D6 -> 0.46289753 | L6: ='Évolution ZAPM'!AE7/'État PMZ'!D6 -> 0.48056537 | M6: ='Évolution ZAPM'!AH7/'État PMZ'!D6 -> 0.48056537
B7: FI-24037-0004 | D7: ='Évolution ZAPM'!G8/'État PMZ'!D7 -> 0 | E7: ='Évolution ZAPM'!J8/'État PMZ'!D7 -> 0.25132275 | F7: ='Évolution ZAPM'!M8/'État PMZ'!D7 -> 0.25132275 | G7: ='Évolution ZAPM'!P8/'État PMZ'!D7 -> 0.25132275 | H7: ='Évolution ZAPM'!S8/'État PMZ'!D7 -> 0.31746032 | I7: ='Évolution ZAPM'!V8/'État PMZ'!D7 -> 0.31746032 | J7: ='Évolution ZAPM'!Y8/'État PMZ'!D7 -> 0.31746032 | K7: ='Évolution ZAPM'!AB8/'État PMZ'!D7 -> 0.31746032 | L7: ='Évolution ZAPM'!AE8/'État PMZ'!D7 -> 0.33333333 | M7: ='Évolution ZAPM'!AH8/'État PMZ'!D7 -> 0.33333333
B8: FI-24037-0005 | D8: ='Évolution ZAPM'!G9/'État PMZ'!D8 -> 0 | E8: ='Évolution ZAPM'!J9/'État PMZ'!D8 -> 0.067567568 | F8: ='Évolution ZAPM'!M9/'État PMZ'!D8 -> 0.074324324 | G8: ='Évolution ZAPM'!P9/'État PMZ'!D8 -> 0.074324324 | H8: ='Évolution ZAPM'!S9/'État PMZ'!D8 -> 0.10135135 | I8: ='Évolution ZAPM'!V9/'État PMZ'!D8 -> 0.10135135 | J8: ='Évolution ZAPM'!Y9/'État PMZ'!D8 -> 0.10135135 | K8: ='Évolution ZAPM'!AB9/'État PMZ'!D8 -> 0.11036036 | L8: ='Évolution ZAPM'!AE9/'État PMZ'!D8 -> 0.11036036 | M8: ='Évolution ZAPM'!AH9/'État PMZ'!D8 -> 0.11036036
B9: FI-24037-0006 | C9: ='Évolution ZAPM'!D10/'État PMZ'!D9 -> 0.12234043 | D9: ='Évolution ZAPM'!G10/'État PMZ'!D9 -> 0.12234043 | E9: ='Évolution ZAPM'!J10/'État PMZ'!D9 -> 0.12234043 | F9: ='Évolution ZAPM'!M10/'État PMZ'!D9 -> 0.12765957 | G9: ='Évolution ZAPM'!P10/'État PMZ'!D9 -> 0.12765957 | H9: ='Évolution ZAPM'!S10/'État PMZ'!D9 -> 0.12765957 | I9: ='Évolution ZAPM'!V10/'État PMZ'!D9 -> 0.14361702 | J9: ='Évolution ZAPM'!Y10/'État PMZ'!D9 -> 0.22074468 | K9: ='Évolution ZAPM'!AB10/'État PMZ'!D9 -> 0.22340426 | L9: ='Évolution ZAPM'!AE10/'État PMZ'!D9 -> 0.2606383 | M9: ='Évolution ZAPM'!AH10/'État PMZ'!D9 -> 0.2606383
B10: FI-24037-0007 | C10: ='Évolution ZAPM'!D11/'État PMZ'!D10 -> 0.37767221 | D10: ='Évolution ZAPM'!G11/'État PMZ'!D10 -> 0.51068884 | E10: ='Évolution ZAPM'!J11/'État PMZ'!D10 -> 0.51068884 | F10: ='Évolution ZAPM'!M11/'État PMZ'!D10 -> 0.55819477 | G10: ='Évolution ZAPM'!P11/'État PMZ'!D10 -> 0.72446556 | H10: ='Évolution ZAPM'!S11/'État PMZ'!D10 -> 0.72446556 | I10: ='Évolution ZAPM'!V11/'État PMZ'!D10 -> 0.72446556 | J10: ='Évolution ZAPM'!Y11/'État PMZ'!D10 -> 0.72446556 | K10: ='Évolution ZAPM'!AB11/'État PMZ'!D10 -> 0.72446556 | L10: ='Évolution ZAPM'!AE11/'État PMZ'!D10 -> 0.72446556 | M10: ='Évolution ZAPM'!AH11/'État PMZ'!D10 -> 0.72446556
B11: FI-24037-0008 | C11: ='Évolution ZAPM'!D12/'État PMZ'!D11 -> 0.38120104 | D11: ='Évolution ZAPM'!G12/'État PMZ'!D11 -> 0.43603133 | E11: ='Évolution ZAPM'!J12/'État PMZ'!D11 -> 0.51174935 | F11: ='Évolution ZAPM'!M12/'État PMZ'!D11 -> 0.56396867 | G11: ='Évolution ZAPM'!P12/'État PMZ'!D11 -> 0.66318538 | H11: ='Évolution ZAPM'!S12/'État PMZ'!D11 -> 0.66318538 | I11: ='Évolution ZAPM'!V12/'État PMZ'!D11 -> 0.66318538 | J11: ='Évolution ZAPM'!Y12/'État PMZ'!D11 -> 0.66318538 | K11: ='Évolution ZAPM'!AB12/'État PMZ'!D11 -> 0.66318538 | L11: ='Évolution ZAPM'!AE12/'État PMZ'!D11 -> 0.66318538 | M11: ='Évolution ZAPM'!AH12/'État PMZ'!D11 -> 0.72584856
B12: FI-24037-0009 | C12: ='Évolution ZAPM'!D13/'État PMZ'!D12 -> 0.44583333 | D12: ='Évolution ZAPM'!G13/'État PMZ'!D12 -> 0.46041667 | E12: ='Évolution ZAPM'!J13/'État PMZ'!D12 -> 0.50833333 | F12: ='Évolution ZAPM'!M13/'État PMZ'!D12 -> 0.58333333 | G12: ='Évolution ZAPM'!P13/'État PMZ'!D12 -> 0.58333333 | H12: ='Évolution ZAPM'!S13/'État PMZ'!D12 -> 0.58333333 | I12: ='Évolution ZAPM'!V13/'État PMZ'!D12 -> 0.58333333 | J12: ='Évolution ZAPM'!Y13/'État PMZ'!D12 -> 0.58333333 | K12: ='Évolution ZAPM'!AB13/'État PMZ'!D12 -> 0.58333333 | L12: ='Évolution ZAPM'!AE13/'État PMZ'!D12 -> 0.59791667 | M12: ='Évolution ZAPM'!AH13/'État PMZ'!D12 -> 0.59791667
B13: FI-24037-000A | C13: ='Évolution ZAPM'!D14/'État PMZ'!D13 -> 0.30933333 | D13: ='Évolution ZAPM'!G14/'État PMZ'!D13 -> 0.32533333 | E13: ='Évolution ZAPM'!J14/'État PMZ'!D13 -> 0.50933333 | F13: ='Évolution ZAPM'!M14/'État PMZ'!D13 -> 0.50933333 | G13: ='Évolution ZAPM'!P14/'État PMZ'!D13 -> 0.50933333 | H13: ='Évolution ZAPM'!S14/'État PMZ'!D13 -> 0.53333333 | I13: ='Évolution ZAPM'!V14/'État PMZ'!D13 -> 0.53333333 | J13: ='Évolution ZAPM'!Y14/'État PMZ'!D13 -> 0.53333333 | K13: ='Évolution ZAPM'!AB14/'État PMZ'!D13 -> 0.53333333 | L13: ='Évolution ZAPM'!AE14/'État PMZ'!D13 -> 0.53333333 | M13: ='Évolution ZAPM'!AH14/'État PMZ'!D13 -> 0.53333333
B14: FI-24037-000B | C14: ='Évolution ZAPM'!D15/'État PMZ'!D14 -> 0.66666667 | D14: ='Évolution ZAPM'!G15/'État PMZ'!D14 -> 0.66666667 | E14: ='Évolution ZAPM'!J15/'État PMZ'!D14 -> 0.66666667 | F14: ='Évolution ZAPM'!M15/'État PMZ'!D14 -> 0.66666667 | G14: ='Évolution ZAPM'!P15/'État PMZ'!D14 -> 0.66666667 | H14: ='Évolution ZAPM'!S15/'État PMZ'!D14 -> 0.66666667 | I14: ='Évolution ZAPM'!V15/'État PMZ'!D14 -> 0.66666667 | J14: ='Évolution ZAPM'!Y15/'État PMZ'!D14 -> 0.66666667 | K14: ='Évolution ZAPM'!AB15/'État PMZ'!D14 -> 0.66666667 | L14: ='Évolution ZAPM'!AE15/'État PMZ'!D14 -> 0.66666667 | M14: ='Évolution ZAPM'!AH15/'État PMZ'!D14 -> 0.66666667
B15: FI-24037-000C | C15: ='Évolution ZAPM'!D16/'État PMZ'!D15 -> 0.6509434 | D15: ='Évolution ZAPM'!G16/'État PMZ'!D15 -> 0.6509434 | E15: ='Évolution ZAPM'!J16/'État PMZ'!D15 -> 0.6509434 | F15: ='Évolution ZAPM'!M16/'État PMZ'!D15 -> 0.6509434 | G15: ='Évolution ZAPM'!P16/'État PMZ'!D15 -> 0.6509434 | H15: ='Évolution ZAPM'!S16/'État PMZ'!D15 -> 0.6509434 | I15: ='Évolution ZAPM'!V16/'État PMZ'!D15 -> 0.68238994 | J15: ='Évolution ZAPM'!Y16/'État PMZ'!D15 -> 0.68238994 | K15: ='Évolution ZAPM'!AB16/'État PMZ'!D15 -> 0.68238994 | L15: ='Évolution ZAPM'!AE16/'État PMZ'!D15 -> 0.68238994 | M15: ='Évolution ZAPM'!AH16/'État PMZ'!D15 -> 0.68867925
B16: FI-24037-000D | C16: ='Évolution ZAPM'!D17/'État PMZ'!D16 -> 0.54401806 | D16: ='Évolution ZAPM'!G17/'État PMZ'!D16 -> 0.5462754 | E16: ='Évolution ZAPM'!J17/'État PMZ'!D16 -> 0.5462754 | F16: ='Évolution ZAPM'!M17/'État PMZ'!D16 -> 0.59367946 | G16: ='Évolution ZAPM'!P17/'État PMZ'!D16 -> 0.59367946 | H16: ='Évolution ZAPM'!S17/'État PMZ'!D16 -> 0.59593679 | I16: ='Évolution ZAPM'!V17/'État PMZ'!D16 -> 0.59593679 | J16: ='Évolution ZAPM'!Y17/'État PMZ'!D16 -> 0.59819413 | K16: ='Évolution ZAPM'!AB17/'État PMZ'!D16 -> 0.59819413 | L16: ='Évolution ZAPM'!AE17/'État PMZ'!D16 -> 0.59819413 | M16: ='Évolution ZAPM'!AH17/'État PMZ'!D16 -> 0.58916479
B17: FI-24037-000E | C17: ='Évolution ZAPM'!D18/'État PMZ'!D17 -> 0.8978979 | D17: ='Évolution ZAPM'!G18/'État PMZ'!D17 -> 0.8978979 | E17: ='Évolution ZAPM'!J18/'État PMZ'!D17 -> 0.8978979 | F17: ='Évolution ZAPM'!M18/'État PMZ'!D17 -> 0.8978979 | G17: ='Évolution ZAPM'!P18/'État PMZ'!D17 -> 0.8978979 | H17: ='Évolution ZAPM'!S18/'État PMZ'!D17 -> 0.8978979 | I17: ='Évolution ZAPM'!V18/'État PMZ'!D17 -> 0.8978979 | J17: ='Évolution ZAPM'!Y18/'État PMZ'!D17 -> 0.8978979 | K17: ='Évolution ZAPM'!AB18/'État PMZ'!D17 -> 0.8978979 | L17: ='Évolution ZAPM'!AE18/'État PMZ'!D17 -> 0.8978979 | M17: ='Évolution ZAPM'!AH18/'État PMZ'!D17 -> 0.8978979
B18: FI-24037-000F | D18: ='Évolution ZAPM'!G19/'État PMZ'!D18 -> 0 | E18: ='Évolution ZAPM'!J19/'État PMZ'!D18 -> 0.37662338 | F18: ='Évolution ZAPM'!M19/'État PMZ'!D18 -> 0.37662338 | G18: ='Évolution ZAPM'!P19/'État PMZ'!D18 -> 0.37662338 | H18: ='Évolution ZAPM'!S19/'État PMZ'!D18 -> 0.37662338 | I18: ='Évolution ZAPM'!V19/'État PMZ'!D18 -> 0.41233766 | J18: ='Évolution ZAPM'!Y19/'État PMZ'!D18 -> 0.41233766 | K18: ='Évolution ZAPM'!AB19/'État PMZ'!D18 -> 0.41233766 | L18: ='Évolution ZAPM'!AE19/'État PMZ'!D18 -> 0.41233766 | M18: ='Évolution ZAPM'!AH19/'État PMZ'!D18 -> 0.41558442
B19: FI-24037-000G | I19: ='Évolution ZAPM'!V20/'État PMZ'!D19 -> 0 | J19: ='Évolution ZAPM'!Y20/'État PMZ'!D19 -> 0.13595166 | K19: ='Évolution ZAPM'!AB20/'État PMZ'!D19 -> 0.13595166 | L19: ='Évolution ZAPM'!AE20/'État PMZ'!D19 -> 0.13595166 | M19: ='Évolution ZAPM'!AH20/'État PMZ'!D19 -> 0.29305136
B20: FI-24037-000H | C20: ='Évolution ZAPM'!D21/'État PMZ'!D20 -> 0.48883375 | D20: ='Évolution ZAPM'!G21/'État PMZ'!D20 -> 0.58312655 | E20: ='Évolution ZAPM'!J21/'État PMZ'!D20 -> 0.58312655 | F20: ='Évolution ZAPM'!M21/'État PMZ'!D20 -> 0.63027295 | G20: ='Évolution ZAPM'!P21/'État PMZ'!D20 -> 0.63027295 | H20: ='Évolution ZAPM'!S21/'État PMZ'!D20 -> 0.63027295 | I20: ='Évolution ZAPM'!V21/'État PMZ'!D20 -> 0.63027295 | J20: ='Évolution ZAPM'!Y21/'État PMZ'!D20 -> 0.63027295 | K20: ='Évolution ZAPM'!AB21/'État PMZ'!D20 -> 0.63027295 | L20: ='Évolution ZAPM'!AE21/'État PMZ'!D20 -> 0.63027295 | M20: ='Évolution ZAPM'!AH21/'État PMZ'!D20 -> 0.63027295
B21: FI-24037-000I | C21: ='Évolution ZAPM'!D22/'État PMZ'!D21 -> 0.27777778 | D21: ='Évolution ZAPM'!G22/'État PMZ'!D21 -> 0.28571429 | E21: ='Évolution ZAPM'!J22/'État PMZ'!D21 -> 0.28571429 | F21: ='Évolution ZAPM'!M22/'État PMZ'!D21 -> 0.31746032 | G21: ='Évolution ZAPM'!P22/'État PMZ'!D21 -> 0.34722222 | H21: ='Évolution ZAPM'!S22/'État PMZ'!D21 -> 0.34722222 | I21: ='Évolution ZAPM'!V22/'État PMZ'!D21 -> 0.34722222 | J21: ='Évolution ZAPM'!Y22/'État PMZ'!D21 -> 0.34722222 | K21: ='Évolution ZAPM'!AB22/'État PMZ'!D21 -> 0.37103175 | L21: ='Évolution ZAPM'!AE22/'État PMZ'!D21 -> 0.37103175 | M21: ='Évolution ZAPM'!AH22/'État PMZ'!D21 -> 0.38888889
B22: FI-24037-000K | K22: ='Évolution ZAPM'!AB23/'État PMZ'!D22 -> 0 | L22: ='Évolution ZAPM'!AE23/'État PMZ'!D22 -> 0.64880952 | M22: ='Évolution ZAPM'!AH23/'État PMZ'!D22 -> 0.66071429
B23: FI-24037-000L | L23: ='Évolution ZAPM'!AE24/'État PMZ'!D23 -> 0 | M23: ='Évolution ZAPM'!AH24/'État PMZ'!D23 -> 0.26491647
B24: FI-24037-000M | G24: ='Évolution ZAPM'!P25/'État PMZ'!D24 -> 0 | H24: ='Évolution ZAPM'!S25/'État PMZ'!D24 -> 0.2715736 | I24: ='Évolution ZAPM'!V25/'État PMZ'!D24 -> 0.2715736 | J24: ='Évolution ZAPM'!Y25/'État PMZ'!D24 -> 0.40862944 | K24: ='Évolution ZAPM'!AB25/'État PMZ'!D24 -> 0.50253807 | L24: ='Évolution ZAPM'!AE25/'État PMZ'!D24 -> 0.5177665 | M24: ='Évolution ZAPM'!AH25/'État PMZ'!D24 -> 0.53299492
B25: FI-24037-000N | F25: ='Évolution ZAPM'!M26/'État PMZ'!D25 -> 0 | G25: ='Évolution ZAPM'!P26/'État PMZ'!D25 -> 0.30362117 | H25: ='Évolution ZAPM'!S26/'État PMZ'!D25 -> 0.37047354 | I25: ='Évolution ZAPM'!V26/'État PMZ'!D25 -> 0.39275766 | J25: ='Évolution ZAPM'!Y26/'État PMZ'!D25 -> 0.39275766 | K25: ='Évolution ZAPM'!AB26/'État PMZ'!D25 -> 0.39275766 | L25: ='Évolution ZAPM'!AE26/'État PMZ'!D25 -> 0.39554318 | M25: ='Évolution ZAPM'!AH26/'État PMZ'!D25 -> 0.39554318
B26: FI-24037-000O | F26: ='Évolution ZAPM'!M27/'État PMZ'!D26 -> 0 | G26: ='Évolution ZAPM'!P27/'État PMZ'!D26 -> 0.23872679 | H26: ='Évolution ZAPM'!S27/'État PMZ'!D26 -> 0.28116711 | I26: ='Évolution ZAPM'!V27/'État PMZ'!D26 -> 0.28116711 | J26: ='Évolution ZAPM'!Y27/'État PMZ'!D26 -> 0.28116711 | K26: ='Évolution ZAPM'!AB27/'État PMZ'!D26 -> 0.28116711 | L26: ='Évolution ZAPM'!AE27/'État PMZ'!D26 -> 0.28116711 | M26: ='Évolution ZAPM'!AH27/'État PMZ'!D26 -> 0.27320955
B27: FI-24037-000P | F27: ='Évolution ZAPM'!M28/'État PMZ'!D27 -> 0 | G27: ='Évolution ZAPM'!P28/'État PMZ'!D27 -> 0.38823529 | H27: ='Évolution ZAPM'!S28/'État PMZ'!D27 -> 0.38823529 | I27: ='Évolution ZAPM'!V28/'État PMZ'!D27 -> 0.38823529 | J27: ='Évolution ZAPM'!Y28/'État PMZ'!D27 -> 0.38823529 | K27: ='Évolution ZAPM'!AB28/'État PMZ'!D27 -> 0.38823529 | L27: ='Évolution ZAPM'!AE28/'État PMZ'!D27 -> 0.38823529 | M27: ='Évolution ZAPM'!AH28/'État PMZ'!D27 -> 0.38823529
B28: FI-24037-000Q | J28: ='Évolution ZAPM'!Y29/'État PMZ'!D28 -> 0 | K28: ='Évolution ZAPM'!AB29/'État PMZ'!D28 -> 0.19191919 | L28: ='Évolution ZAPM'!AE29/'État PMZ'!D28 -> 0.19191919 | M28: ='Évolution ZAPM'!AH29/'État PMZ'!D28 -> 0.43434343
B29: FI-24037-000R | F29: ='Évolution ZAPM'!M30/'État PMZ'!D29 -> 0 | G29: ='Évolution ZAPM'!P30/'État PMZ'!D29 -> 0.088091354 | H29: ='Évolution ZAPM'!S30/'État PMZ'!D29 -> 0.27406199 | I29: ='Évolution ZAPM'!V30/'État PMZ'!D29 -> 0.27569331 | J29: ='Évolution ZAPM'!Y30/'État PMZ'!D29 -> 0.27569331 | K29: ='Évolution ZAPM'!AB30/'État PMZ'!D29 -> 0.27569331 | L29: ='Évolution ZAPM'!AE30/'État PMZ'!D29 -> 0.27569331 | M29: ='Évolution ZAPM'!AH30/'État PMZ'!D29 -> 0.27569331
B30: FI-24037-000S | G30: ='Évolution ZAPM'!P31/'État PMZ'!D30 -> 0 | H30: ='Évolution ZAPM'!S31/'État PMZ'!D30 -> 0.19834711 | I30: ='Évolution ZAPM'!V31/'État PMZ'!D30 -> 0.19834711 | J30: ='Évolution ZAPM'!Y31/'État PMZ'!D30 -> 0.19834711 | K30: ='Évolution ZAPM'!AB31/'État PMZ'!D30 -> 0.36088154 | L30: ='Évolution ZAPM'!AE31/'État PMZ'!D30 -> 0.36363636 | M30: ='Évolution ZAPM'!AH31/'État PMZ'!D30 -> 0.36363636
B31: FI-24037-000T | H31: ='Évolution ZAPM'!S32/'État PMZ'!D31 -> 0 | I31: ='Évolution ZAPM'!V32/'État PMZ'!D31 -> 0.050980392 | J31: ='Évolution ZAPM'!Y32/'État PMZ'!D31 -> 0.050980392 | K31: ='Évolution ZAPM'!AB32/'État PMZ'!D31 -> 0.1745098 | L31: ='Évolution ZAPM'!AE32/'État PMZ'!D31 -> 0.1745098 | M31: ='Évolution ZAPM'!AH32/'État PMZ'!D31 -> 0.1745098
B32: FI-24037-000U | I32: ='Évolution ZAPM'!V33/'État PMZ'!D32 -> 0 | J32: ='Évolution ZAPM'!Y33/'État PMZ'!D32 -> 0.13941019 | K32: ='Évolution ZAPM'!AB33/'État PMZ'!D32 -> 0.30563003 | L32: ='Évolution ZAPM'!AE33/'État PMZ'!D32 -> 0.30563003 | M32: ='Évolution ZAPM'!AH33/'État PMZ'!D32 -> 0.36461126
B33: FI-24037-000V | H33: ='Évolution ZAPM'!S34/'État PMZ'!D33 -> 0 | I33: ='Évolution ZAPM'!V34/'État PMZ'!D33 -> 0.080717489 | J33: ='Évolution ZAPM'!Y34/'État PMZ'!D33 -> 0.12556054 | K33: ='Évolution ZAPM'!AB34/'État PMZ'!D33 -> 0.21748879 | L33: ='Évolution ZAPM'!AE34/'État PMZ'!D33 -> 0.21748879 | M33: ='Évolution ZAPM'!AH34/'État PMZ'!D33 -> 0.21748879
B34: FI-24037-000W | I34: ='Évolution ZAPM'!V35/'État PMZ'!D34 -> 0 | J34: ='Évolution ZAPM'!Y35/'État PMZ'!D34 -> 0.095717884 | K34: ='Évolution ZAPM'!AB35/'État PMZ'!D34 -> 0.095717884 | L34: ='Évolution ZAPM'!AE35/'État PMZ'!D34 -> 0.095717884 | M34: ='Évolution ZAPM'!AH35/'État PMZ'!D34 -> 0.11586902
B35: FI-24037-000X | K35: ='Évolution ZAPM'!AB36/'État PMZ'!D35 -> 0 | L35: ='Évolution ZAPM'!AE36/'État PMZ'!D35 -> 0.16548463 | M35: ='Évolution ZAPM'!AH36/'État PMZ'!D35 -> 0.37115839
B36: FI-24037-000Y | J36: ='Évolution ZAPM'!Y37/'État PMZ'!D36 -> 0 | K36: ='Évolution ZAPM'!AB37/'État PMZ'!D36 -> 0.24662162 | L36: ='Évolution ZAPM'!AE37/'État PMZ'!D36 -> 0.45945946 | M36: ='Évolution ZAPM'!AH37/'État PMZ'!D36 -> 0.65540541
B37: FI-24037-000Z | J37: ='Évolution ZAPM'!Y38/'État PMZ'!D37 -> 0 | K37: ='Évolution ZAPM'!AB38/'État PMZ'!D37 -> 0.016339869 | L37: ='Évolution ZAPM'!AE38/'État PMZ'!D37 -> 0.049019608 | M37: ='Évolution ZAPM'!AH38/'État PMZ'!D37 -> 0.049019608
B38: FI-24037-0010 | J38: ='Évolution ZAPM'!Y39/'État PMZ'!D38 -> 0 | K38: ='Évolution ZAPM'!AB39/'État PMZ'!D38 -> 0.304 | L38: ='Évolution ZAPM'!AE39/'État PMZ'!D38 -> 0.456 | M38: ='Évolution ZAPM'!AH39/'État PMZ'!D38 -> 0.51733333
B39: FI-24037-0011 | K39: ='Évolution ZAPM'!AB40/'État PMZ'!D39 -> 0 | L39: ='Évolution ZAPM'!AE40/'État PMZ'!D39 -> 0.29367089 | M39: ='Évolution ZAPM'!AH40/'État PMZ'!D39 -> 0.30632911
B40: FI-24037-0012 | J40: ='Évolution ZAPM'!Y41/'État PMZ'!D40 -> 0 | K40: ='Évolution ZAPM'!AB41/'État PMZ'!D40 -> 0.32242991 | L40: ='Évolution ZAPM'!AE41/'État PMZ'!D40 -> 0.33878505 | M40: ='Évolution ZAPM'!AH41/'État PMZ'!D40 -> 0.57009346
...
