Workbook

Sheet Feuil1
B2: Code INSEE | C2: 24011 | E2: 24037 | G2: 24098 | I2: 24102 | K2: 24108 | M2: 24115 | O2: 24138 | Q2: 24139 | S2: 24162 | U2: 24256 | W2: 24312 | Y2: 24322 | AA2: 24350 | AC2: 24557
B3: Communes | C3: Antonne-et-Trigonant | E3: Bergerac | G3: Champcevinel | I3: Chancelade | K3: La Chapelle-Gonaguet | M3: Château-l'Évêque | O3: Coulounieix-Chamiers | Q3: Coursac | S3: Escoire | U3: Marsac-sur-l'Isle | W3: Sanilhac | Y3: Périgueux | AA3: Razac-sur-l'Isle | AC3: Trélissac | AE3: Total
B4: Logements | C4: 699 | E4: 20632 | G4: 1634 | I4: 2452 | K4: 519 | M4: 1231 | O4: 5088 | Q4: 1071 | S4: 226 | U4: 1993 | W4: 2254 | Y4: 25473 | AA4: 1340 | AC4: 4590 | AE4: =SUM(C4:AD4) -> 69202
B5: Date | C5: éligibles | D5: % | E5: éligibles | F5: % | G5: éligibles | H5: % | I5: éligibles | J5: % | K5: éligibles | L5: % | M5: éligibles | N5: % | O5: éligibles | P5: % | Q5: éligibles | R5: % | S5: éligibles | T5: % | U5: éligibles | V5: % | W5: éligibles | X5: % | Y5: éligibles | Z5: % | AA5: éligibles | AB5: % | AC5: éligibles | AD5: % | AE5: éligibles | AF5: %
B6: 2016.25 | E6: =$E$4*F6 -> 0 | F6: 0 | Y6: =$Y$4*Z6 -> 0 | Z6: 0 | AC6: =$AC$4*AD6 -> 0 | AD6: 0 | AE6: =SUMIF(C6:AD6,">1") -> 0 | AF6: =AE6/$AE$4 -> 0 | AI6: Sources :
B7: 2016.5 | E7: =$E$4*F7 -> 495.168 | F7: 0.024 | Y7: =$Y$4*Z7 -> 178.311 | Z7: 0.007 | AC7: =$AC$4*AD7 -> 376.38 | AD7: 0.082 | AE7: =SUMIF(C7:AD7,">1") -> 1049.859 | AF7: =AE7/$AE$4 -> 0.015170934
B8: 2016.75 | E8: =$E$4*F8 -> 680.856 | F8: 0.033 | Y8: =$Y$4*Z8 -> 356.622 | Z8: 0.014 | AC8: =$AC$4*AD8 -> 555.39 | AD8: 0.121 | AE8: =SUMIF(C8:AD8,">1") -> 1592.868 | AF8: =AE8/$AE$4 -> 0.023017658 | AI8: Nombre de logements : | AK8: ARCEP
B9: 2017 | E9: =$E$4*F9 -> 1155.392 | F9: 0.056 | Y9: =$Y$4*Z9 -> 764.19 | Z9: 0.03 | AC9: =$AC$4*AD9 -> 839.97 | AD9: 0.183 | AE9: =SUMIF(C9:AD9,">1") -> 2759.552 | AF9: =AE9/$AE$4 -> 0.039876767 | AI9: Pourcentages : | AK9: zoneadsl.com
B10: 2017.25 | E10: =$E$4*F10 -> 1258.552 | F10: 0.061 | Y10: =$Y$4*Z10 -> 1095.339 | Z10: 0.043 | AC10: =$AC$4*AD10 -> 1124.55 | AD10: 0.245 | AE10: =SUMIF(C10:AD10,">1") -> 3478.441 | AF10: =AE10/$AE$4 -> 0.050265036
B11: 2017.5 | E11: =$E$4*F11 -> 1733.088 | F11: 0.084 | Y11: =$Y$4*Z11 -> 1655.745 | Z11: 0.065 | AC11: =$AC$4*AD11 -> 1294.38 | AD11: 0.282 | AE11: =SUMIF(C11:AD11,">1") -> 4683.213 | AF11: =AE11/$AE$4 -> 0.067674533
B12: 2017.75 | E12: 1686 | F12: 0.094 | Y12: 1447 | Z12: 0.068 | AC12: 1181 | AD12: 0.3 | AE12: =SUMIF(C12:AD12,">1") -> 4314 | AF12: =AE12/$AE$4 -> 0.062339239
B13: 2018 | E13: 2262 | F13: 0.126 | Y13: 1973 | Z13: 0.093 | AC13: 1922 | AD13: 0.489 | AE13: =SUMIF(C13:AD13,">1") -> 6157 | AF13: =AE13/$AE$4 -> 0.088971417
B14: 2018.25 | E14: 2395 | F14: 0.133 | Y14: 2412 | Z14: 0.114 | AC14: 2051 | AD14: 0.5223 | AE14: =SUMIF(C14:AD14,">1") -> 6858 | AF14: =AE14/$AE$4 -> 0.099101182
B15: 2018.5 | E15: 2921 | F15: 0.162 | O15: =$O$4*P15 -> 0 | P15: 0 | Y15: 3456 | Z15: 0.162 | AC15: 2141 | AD15: 0.539 | AE15: =SUMIF(C15:AD15,">1") -> 8518 | AF15: =AE15/$AE$4 -> 0.12308893
B16: 2018.75 | E16: 3076 | F16: 0.171 | O16: 142 | P16: 0.032 | Y16: 4311 | Z16: 0.202 | AC16: 2307 | AD16: 0.581 | AE16: =SUMIF(C16:AD16,">1") -> 9836 | AF16: =AE16/$AE$4 -> 0.14213462
B17: 2019 | E17: 3584 | F17: 0.199 | O17: 848 | P17: 0.193 | Y17: 5263 | Z17: 0.247 | AC17: 2331 | AD17: 0.587 | AE17: =SUMIF(C17:AD17,">1") -> 12026 | AF17: =AE17/$AE$4 -> 0.1737811
B18: 2019.25 | E18: 4041 | F18: 0.225 | O18: 1283 | P18: 0.292 | Y18: 5815 | Z18: 0.273 | AC18: 2387 | AD18: 0.601 | AE18: =SUMIF(C18:AD18,">1") -> 13526 | AF18: =AE18/$AE$4 -> 0.19545678
B19: 2019.5 | E19: 4187 | F19: 0.233 | I19: =$I$4*J19 -> 0 | J19: 0 | O19: 1396 | P19: 0.318 | U19: =$U$4*V19 -> 0 | V19: 0 | Y19: 7083 | Z19: 0.332 | AC19: 2450 | AD19: 0.617 | AE19: =SUMIF(C19:AD19,">1") -> 15116 | AF19: =AE19/$AE$4 -> 0.21843299
B20: 2019.75 | E20: 4426 | F20: 0.246 | I20: 227 | J20: 0.102 | O20: 1493 | P20: 0.34 | U20: 506 | V20: 0.289 | Y20: 8201 | Z20: 0.385 | AC20: 2467 | AD20: 0.621 | AE20: =SUMIF(C20:AD20,">1") -> 17320 | AF20: =AE20/$AE$4 -> 0.25028178
B21: 2020 | E21: 6171 | F21: 0.343 | I21: 394 | J21: 0.177 | O21: 1761 | P21: 0.401 | U21: 764 | V21: 0.437 | Y21: 9766 | Z21: 0.458 | AC21: 2493 | AD21: 0.628 | AE21: =SUMIF(C21:AD21,">1") -> 21349 | AF21: =AE21/$AE$4 -> 0.30850264
B22: 2020.25 | E22: 7116 | F22: 0.396 | I22: 399 | J22: 0.179 | O22: 1849 | P22: 0.421 | U22: 908 | V22: 0.519 | Y22: 11240 | Z22: 0.527 | AC22: 2534 | AD22: 0.638 | AE22: =SUMIF(C22:AD22,">1") -> 24046 | AF22: =AE22/$AE$4 -> 0.34747551
B23: 2020.5 | E23: 8451 | F23: 0.47 | I23: 410 | J23: 0.184 | O23: 2023 | P23: 0.461 | U23: 964 | V23: 0.551 | Y23: 12573 | Z23: 0.59 | AC23: 2611 | AD23: 0.657 | AE23: =SUMIF(C23:AD23,">1") -> 27032 | AF23: =AE23/$AE$4 -> 0.39062455
B24: 2020.75
B25: 2021
B26: 2021.25
B27: 2021.5
B28: 2021.75
B29: 2022
B30: 2022.25
B31: 2022.5
B32: 2022.75
B33: 2023

Sheet Feuil2
F44: Total
F45: =Feuil1!AE4 -> 69202
D46: par trimestre | E46: cumul
B47: 2016.25 | C47: hiver | E47: 0
B48: 2016.5 | C48: printemps | D48: =E48-E47 -> 903 | E48: 903
B49: 2016.75 | C49: été | D49: =E49-E48 -> 464 | E49: 1367
B50: 2017 | C50: automne | D50: =E50-E49 -> 997 | E50: 2364
B51: 2017.25 | C51: hiver | D51: =E51-E50 -> 610 | E51: 2974
B52: 2017.5 | C52: printemps | D52: =E52-E51 -> 1026 | E52: 4000
B53: 2017.75 | C53: été | D53: =E53-E52 -> 314 | E53: 4314
B54: 2018 | C54: automne | D54: =E54-E53 -> 1850 | E54: 6164
B55: 2018.25 | C55: hiver | D55: =E55-E54 -> 694 | E55: 6858
B56: 2018.5 | C56: printemps | D56: =E56-E55 -> 1615 | E56: 8473
B57: 2018.75 | C57: été | D57: =E57-E56 -> 1316 | E57: 9789
B58: 2019 | C58: automne | D58: =E58-E57 -> 2186 | E58: 11975
B59: 2019.25 | C59: hiver | D59: =E59-E58 -> 1551 | E59: =1283+5815+2387+4041 -> 13526
B60: 2019.5 | C60: printemps | D60: =E60-E59 -> 1590 | E60: =Feuil1!AE19 -> 15116
B61: 2019.75 | C61: été | D61: =E61-E60 -> 2204 | E61: =Feuil1!AE20 -> 17320
B62: 2020 | C62: automne | D62: =E62-E61 -> 4029 | E62: =Feuil1!AE21 -> 21349
B63: 2020.25 | C63: hiver | D63: =E63-E62 -> 2697 | E63: =Feuil1!AE22 -> 24046
B64: 2020.5 | C64: printemps | D64: =E64-E63 -> 2986 | E64: =Feuil1!AE23 -> 27032
B65: 2020.75 | C65: été
B66: 2021 | C66: automne
B67: 2021.25 | C67: hiver
B68: 2021.5 | C68: printemps
B69: 2021.75 | C69: été
B70: 2022 | C70: automne
B71: 2022.25 | C71: hiver
B72: 2022.5 | C72: printemps
B73: 2022.75 | C73: été
B74: 2023 | C74: automne
