Workbook
Name Segment_AnneeTTrimestre: #N/A

Sheet Sommaire
A1: Tableur de restitution des indicateurs de qualité de service prévus par la décision n°2020-1432
A3: Nom de l'opérateur d'infrastructure
A4: Code opérateur L.33-1 (2 à 5 caractères)
A5: Année mesurée | C5: Ex. format : 2021
A6: Mois/trimestre mesuré | C6: Ex. format : - restitution mensuelle (ex pour avril) : 4 - restitution trimestrielle : T2
A9: Contacts | B9: ROGUET Anne-Lou | C9: 01 40 47 71 43 (Indicateurs communs à tous les accès)
B10: TCHIBOUKDJIAN Victor | C10: 01 40 47 71 77 (Indicateurs spécifiques au marché entreprises)
A12: Retour du tableur | B12: QSfibre@arcep.fr | C12: Le questionnaire renseigné est à retourner au plus tard 30 jours après la fin du mois à cette adresse.
A13: Liens vers les différents onglets
B14: Guide | C14: Si la définition d'un indicateur est différente de celle indiquée dans le guide d'application et rappelée dans l'onglet "Guide", alors il est demandé de préciser et justifier ici les différences.
B15: Maille d'appréciation | C15: Il est demandé ici de lister les références NRO ou PM (en ZTD-PHD) constituant la maille d'appréciation telle que définie dans la décision
B16: Annexe 2-1 | C16: Sont à renseigner dans ces onglets les valeurs nettes (excluant le cas échéant certains cas et délais de gel) et les valeurs brutes (sans exclusion des cas et délais de gel) Pour les annexes 2-1 et 2-2, les valeurs nettes renseignées sont celles servant à déterminer le respect par l'opérateur des seuils réglementaires.
B17: Annexe 2-2
B18: Annexe 3
B19: Annexe 3 - Détail par OC
A20: Code couleur des cellules | C20: Renseigner un nombre entier
C21: Renseigner un pourcentage entre 0 et 100
C22: Renseigner un nombre arrondi à deux décimales
C23: Renseigner une chaine de caractères
C24: Pas de réponse attendue
B26: =_xlfn.IFS( ISBLANK(B3),"Nom de l'OI manquant", ISBLANK(B4),"Code de l'OI manquant", ISBLANK(B5),"Année mesurée manquantes", ISBLANK(B6),"Mois ou trimestre mesuré manquant", COUNTBLANK('Annexe 2-1'!K1:K41)+COUNTBLANK('Annexe 2-2'!K1:K24)+COUNTBLANK('Annexe 3'!I1:I39)+COUNTBLANK('Annexe 3 - Détail par OC'!M1:M40)=41+24+39+40,"", TRUE,"Il reste des erreurs dans le fichier !" ) -> #NAME?

Sheet Guide
B1: Indicateurs | C1: Définition différant du Guide d'Application | D1: Commentaire Opérateur
A2: Annexe 2-1
A3: PRODUCTION
A4: 1 | B4: Taux de signalisations sur les parcs livrés depuis moins d’un mois – responsabilité opérateur d’immeuble | C4: Numérateur :
C5: Dénominateur :
A6: 2 | B6: Taux de non-respect de la date de livraison de l’accès – mode OI | C6: Numérateur :
C7: Dénominateur :
A8: 3 | B8: Taux de commandes qui font l’objet d’un réapprovisionnement à froid | C8: Numérateur :
C9: Dénominateur :
A10: 4 | B10: En cas de réapprovisionnement à froid, délai de communication d’une nouvelle route optique sans lourds travaux de génie civil – 80e centile | C10: Définition :
A11: 5 | B11: En cas de réapprovisionnement à froid, délai de communication d’une nouvelle route optique avec lourds travaux de génie civil – 80e centile | C11: Définition :
A12: 6 | B12: Taux de non-respect de la date de livraison du point de branchement optique (PBO) | C12: Numérateur :
C13: Dénominateur :
A14: 7 | B14: Délai de livraison d’un lien PRDM-PM (première commande) – 95e centile* | C14: Définition :
A15: 8 | B15: Délai de livraison d’un lien PRDM-PM (commandes suivantes) – 95e centile* | C15: Définition :
A16: 9 | B16: Délai de livraison d’un lien PRDM-PM (toute commande) – 95e centile | C16: Définition :
A17: 10 | B17: Taux de non-respect du délai contractuel de livraison des liens PRDM-PM | C17: Numérateur :
C18: Dénominateur :
A19: SERVICE APRES-VENTE
A20: 11 | B20: Taux de non-respect du délai de rétablissement sur le segment PBO-DTIo | C20: Numérateur :
C21: Dénominateur :
A22: 12 | B22: Délai de rétablissement sur le segment PBO-DTIo – 95e centile | C22: Définition :
A23: 13 | B23: Taux de non-respect du délai de rétablissement sur le segment PM-PBO | C23: Numérateur :
C24: Dénominateur :
A25: 14 | B25: Délai de rétablissement sur le segment PM-PBO – 95e centile | C25: Définition :
A26: 15 | B26: Taux de non-respect de la garantie du temps de rétablissement 10 heures ouvrées PRDM-PM | C26: Numérateur :
C27: Dénominateur :
A28: 16 | B28: Délai moyen de rétablissement sur le segment PRDM-PM | C28: Définition :
A29: 17 | B29: Taux de signalisations sur parc (NRO-DTIO) sur une période d’un mois | C29: Numérateur :
C30: Dénominateur :
A31: 18 | B31: Taux de réitération des interruptions de services sur le segment PM-PBO | C31: Numérateur :
C32: Dénominateur :
A33: Annexe 2-2
A34: PRODUCTION
A35: 19 | B35: Taux de non respect de la date de livraison de l'accès avec GTR 4HO/HNO – mode OI | C35: Numérateur :
C36: Dénominateur :
A37: 20 | B37: Délai moyen de livraison de l'accès avec GTR 4HO/HNO – mode OI | C37: Définition :
A38: SERVICE APRES-VENTE
A39: 21 | B39: Taux de respect du délai de rétablissement | C39: Numérateur :
C40: Dénominateur :
...

Sheet Maille d'appréciation
A1: Maille d'appréciation : Ensemble des zones de confinancement qui remplissent les critères suivants : 1. 80% des logements ou des locaux de la zone de confinancement sont raccordables 2. Le nombre de lignes activées à excéder au moins une fois 30% de la zone de cofinancement
A3: Référence des NRO constituant la maille d'appréciation (ZMD et ZTD-PBD) | B3: Référence des PM constituant la maille d'appréciation (ZTD-PHD)

Sheet Annexe 2-1
C1: Maille OI | E1: Maille OI (offres commercialisées sur le marché de gros activé) | G1: Maille OI (offres commercialisées sur le marché de détail - Autofourniture) | I1: Maille d'appréciation
C2: Valeurs nettes | D2: Valeurs brutes | E2: Valeurs nettes | F2: Valeurs brutes | G2: Valeurs nettes | H2: Valeurs brutes | I2: Valeurs nettes | J2: Valeurs brutes
A3: PRODUCTION
A4: Taux de signalisations sur les parcs livrés depuis moins d’un mois – responsabilité opérateur d’immeuble | B4: Numérateur | C4: =IFERROR(GETPIVOTDATA("valeur",VUE_KPI_FTTH!$A$7,"codeIndicateur","i","unite","Numérateur","maille","Maille OI","type_valeur","Valeurs Nettes","OC","(vide)"),VUE_KPI_FTTH!A1) -> 0 | D4: =IFERROR(GETPIVOTDATA("valeur",VUE_KPI_FTTH!$A$7,"codeIndicateur","i","unite","Numérateur","maille","Maille OI","type_valeur","Valeurs Brutes","OC","(vide)"),VUE_KPI_FTTH!A1) -> 0 | E4: =IFERROR(GETPIVOTDATA("valeur",VUE_KPI_FTTH!$A$7,"codeIndicateur","i","unite","Numérateur","maille","Maille OI (offres commercialisées sur le marché de gros activé)","type_valeur","Valeurs Nettes","OC","(vide)"),VUE_KPI_FTTH!A1) -> N/A | F4: =IFERROR(GETPIVOTDATA("valeur",VUE_KPI_FTTH!$A$7,"codeIndicateur","i","unite","Numérateur","maille","Maille OI (offres commercialisées sur le marché de gros activé)","type_valeur","Valeurs Brutes","OC","(vide)"),VUE_KPI_FTTH!A1) -> N/A | G4: =IFERROR(GETPIVOTDATA("valeur",VUE_KPI_FTTH!$A$7,"codeIndicateur","i","unite","Numérateur","maille","Maille OI (offres commercialisées sur le marché de détail - Autofourniture)","type_valeur","Valeurs Nettes","OC","(vide)"),VUE_KPI_FTTH!A1) -> 0 | H4: =IFERROR(GETPIVOTDATA("valeur",VUE_KPI_FTTH!$A$7,"codeIndicateur","i","unite","Numérateur","maille","Maille OI (offres commercialisées sur le marché de détail - Autofourniture)","type_valeur","Valeurs Brutes","OC","(vide)"),VUE_KPI_FTTH!A1) -> 0 | I4: =IFERROR(GETPIVOTDATA("valeur",VUE_KPI_FTTH!$A$7,"codeIndicateur","i","unite","Numérateur","maille","Maille d'appréciation","type_valeur","Valeurs Nettes","OC","(vide)"),VUE_KPI_FTTH!A1) -> N/A | J4: =IFERROR(GETPIVOTDATA("valeur",VUE_KPI_FTTH!$A$7,"codeIndicateur","i","unite","Numérateur","maille","Maille d'appréciation","type_valeur","Valeurs Brutes","OC","(vide)"),VUE_KPI_FTTH!A1) -> N/A | K4: =_xlfn.IFS( OR(B4="Taux",B4=""), "", NOT(AND( OR(ISBLANK(C4),ISNUMBER(C4)), OR(ISBLANK(D4),ISNUMBER(D4)), OR(ISBLANK(E4),ISNUMBER(E4)), OR(ISBLANK(F4),ISNUMBER(F4)), OR(ISBLANK(G4),ISNUMBER(G4)), OR(ISBLANK(H4),ISNUMBER(H4)), IF(I$1="",TRUE,OR(ISBLANK(I4),ISNUMBER(I4))), IF(I$1="",TRUE,OR(ISBLANK(J4),ISNUMBER(J4))), IF(K$1="",TRUE,OR(ISBLANK(K4),ISNUMBER(K4))), IF(K$1="",TRUE,OR(ISBLANK(L4),ISNUMBER(L4))) )), "Nombres attendus !", AND( OR(B4="Numérateur",B4="Dénominateur"), NOT(AND( OR(ISBLANK(C4),C4=ROUND(C4,0)), OR(ISBLANK(D4),D4=ROUND(D4,0)), OR(ISBLANK(E4),E4=ROUND(E4,0)), OR(ISBLANK(F4),F4=ROUND(F4,0)), OR(ISBLANK(G4),G4=ROUND(G4,0)), OR(ISBLANK(H4),H4=ROUND(H4,0)), IF(I$1="",TRUE,OR(ISBLANK(I4),I4=ROUND(I4,0))), IF(I$1="",TRUE,OR(ISBLANK(J4),J4=ROUND(J4,0))), IF(K$1="",TRUE,OR(ISBLANK(K4),K4=ROUND(K4,0))), IF(K$1="",TRUE,OR(ISBLANK(L4),L4=ROUND(L4,0))) )) ), "Entiers attendus !", AND(B4<>"Numérateur",B4<>"Dénominateur", NOT(AND( OR(ISBLANK(C4),C4=ROUND(C4,2)), OR(ISBLANK(D4),D4=ROUND(D4,2)), OR(ISBLANK(E4),E4=ROUND(E4,2)), OR(ISBLANK(F4),F4=ROUND(F4,2)), OR(ISBLANK(G4),G4=ROUND(G4,2)), OR(ISBLANK(H4),H4=ROUND(H4,2)), IF(I$1="",TRUE,OR(ISBLANK(I4),I4=ROUND(I4,2))), IF(I$1="",TRUE,OR(ISBLANK(J4),J4=ROUND(J4,2))), IF(K$1="",TRUE,OR(ISBLANK(K4),K4=ROUND(K4,2))), IF(K$1="",TRUE,OR(ISBLANK(L4),L4=ROUND(L4,2))) ))), "Précision supérieure à 2 décimales", MIN(C4:J4)<0,"Nombres positifs attendus !", AND(B4="Dénominateur", NOT(AND( OR(ISBLANK(C4),C4>0), OR(ISBLANK(D4),D4>0), OR(ISBLANK(E4),E4>0), OR(ISBLANK(F4),F4>0), OR(ISBLANK(G4),G4>0), OR(ISBLANK(H4),H4>0), IF(I$1="",TRUE,OR(ISBLANK(I4),I4>0)), IF(I$1="",TRUE,OR(ISBLANK(J4),J4>0)), IF(K$1="",TRUE,OR(ISBLANK(K4),K4>0)), IF(K$1="",TRUE,OR(ISBLANK(L4),L4>0)) ))), "Nombres strictement positifs attendus !", IF(B4="Dénominateur", NOT(AND( OR(ISBLANK(C3),ISBLANK(C4),C4>=C3), OR(ISBLANK(D3),ISBLANK(D4),D4>=D3), OR(ISBLANK(E3),ISBLANK(E4),E4>=E3), OR(ISBLANK(F3),ISBLANK(F4),F4>=F3), OR(ISBLANK(G3),ISBLANK(G4),G4>=G3), OR(ISBLANK(H3),ISBLANK(H4),H4>=H3), IF(I$1="",TRUE,OR(ISBLANK(I3),ISBLANK(I4),I4>=I3)), IF(I$1="",TRUE,OR(ISBLANK(J3),ISBLANK(J4),J4>=J3)), IF(K$1="",TRUE,OR(ISBLANK(K3),ISBLANK(K4),K4>=K3)), IF(K$1="",TRUE,OR(ISBLANK(L3),ISBLANK(L4),L4>=L3)) )),FALSE), "Numérateur supérieur à ce dénominateur !", LEFT( IF(B4="Dénominateur",A3,A4),12) = "(Facultatif)","", IF(I$1="",COUNTBLANK(C4:H4),COUNTBLANK(C4:J4))>0, _xlfn.CONCAT("Encore ",IF(I$1="",COUNTBLANK(C4:H4),COUNTBLANK(C4:J4)), " cellule(s) requise(s)"), TRUE,"" ) -> #NAME?
B5: Dénominateur | C5: =IFERROR(GETPIVOTDATA("valeur",VUE_KPI_FTTH!$A$7,"codeIndicateur","i","unite","Dénominateur","maille","Maille OI","type_valeur","Valeurs Nettes","OC","(vide)"),VUE_KPI_FTTH!A1) -> 795 | D5: =IFERROR(GETPIVOTDATA("valeur",VUE_KPI_FTTH!$A$7,"codeIndicateur","i","unite","Dénominateur","maille","Maille OI","type_valeur","Valeurs Brutes","OC","(vide)"),VUE_KPI_FTTH!A1) -> 795 | E5: =IFERROR(GETPIVOTDATA("valeur",VUE_KPI_FTTH!$A$7,"codeIndicateur","i","unite","Dénominateur","maille","Maille OI (offres commercialisées sur le marché de gros activé)","type_valeur","Valeurs Nettes","OC","(vide)"),VUE_KPI_FTTH!A1) -> N/A | F5: =IFERROR(GETPIVOTDATA("valeur",VUE_KPI_FTTH!$A$7,"codeIndicateur","i","unite","Dénominateur","maille","Maille OI (offres commercialisées sur le marché de gros activé)","type_valeur","Valeurs Brutes","OC","(vide)"),VUE_KPI_FTTH!A1) -> N/A | G5: =IFERROR(GETPIVOTDATA("valeur",VUE_KPI_FTTH!$A$7,"codeIndicateur","i","unite","Dénominateur","maille","Maille OI (offres commercialisées sur le marché de détail - Autofourniture)","type_valeur","Valeurs Nettes","OC","(vide)"),VUE_KPI_FTTH!A1) -> 795 | H5: =IFERROR(GETPIVOTDATA("valeur",VUE_KPI_FTTH!$A$7,"codeIndicateur","i","unite","Dénominateur","maille","Maille OI (offres commercialisées sur le marché de détail - Autofourniture)","type_valeur","Valeurs Brutes","OC","(vide)"),VUE_KPI_FTTH!A1) -> 795 | I5: =IFERROR(GETPIVOTDATA("valeur",VUE_KPI_FTTH!$A$7,"codeIndicateur","i","unite","Dénominateur","maille","Maille d'appréciation","type_valeur","Valeurs Nettes","OC","(vide)"),VUE_KPI_FTTH!A1) -> N/A | J5: =IFERROR(GETPIVOTDATA("valeur",VUE_KPI_FTTH!$A$7,"codeIndicateur","i","unite","Dénominateur","maille","Maille d'appréciation","type_valeur","Valeurs Brutes","OC","(vide)"),VUE_KPI_FTTH!A1) -> N/A | K5: =_xlfn.IFS( OR(B5="Taux",B5=""), "", NOT(AND( OR(ISBLANK(C5),ISNUMBER(C5)), OR(ISBLANK(D5),ISNUMBER(D5)), OR(ISBLANK(E5),ISNUMBER(E5)), OR(ISBLANK(F5),ISNUMBER(F5)), OR(ISBLANK(G5),ISNUMBER(G5)), OR(ISBLANK(H5),ISNUMBER(H5)), IF(I$1="",TRUE,OR(ISBLANK(I5),ISNUMBER(I5))), IF(I$1="",TRUE,OR(ISBLANK(J5),ISNUMBER(J5))), IF(K$1="",TRUE,OR(ISBLANK(K5),ISNUMBER(K5))), IF(K$1="",TRUE,OR(ISBLANK(L5),ISNUMBER(L5))) )), "Nombres attendus !", AND( OR(B5="Numérateur",B5="Dénominateur"), NOT(AND( OR(ISBLANK(C5),C5=ROUND(C5,0)), OR(ISBLANK(D5),D5=ROUND(D5,0)), OR(ISBLANK(E5),E5=ROUND(E5,0)), OR(ISBLANK(F5),F5=ROUND(F5,0)), OR(ISBLANK(G5),G5=ROUND(G5,0)), OR(ISBLANK(H5),H5=ROUND(H5,0)), IF(I$1="",TRUE,OR(ISBLANK(I5),I5=ROUND(I5,0))), IF(I$1="",TRUE,OR(ISBLANK(J5),J5=ROUND(J5,0))), IF(K$1="",TRUE,OR(ISBLANK(K5),K5=ROUND(K5,0))), IF(K$1="",TRUE,OR(ISBLANK(L5),L5=ROUND(L5,0))) )) ), "Entiers attendus !", AND(B5<>"Numérateur",B5<>"Dénominateur", NOT(AND( OR(ISBLANK(C5),C5=ROUND(C5,2)), OR(ISBLANK(D5),D5=ROUND(D5,2)), OR(ISBLANK(E5),E5=ROUND(E5,2)), OR(ISBLANK(F5),F5=ROUND(F5,2)), OR(ISBLANK(G5),G5=ROUND(G5,2)), OR(ISBLANK(H5),H5=ROUND(H5,2)), IF(I$1="",TRUE,OR(ISBLANK(I5),I5=ROUND(I5,2))), IF(I$1="",TRUE,OR(ISBLANK(J5),J5=ROUND(J5,2))), IF(K$1="",TRUE,OR(ISBLANK(K5),K5=ROUND(K5,2))), IF(K$1="",TRUE,OR(ISBLANK(L5),L5=ROUND(L5,2))) ))), "Précision supérieure à 2 décimales", MIN(C5:J5)<0,"Nombres positifs attendus !", AND(B5="Dénominateur", NOT(AND( OR(ISBLANK(C5),C5>0), OR(ISBLANK(D5),D5>0), OR(ISBLANK(E5),E5>0), OR(ISBLANK(F5),F5>0), OR(ISBLANK(G5),G5>0), OR(ISBLANK(H5),H5>0), IF(I$1="",TRUE,OR(ISBLANK(I5),I5>0)), IF(I$1="",TRUE,OR(ISBLANK(J5),J5>0)), IF(K$1="",TRUE,OR(ISBLANK(K5),K5>0)), IF(K$1="",TRUE,OR(ISBLANK(L5),L5>0)) ))), "Nombres strictement positifs attendus !", IF(B5="Dénominateur", NOT(AND( OR(ISBLANK(C4),ISBLANK(C5),C5>=C4), OR(ISBLANK(D4),ISBLANK(D5),D5>=D4), OR(ISBLANK(E4),ISBLANK(E5),E5>=E4), OR(ISBLANK(F4),ISBLANK(F5),F5>=F4), OR(ISBLANK(G4),ISBLANK(G5),G5>=G4), OR(ISBLANK(H4),ISBLANK(H5),H5>=H4), IF(I$1="",TRUE,OR(ISBLANK(I4),ISBLANK(I5),I5>=I4)), IF(I$1="",TRUE,OR(ISBLANK(J4),ISBLANK(J5),J5>=J4)), IF(K$1="",TRUE,OR(ISBLANK(K4),ISBLANK(K5),K5>=K4)), IF(K$1="",TRUE,OR(ISBLANK(L4),ISBLANK(L5),L5>=L4)) )),FALSE), "Numérateur supérieur à ce dénominateur !", LEFT( IF(B5="Dénominateur",A4,A5),12) = "(Facultatif)","", IF(I$1="",COUNTBLANK(C5:H5),COUNTBLANK(C5:J5))>0, _xlfn.CONCAT("Encore ",IF(I$1="",COUNTBLANK(C5:H5),COUNTBLANK(C5:J5)), " cellule(s) requise(s)"), TRUE,"" ) -> #NAME?
B6: Taux | C6: =IF(OR(C5="",C5="N/A",C5="NC",C5="ND"),"",C4/C5) -> 0 | D6: =IF(OR(D5="",D5="N/A",D5="NC",D5="ND"),"",D4/D5) -> 0 | E6: =IF(OR(E5="",E5="N/A",E5="NC",E5="ND"),"",E4/E5) | F6: =IF(OR(F5="",F5="N/A",F5="NC",F5="ND"),"",F4/F5) | G6: =IF(OR(G5="",G5="N/A",G5="NC",G5="ND"),"",G4/G5) -> 0 | H6: =IF(OR(H5="",H5="N/A",H5="NC",H5="ND"),"",H4/H5) -> 0 | I6: =IF(OR(I5="",I5="N/A",I5="NC",I5="ND"),"",I4/I5) | J6: =IF(OR(J5="",J5="N/A",J5="NC",J5="ND"),"",J4/J5) | K6: =_xlfn.IFS( OR(B6="Taux",B6=""), "", NOT(AND( OR(ISBLANK(C6),ISNUMBER(C6)), OR(ISBLANK(D6),ISNUMBER(D6)), OR(ISBLANK(E6),ISNUMBER(E6)), OR(ISBLANK(F6),ISNUMBER(F6)), OR(ISBLANK(G6),ISNUMBER(G6)), OR(ISBLANK(H6),ISNUMBER(H6)), IF(I$1="",TRUE,OR(ISBLANK(I6),ISNUMBER(I6))), IF(I$1="",TRUE,OR(ISBLANK(J6),ISNUMBER(J6))), IF(K$1="",TRUE,OR(ISBLANK(K6),ISNUMBER(K6))), IF(K$1="",TRUE,OR(ISBLANK(L6),ISNUMBER(L6))) )), "Nombres attendus !", AND( OR(B6="Numérateur",B6="Dénominateur"), NOT(AND( OR(ISBLANK(C6),C6=ROUND(C6,0)), OR(ISBLANK(D6),D6=ROUND(D6,0)), OR(ISBLANK(E6),E6=ROUND(E6,0)), OR(ISBLANK(F6),F6=ROUND(F6,0)), OR(ISBLANK(G6),G6=ROUND(G6,0)), OR(ISBLANK(H6),H6=ROUND(H6,0)), IF(I$1="",TRUE,OR(ISBLANK(I6),I6=ROUND(I6,0))), IF(I$1="",TRUE,OR(ISBLANK(J6),J6=ROUND(J6,0))), IF(K$1="",TRUE,OR(ISBLANK(K6),K6=ROUND(K6,0))), IF(K$1="",TRUE,OR(ISBLANK(L6),L6=ROUND(L6,0))) )) ), "Entiers attendus !", AND(B6<>"Numérateur",B6<>"Dénominateur", NOT(AND( OR(ISBLANK(C6),C6=ROUND(C6,2)), OR(ISBLANK(D6),D6=ROUND(D6,2)), OR(ISBLANK(E6),E6=ROUND(E6,2)), OR(ISBLANK(F6),F6=ROUND(F6,2)), OR(ISBLANK(G6),G6=ROUND(G6,2)), OR(ISBLANK(H6),H6=ROUND(H6,2)), IF(I$1="",TRUE,OR(ISBLANK(I6),I6=ROUND(I6,2))), IF(I$1="",TRUE,OR(ISBLANK(J6),J6=ROUND(J6,2))), IF(K$1="",TRUE,OR(ISBLANK(K6),K6=ROUND(K6,2))), IF(K$1="",TRUE,OR(ISBLANK(L6),L6=ROUND(L6,2))) ))), "Précision supérieure à 2 décimales", MIN(C6:J6)<0,"Nombres positifs attendus !", AND(B6="Dénominateur", NOT(AND( OR(ISBLANK(C6),C6>0), OR(ISBLANK(D6),D6>0), OR(ISBLANK(E6),E6>0), OR(ISBLANK(F6),F6>0), OR(ISBLANK(G6),G6>0), OR(ISBLANK(H6),H6>0), IF(I$1="",TRUE,OR(ISBLANK(I6),I6>0)), IF(I$1="",TRUE,OR(ISBLANK(J6),J6>0)), IF(K$1="",TRUE,OR(ISBLANK(K6),K6>0)), IF(K$1="",TRUE,OR(ISBLANK(L6),L6>0)) ))), "Nombres strictement positifs attendus !", IF(B6="Dénominateur", NOT(AND( OR(ISBLANK(C5),ISBLANK(C6),C6>=C5), OR(ISBLANK(D5),ISBLANK(D6),D6>=D5), OR(ISBLANK(E5),ISBLANK(E6),E6>=E5), OR(ISBLANK(F5),ISBLANK(F6),F6>=F5), OR(ISBLANK(G5),ISBLANK(G6),G6>=G5), OR(ISBLANK(H5),ISBLANK(H6),H6>=H5), IF(I$1="",TRUE,OR(ISBLANK(I5),ISBLANK(I6),I6>=I5)), IF(I$1="",TRUE,OR(ISBLANK(J5),ISBLANK(J6),J6>=J5)), IF(K$1="",TRUE,OR(ISBLANK(K5),ISBLANK(K6),K6>=K5)), IF(K$1="",TRUE,OR(ISBLANK(L5),ISBLANK(L6),L6>=L5)) )),FALSE), "Numérateur supérieur à ce dénominateur !", LEFT( IF(B6="Dénominateur",A5,A6),12) = "(Facultatif)","", IF(I$1="",COUNTBLANK(C6:H6),COUNTBLANK(C6:J6))>0, _xlfn.CONCAT("Encore ",IF(I$1="",COUNTBLANK(C6:H6),COUNTBLANK(C6:J6)), " cellule(s) requise(s)"), TRUE,"" ) -> #NAME?
A7: Taux de non-respect de la date de livraison de l’accès – mode OI | B7: Numérateur | C7: =IFERROR(GETPIVOTDATA("valeur",VUE_KPI_FTTH!$A$7,"codeIndicateur","ii","unite","Numérateur","maille","Maille OI","type_valeur","Valeurs Nettes","OC","(vide)"),VUE_KPI_FTTH!A1) -> N/A | D7: =IFERROR(GETPIVOTDATA("valeur",VUE_KPI_FTTH!$A$7,"codeIndicateur","ii","unite","Numérateur","maille","Maille OI","type_valeur","Valeurs Brutes","OC","(vide)"),VUE_KPI_FTTH!A2) -> 0 | E7: =IFERROR(GETPIVOTDATA("valeur",VUE_KPI_FTTH!$A$7,"codeIndicateur","ii","unite","Numérateur","maille","Maille OI (offres commercialisées sur le marché de gros activé)","type_valeur","Valeurs Nettes","OC","(vide)"),VUE_KPI_FTTH!A1) -> N/A | F7: =IFERROR(GETPIVOTDATA("valeur",VUE_KPI_FTTH!$A$7,"codeIndicateur","ii","unite","Numérateur","maille","Maille OI (offres commercialisées sur le marché de gros activé)","type_valeur","Valeurs Brutes","OC","(vide)"),VUE_KPI_FTTH!A2) -> 0 | G7: =IFERROR(GETPIVOTDATA("valeur",VUE_KPI_FTTH!$A$7,"codeIndicateur","ii","unite","Numérateur","maille","Maille OI (offres commercialisées sur le marché de détail - Autofourniture)","type_valeur","Valeurs Nettes","OC","(vide)"),VUE_KPI_FTTH!A1) -> N/A | H7: =IFERROR(GETPIVOTDATA("valeur",VUE_KPI_FTTH!$A$7,"codeIndicateur","ii","unite","Numérateur","maille","Maille OI (offres commercialisées sur le marché de détail - Autofourniture)","type_valeur","Valeurs Brutes","OC","(vide)"),VUE_KPI_FTTH!A2) -> 0 | I7: =IFERROR(GETPIVOTDATA("valeur",VUE_KPI_FTTH!$A$7,"codeIndicateur","ii","unite","Numérateur","maille","Maille d'appréciation","type_valeur","Valeurs Nettes","OC","(vide)"),VUE_KPI_FTTH!A1) -> N/A | J7: =IFERROR(GETPIVOTDATA("valeur",VUE_KPI_FTTH!$A$7,"codeIndicateur","ii","unite","Numérateur","maille","Maille d'appréciation","type_valeur","Valeurs Brutes","OC","(vide)"),VUE_KPI_FTTH!A1) -> N/A | K7: =_xlfn.IFS( OR(B7="Taux",B7=""), "", NOT(AND( OR(ISBLANK(C7),ISNUMBER(C7)), OR(ISBLANK(D7),ISNUMBER(D7)), OR(ISBLANK(E7),ISNUMBER(E7)), OR(ISBLANK(F7),ISNUMBER(F7)), OR(ISBLANK(G7),ISNUMBER(G7)), OR(ISBLANK(H7),ISNUMBER(H7)), IF(I$1="",TRUE,OR(ISBLANK(I7),ISNUMBER(I7))), IF(I$1="",TRUE,OR(ISBLANK(J7),ISNUMBER(J7))), IF(K$1="",TRUE,OR(ISBLANK(K7),ISNUMBER(K7))), IF(K$1="",TRUE,OR(ISBLANK(L7),ISNUMBER(L7))) )), "Nombres attendus !", AND( OR(B7="Numérateur",B7="Dénominateur"), NOT(AND( OR(ISBLANK(C7),C7=ROUND(C7,0)), OR(ISBLANK(D7),D7=ROUND(D7,0)), OR(ISBLANK(E7),E7=ROUND(E7,0)), OR(ISBLANK(F7),F7=ROUND(F7,0)), OR(ISBLANK(G7),G7=ROUND(G7,0)), OR(ISBLANK(H7),H7=ROUND(H7,0)), IF(I$1="",TRUE,OR(ISBLANK(I7),I7=ROUND(I7,0))), IF(I$1="",TRUE,OR(ISBLANK(J7),J7=ROUND(J7,0))), IF(K$1="",TRUE,OR(ISBLANK(K7),K7=ROUND(K7,0))), IF(K$1="",TRUE,OR(ISBLANK(L7),L7=ROUND(L7,0))) )) ), "Entiers attendus !", AND(B7<>"Numérateur",B7<>"Dénominateur", NOT(AND( OR(ISBLANK(C7),C7=ROUND(C7,2)), OR(ISBLANK(D7),D7=ROUND(D7,2)), OR(ISBLANK(E7),E7=ROUND(E7,2)), OR(ISBLANK(F7),F7=ROUND(F7,2)), OR(ISBLANK(G7),G7=ROUND(G7,2)), OR(ISBLANK(H7),H7=ROUND(H7,2)), IF(I$1="",TRUE,OR(ISBLANK(I7),I7=ROUND(I7,2))), IF(I$1="",TRUE,OR(ISBLANK(J7),J7=ROUND(J7,2))), IF(K$1="",TRUE,OR(ISBLANK(K7),K7=ROUND(K7,2))), IF(K$1="",TRUE,OR(ISBLANK(L7),L7=ROUND(L7,2))) ))), "Précision supérieure à 2 décimales", MIN(C7:J7)<0,"Nombres positifs attendus !", AND(B7="Dénominateur", NOT(AND( OR(ISBLANK(C7),C7>0), OR(ISBLANK(D7),D7>0), OR(ISBLANK(E7),E7>0), OR(ISBLANK(F7),F7>0), OR(ISBLANK(G7),G7>0), OR(ISBLANK(H7),H7>0), IF(I$1="",TRUE,OR(ISBLANK(I7),I7>0)), IF(I$1="",TRUE,OR(ISBLANK(J7),J7>0)), IF(K$1="",TRUE,OR(ISBLANK(K7),K7>0)), IF(K$1="",TRUE,OR(ISBLANK(L7),L7>0)) ))), "Nombres strictement positifs attendus !", IF(B7="Dénominateur", NOT(AND( OR(ISBLANK(C6),ISBLANK(C7),C7>=C6), OR(ISBLANK(D6),ISBLANK(D7),D7>=D6), OR(ISBLANK(E6),ISBLANK(E7),E7>=E6), OR(ISBLANK(F6),ISBLANK(F7),F7>=F6), OR(ISBLANK(G6),ISBLANK(G7),G7>=G6), OR(ISBLANK(H6),ISBLANK(H7),H7>=H6), IF(I$1="",TRUE,OR(ISBLANK(I6),ISBLANK(I7),I7>=I6)), IF(I$1="",TRUE,OR(ISBLANK(J6),ISBLANK(J7),J7>=J6)), IF(K$1="",TRUE,OR(ISBLANK(K6),ISBLANK(K7),K7>=K6)), IF(K$1="",TRUE,OR(ISBLANK(L6),ISBLANK(L7),L7>=L6)) )),FALSE), "Numérateur supérieur à ce dénominateur !", LEFT( IF(B7="Dénominateur",A6,A7),12) = "(Facultatif)","", IF(I$1="",COUNTBLANK(C7:H7),COUNTBLANK(C7:J7))>0, _xlfn.CONCAT("Encore ",IF(I$1="",COUNTBLANK(C7:H7),COUNTBLANK(C7:J7)), " cellule(s) requise(s)"), TRUE,"" ) -> #NAME?
B8: Dénominateur | C8: =IFERROR(GETPIVOTDATA("valeur",VUE_KPI_FTTH!$A$7,"codeIndicateur","ii","unite","Dénominateur","maille","Maille OI","type_valeur","Valeurs Nettes","OC","(vide)"),VUE_KPI_FTTH!A1) -> N/A | D8: =IFERROR(GETPIVOTDATA("valeur",VUE_KPI_FTTH!$A$7,"codeIndicateur","ii","unite","Dénominateur","maille","Maille OI","type_valeur","Valeurs Brutes","OC","(vide)"),VUE_KPI_FTTH!A2) -> 0 | E8: =IFERROR(GETPIVOTDATA("valeur",VUE_KPI_FTTH!$A$7,"codeIndicateur","ii","unite","Dénominateur","maille","Maille OI (offres commercialisées sur le marché de gros activé)","type_valeur","Valeurs Nettes","OC","(vide)"),VUE_KPI_FTTH!A1) -> N/A | F8: =IFERROR(GETPIVOTDATA("valeur",VUE_KPI_FTTH!$A$7,"codeIndicateur","ii","unite","Dénominateur","maille","Maille OI (offres commercialisées sur le marché de gros activé)","type_valeur","Valeurs Brutes","OC","(vide)"),VUE_KPI_FTTH!A2) -> 0 | G8: =IFERROR(GETPIVOTDATA("valeur",VUE_KPI_FTTH!$A$7,"codeIndicateur","ii","unite","Dénominateur","maille","Maille OI (offres commercialisées sur le marché de détail - Autofourniture)","type_valeur","Valeurs Nettes","OC","(vide)"),VUE_KPI_FTTH!A1) -> N/A | H8: =IFERROR(GETPIVOTDATA("valeur",VUE_KPI_FTTH!$A$7,"codeIndicateur","ii","unite","Dénominateur","maille","Maille OI (offres commercialisées sur le marché de détail - Autofourniture)","type_valeur","Valeurs Brutes","OC","(vide)"),VUE_KPI_FTTH!A2) -> 0 | I8: =IFERROR(GETPIVOTDATA("valeur",VUE_KPI_FTTH!$A$7,"codeIndicateur","ii","unite","Dénominateur","maille","Maille d'appréciation","type_valeur","Valeurs Nettes","OC","(vide)"),VUE_KPI_FTTH!A1) -> N/A | J8: =IFERROR(GETPIVOTDATA("valeur",VUE_KPI_FTTH!$A$7,"codeIndicateur","ii","unite","Dénominateur","maille","Maille d'appréciation","type_valeur","Valeurs Brutes","OC","(vide)"),VUE_KPI_FTTH!A1) -> N/A | K8: =_xlfn.IFS( OR(B8="Taux",B8=""), "", NOT(AND( OR(ISBLANK(C8),ISNUMBER(C8)), OR(ISBLANK(D8),ISNUMBER(D8)), OR(ISBLANK(E8),ISNUMBER(E8)), OR(ISBLANK(F8),ISNUMBER(F8)), OR(ISBLANK(G8),ISNUMBER(G8)), OR(ISBLANK(H8),ISNUMBER(H8)), IF(I$1="",TRUE,OR(ISBLANK(I8),ISNUMBER(I8))), IF(I$1="",TRUE,OR(ISBLANK(J8),ISNUMBER(J8))), IF(K$1="",TRUE,OR(ISBLANK(K8),ISNUMBER(K8))), IF(K$1="",TRUE,OR(ISBLANK(L8),ISNUMBER(L8))) )), "Nombres attendus !", AND( OR(B8="Numérateur",B8="Dénominateur"), NOT(AND( OR(ISBLANK(C8),C8=ROUND(C8,0)), OR(ISBLANK(D8),D8=ROUND(D8,0)), OR(ISBLANK(E8),E8=ROUND(E8,0)), OR(ISBLANK(F8),F8=ROUND(F8,0)), OR(ISBLANK(G8),G8=ROUND(G8,0)), OR(ISBLANK(H8),H8=ROUND(H8,0)), IF(I$1="",TRUE,OR(ISBLANK(I8),I8=ROUND(I8,0))), IF(I$1="",TRUE,OR(ISBLANK(J8),J8=ROUND(J8,0))), IF(K$1="",TRUE,OR(ISBLANK(K8),K8=ROUND(K8,0))), IF(K$1="",TRUE,OR(ISBLANK(L8),L8=ROUND(L8,0))) )) ), "Entiers attendus !", AND(B8<>"Numérateur",B8<>"Dénominateur", NOT(AND( OR(ISBLANK(C8),C8=ROUND(C8,2)), OR(ISBLANK(D8),D8=ROUND(D8,2)), OR(ISBLANK(E8),E8=ROUND(E8,2)), OR(ISBLANK(F8),F8=ROUND(F8,2)), OR(ISBLANK(G8),G8=ROUND(G8,2)), OR(ISBLANK(H8),H8=ROUND(H8,2)), IF(I$1="",TRUE,OR(ISBLANK(I8),I8=ROUND(I8,2))), IF(I$1="",TRUE,OR(ISBLANK(J8),J8=ROUND(J8,2))), IF(K$1="",TRUE,OR(ISBLANK(K8),K8=ROUND(K8,2))), IF(K$1="",TRUE,OR(ISBLANK(L8),L8=ROUND(L8,2))) ))), "Précision supérieure à 2 décimales", MIN(C8:J8)<0,"Nombres positifs attendus !", AND(B8="Dénominateur", NOT(AND( OR(ISBLANK(C8),C8>0), OR(ISBLANK(D8),D8>0), OR(ISBLANK(E8),E8>0), OR(ISBLANK(F8),F8>0), OR(ISBLANK(G8),G8>0), OR(ISBLANK(H8),H8>0), IF(I$1="",TRUE,OR(ISBLANK(I8),I8>0)), IF(I$1="",TRUE,OR(ISBLANK(J8),J8>0)), IF(K$1="",TRUE,OR(ISBLANK(K8),K8>0)), IF(K$1="",TRUE,OR(ISBLANK(L8),L8>0)) ))), "Nombres strictement positifs attendus !", IF(B8="Dénominateur", NOT(AND( OR(ISBLANK(C7),ISBLANK(C8),C8>=C7), OR(ISBLANK(D7),ISBLANK(D8),D8>=D7), OR(ISBLANK(E7),ISBLANK(E8),E8>=E7), OR(ISBLANK(F7),ISBLANK(F8),F8>=F7), OR(ISBLANK(G7),ISBLANK(G8),G8>=G7), OR(ISBLANK(H7),ISBLANK(H8),H8>=H7), IF(I$1="",TRUE,OR(ISBLANK(I7),ISBLANK(I8),I8>=I7)), IF(I$1="",TRUE,OR(ISBLANK(J7),ISBLANK(J8),J8>=J7)), IF(K$1="",TRUE,OR(ISBLANK(K7),ISBLANK(K8),K8>=K7)), IF(K$1="",TRUE,OR(ISBLANK(L7),ISBLANK(L8),L8>=L7)) )),FALSE), "Numérateur supérieur à ce dénominateur !", LEFT( IF(B8="Dénominateur",A7,A8),12) = "(Facultatif)","", IF(I$1="",COUNTBLANK(C8:H8),COUNTBLANK(C8:J8))>0, _xlfn.CONCAT("Encore ",IF(I$1="",COUNTBLANK(C8:H8),COUNTBLANK(C8:J8)), " cellule(s) requise(s)"), TRUE,"" ) -> #NAME?
B9: Taux | C9: =IF(OR(C8="",C8="N/A",C8="NC",C8="ND"),"",C7/C8) | D9: =IF(OR(D8="",D8="N/A",D8="NC",D8="ND"),"",D7/D8) -> #DIV/0! | E9: =IF(OR(E8="",E8="N/A",E8="NC",E8="ND"),"",E7/E8) | F9: =IF(OR(F8="",F8="N/A",F8="NC",F8="ND"),"",F7/F8) -> #DIV/0! | G9: =IF(OR(G8="",G8="N/A",G8="NC",G8="ND"),"",G7/G8) | H9: =IF(OR(H8="",H8="N/A",H8="NC",H8="ND"),"",H7/H8) -> #DIV/0! | I9: =IF(OR(I8="",I8="N/A",I8="NC",I8="ND"),"",I7/I8) | J9: =IF(OR(J8="",J8="N/A",J8="NC",J8="ND"),"",J7/J8) | K9: =_xlfn.IFS( OR(B9="Taux",B9=""), "", NOT(AND( OR(ISBLANK(C9),ISNUMBER(C9)), OR(ISBLANK(D9),ISNUMBER(D9)), OR(ISBLANK(E9),ISNUMBER(E9)), OR(ISBLANK(F9),ISNUMBER(F9)), OR(ISBLANK(G9),ISNUMBER(G9)), OR(ISBLANK(H9),ISNUMBER(H9)), IF(I$1="",TRUE,OR(ISBLANK(I9),ISNUMBER(I9))), IF(I$1="",TRUE,OR(ISBLANK(J9),ISNUMBER(J9))), IF(K$1="",TRUE,OR(ISBLANK(K9),ISNUMBER(K9))), IF(K$1="",TRUE,OR(ISBLANK(L9),ISNUMBER(L9))) )), "Nombres attendus !", AND( OR(B9="Numérateur",B9="Dénominateur"), NOT(AND( OR(ISBLANK(C9),C9=ROUND(C9,0)), OR(ISBLANK(D9),D9=ROUND(D9,0)), OR(ISBLANK(E9),E9=ROUND(E9,0)), OR(ISBLANK(F9),F9=ROUND(F9,0)), OR(ISBLANK(G9),G9=ROUND(G9,0)), OR(ISBLANK(H9),H9=ROUND(H9,0)), IF(I$1="",TRUE,OR(ISBLANK(I9),I9=ROUND(I9,0))), IF(I$1="",TRUE,OR(ISBLANK(J9),J9=ROUND(J9,0))), IF(K$1="",TRUE,OR(ISBLANK(K9),K9=ROUND(K9,0))), IF(K$1="",TRUE,OR(ISBLANK(L9),L9=ROUND(L9,0))) )) ), "Entiers attendus !", AND(B9<>"Numérateur",B9<>"Dénominateur", NOT(AND( OR(ISBLANK(C9),C9=ROUND(C9,2)), OR(ISBLANK(D9),D9=ROUND(D9,2)), OR(ISBLANK(E9),E9=ROUND(E9,2)), OR(ISBLANK(F9),F9=ROUND(F9,2)), OR(ISBLANK(G9),G9=ROUND(G9,2)), OR(ISBLANK(H9),H9=ROUND(H9,2)), IF(I$1="",TRUE,OR(ISBLANK(I9),I9=ROUND(I9,2))), IF(I$1="",TRUE,OR(ISBLANK(J9),J9=ROUND(J9,2))), IF(K$1="",TRUE,OR(ISBLANK(K9),K9=ROUND(K9,2))), IF(K$1="",TRUE,OR(ISBLANK(L9),L9=ROUND(L9,2))) ))), "Précision supérieure à 2 décimales", MIN(C9:J9)<0,"Nombres positifs attendus !", AND(B9="Dénominateur", NOT(AND( OR(ISBLANK(C9),C9>0), OR(ISBLANK(D9),D9>0), OR(ISBLANK(E9),E9>0), OR(ISBLANK(F9),F9>0), OR(ISBLANK(G9),G9>0), OR(ISBLANK(H9),H9>0), IF(I$1="",TRUE,OR(ISBLANK(I9),I9>0)), IF(I$1="",TRUE,OR(ISBLANK(J9),J9>0)), IF(K$1="",TRUE,OR(ISBLANK(K9),K9>0)), IF(K$1="",TRUE,OR(ISBLANK(L9),L9>0)) ))), "Nombres strictement positifs attendus !", IF(B9="Dénominateur", NOT(AND( OR(ISBLANK(C8),ISBLANK(C9),C9>=C8), OR(ISBLANK(D8),ISBLANK(D9),D9>=D8), OR(ISBLANK(E8),ISBLANK(E9),E9>=E8), OR(ISBLANK(F8),ISBLANK(F9),F9>=F8), OR(ISBLANK(G8),ISBLANK(G9),G9>=G8), OR(ISBLANK(H8),ISBLANK(H9),H9>=H8), IF(I$1="",TRUE,OR(ISBLANK(I8),ISBLANK(I9),I9>=I8)), IF(I$1="",TRUE,OR(ISBLANK(J8),ISBLANK(J9),J9>=J8)), IF(K$1="",TRUE,OR(ISBLANK(K8),ISBLANK(K9),K9>=K8)), IF(K$1="",TRUE,OR(ISBLANK(L8),ISBLANK(L9),L9>=L8)) )),FALSE), "Numérateur supérieur à ce dénominateur !", LEFT( IF(B9="Dénominateur",A8,A9),12) = "(Facultatif)","", IF(I$1="",COUNTBLANK(C9:H9),COUNTBLANK(C9:J9))>0, _xlfn.CONCAT("Encore ",IF(I$1="",COUNTBLANK(C9:H9),COUNTBLANK(C9:J9)), " cellule(s) requise(s)"), TRUE,"" ) -> #NAME?
A10: Taux de commandes qui font l’objet d’un réapprovisionnement à froid | B10: Numérateur | C10: =IFERROR(GETPIVOTDATA("valeur",VUE_KPI_FTTH!$A$7,"codeIndicateur","iii","unite","Numérateur","maille","Maille OI","type_valeur","Valeurs Nettes","OC","(vide)"),VUE_KPI_FTTH!A1) -> N/A | D10: =IFERROR(GETPIVOTDATA("valeur",VUE_KPI_FTTH!$A$7,"codeIndicateur","iii","unite","Numérateur","maille","Maille OI","type_valeur","Valeurs Brutes","OC","(vide)"),VUE_KPI_FTTH!A2) -> 15 | E10: =IFERROR(GETPIVOTDATA("valeur",VUE_KPI_FTTH!$A$7,"codeIndicateur","iii","unite","Numérateur","maille","Maille OI (offres commercialisées sur le marché de gros activé)","type_valeur","Valeurs Nettes","OC","(vide)"),VUE_KPI_FTTH!A1) -> N/A | F10: =IFERROR(GETPIVOTDATA("valeur",VUE_KPI_FTTH!$A$7,"codeIndicateur","iii","unite","Numérateur","maille","Maille OI (offres commercialisées sur le marché de gros activé)","type_valeur","Valeurs Brutes","OC","(vide)"),VUE_KPI_FTTH!A2) -> 0 | G10: =IFERROR(GETPIVOTDATA("valeur",VUE_KPI_FTTH!$A$7,"codeIndicateur","iii","unite","Numérateur","maille","Maille OI (offres commercialisées sur le marché de détail - Autofourniture)","type_valeur","Valeurs Nettes","OC","(vide)"),VUE_KPI_FTTH!A1) -> N/A | H10: =IFERROR(GETPIVOTDATA("valeur",VUE_KPI_FTTH!$A$7,"codeIndicateur","iii","unite","Numérateur","maille","Maille OI (offres commercialisées sur le marché de détail - Autofourniture)","type_valeur","Valeurs Brutes","OC","(vide)"),VUE_KPI_FTTH!A1) -> 15 | I10: =IFERROR(GETPIVOTDATA("valeur",VUE_KPI_FTTH!$A$7,"codeIndicateur","iii","unite","Numérateur","maille","Maille d'appréciation","type_valeur","Valeurs Nettes","OC","(vide)"),VUE_KPI_FTTH!A1) -> N/A | J10: =IFERROR(GETPIVOTDATA("valeur",VUE_KPI_FTTH!$A$7,"codeIndicateur","iii","unite","Numérateur","maille","Maille d'appréciation","type_valeur","Valeurs Brutes","OC","(vide)"),VUE_KPI_FTTH!A1) -> N/A | K10: =_xlfn.IFS( OR(B10="Taux",B10=""), "", NOT(AND( OR(ISBLANK(C10),ISNUMBER(C10)), OR(ISBLANK(D10),ISNUMBER(D10)), OR(ISBLANK(E10),ISNUMBER(E10)), OR(ISBLANK(F10),ISNUMBER(F10)), OR(ISBLANK(G10),ISNUMBER(G10)), OR(ISBLANK(H10),ISNUMBER(H10)), IF(I$1="",TRUE,OR(ISBLANK(I10),ISNUMBER(I10))), IF(I$1="",TRUE,OR(ISBLANK(J10),ISNUMBER(J10))), IF(K$1="",TRUE,OR(ISBLANK(K10),ISNUMBER(K10))), IF(K$1="",TRUE,OR(ISBLANK(L10),ISNUMBER(L10))) )), "Nombres attendus !", AND( OR(B10="Numérateur",B10="Dénominateur"), NOT(AND( OR(ISBLANK(C10),C10=ROUND(C10,0)), OR(ISBLANK(D10),D10=ROUND(D10,0)), OR(ISBLANK(E10),E10=ROUND(E10,0)), OR(ISBLANK(F10),F10=ROUND(F10,0)), OR(ISBLANK(G10),G10=ROUND(G10,0)), OR(ISBLANK(H10),H10=ROUND(H10,0)), IF(I$1="",TRUE,OR(ISBLANK(I10),I10=ROUND(I10,0))), IF(I$1="",TRUE,OR(ISBLANK(J10),J10=ROUND(J10,0))), IF(K$1="",TRUE,OR(ISBLANK(K10),K10=ROUND(K10,0))), IF(K$1="",TRUE,OR(ISBLANK(L10),L10=ROUND(L10,0))) )) ), "Entiers attendus !", AND(B10<>"Numérateur",B10<>"Dénominateur", NOT(AND( OR(ISBLANK(C10),C10=ROUND(C10,2)), OR(ISBLANK(D10),D10=ROUND(D10,2)), OR(ISBLANK(E10),E10=ROUND(E10,2)), OR(ISBLANK(F10),F10=ROUND(F10,2)), OR(ISBLANK(G10),G10=ROUND(G10,2)), OR(ISBLANK(H10),H10=ROUND(H10,2)), IF(I$1="",TRUE,OR(ISBLANK(I10),I10=ROUND(I10,2))), IF(I$1="",TRUE,OR(ISBLANK(J10),J10=ROUND(J10,2))), IF(K$1="",TRUE,OR(ISBLANK(K10),K10=ROUND(K10,2))), IF(K$1="",TRUE,OR(ISBLANK(L10),L10=ROUND(L10,2))) ))), "Précision supérieure à 2 décimales", MIN(C10:J10)<0,"Nombres positifs attendus !", AND(B10="Dénominateur", NOT(AND( OR(ISBLANK(C10),C10>0), OR(ISBLANK(D10),D10>0), OR(ISBLANK(E10),E10>0), OR(ISBLANK(F10),F10>0), OR(ISBLANK(G10),G10>0), OR(ISBLANK(H10),H10>0), IF(I$1="",TRUE,OR(ISBLANK(I10),I10>0)), IF(I$1="",TRUE,OR(ISBLANK(J10),J10>0)), IF(K$1="",TRUE,OR(ISBLANK(K10),K10>0)), IF(K$1="",TRUE,OR(ISBLANK(L10),L10>0)) ))), "Nombres strictement positifs attendus !", IF(B10="Dénominateur", NOT(AND( OR(ISBLANK(C9),ISBLANK(C10),C10>=C9), OR(ISBLANK(D9),ISBLANK(D10),D10>=D9), OR(ISBLANK(E9),ISBLANK(E10),E10>=E9), OR(ISBLANK(F9),ISBLANK(F10),F10>=F9), OR(ISBLANK(G9),ISBLANK(G10),G10>=G9), OR(ISBLANK(H9),ISBLANK(H10),H10>=H9), IF(I$1="",TRUE,OR(ISBLANK(I9),ISBLANK(I10),I10>=I9)), IF(I$1="",TRUE,OR(ISBLANK(J9),ISBLANK(J10),J10>=J9)), IF(K$1="",TRUE,OR(ISBLANK(K9),ISBLANK(K10),K10>=K9)), IF(K$1="",TRUE,OR(ISBLANK(L9),ISBLANK(L10),L10>=L9)) )),FALSE), "Numérateur supérieur à ce dénominateur !", LEFT( IF(B10="Dénominateur",A9,A10),12) = "(Facultatif)","", IF(I$1="",COUNTBLANK(C10:H10),COUNTBLANK(C10:J10))>0, _xlfn.CONCAT("Encore ",IF(I$1="",COUNTBLANK(C10:H10),COUNTBLANK(C10:J10)), " cellule(s) requise(s)"), TRUE,"" ) -> #NAME?
B11: Dénominateur | C11: =IFERROR(GETPIVOTDATA("valeur",VUE_KPI_FTTH!$A$7,"codeIndicateur","iii","unite","Dénominateur","maille","Maille OI","type_valeur","Valeurs Nettes","OC","(vide)"),VUE_KPI_FTTH!A1) -> N/A | D11: =IFERROR(GETPIVOTDATA("valeur",VUE_KPI_FTTH!$A$7,"codeIndicateur","iii","unite","Dénominateur","maille","Maille OI","type_valeur","Valeurs Brutes","OC","(vide)"),VUE_KPI_FTTH!A2) -> 771 | E11: =IFERROR(GETPIVOTDATA("valeur",VUE_KPI_FTTH!$A$7,"codeIndicateur","iii","unite","Dénominateur","maille","Maille OI (offres commercialisées sur le marché de gros activé)","type_valeur","Valeurs Nettes","OC","(vide)"),VUE_KPI_FTTH!A1) -> N/A | F11: =IFERROR(GETPIVOTDATA("valeur",VUE_KPI_FTTH!$A$7,"codeIndicateur","iii","unite","Dénominateur","maille","Maille OI (offres commercialisées sur le marché de gros activé)","type_valeur","Valeurs Brutes","OC","(vide)"),VUE_KPI_FTTH!A2) -> 0 | G11: =IFERROR(GETPIVOTDATA("valeur",VUE_KPI_FTTH!$A$7,"codeIndicateur","iii","unite","Dénominateur","maille","Maille OI (offres commercialisées sur le marché de détail - Autofourniture)","type_valeur","Valeurs Nettes","OC","(vide)"),VUE_KPI_FTTH!A1) -> N/A | H11: =IFERROR(GETPIVOTDATA("valeur",VUE_KPI_FTTH!$A$7,"codeIndicateur","iii","unite","Dénominateur","maille","Maille OI (offres commercialisées sur le marché de détail - Autofourniture)","type_valeur","Valeurs Brutes","OC","(vide)"),VUE_KPI_FTTH!A1) -> 771 | I11: =IFERROR(GETPIVOTDATA("valeur",VUE_KPI_FTTH!$A$7,"codeIndicateur","iii","unite","Dénominateur","maille","Maille d'appréciation","type_valeur","Valeurs Nettes","OC","(vide)"),VUE_KPI_FTTH!A1) -> N/A | J11: =IFERROR(GETPIVOTDATA("valeur",VUE_KPI_FTTH!$A$7,"codeIndicateur","iii","unite","Dénominateur","maille","Maille d'appréciation","type_valeur","Valeurs Brutes","OC","(vide)"),VUE_KPI_FTTH!A1) -> N/A | K11: =_xlfn.IFS( OR(B11="Taux",B11=""), "", NOT(AND( OR(ISBLANK(C11),ISNUMBER(C11)), OR(ISBLANK(D11),ISNUMBER(D11)), OR(ISBLANK(E11),ISNUMBER(E11)), OR(ISBLANK(F11),ISNUMBER(F11)), OR(ISBLANK(G11),ISNUMBER(G11)), OR(ISBLANK(H11),ISNUMBER(H11)), IF(I$1="",TRUE,OR(ISBLANK(I11),ISNUMBER(I11))), IF(I$1="",TRUE,OR(ISBLANK(J11),ISNUMBER(J11))), IF(K$1="",TRUE,OR(ISBLANK(K11),ISNUMBER(K11))), IF(K$1="",TRUE,OR(ISBLANK(L11),ISNUMBER(L11))) )), "Nombres attendus !", AND( OR(B11="Numérateur",B11="Dénominateur"), NOT(AND( OR(ISBLANK(C11),C11=ROUND(C11,0)), OR(ISBLANK(D11),D11=ROUND(D11,0)), OR(ISBLANK(E11),E11=ROUND(E11,0)), OR(ISBLANK(F11),F11=ROUND(F11,0)), OR(ISBLANK(G11),G11=ROUND(G11,0)), OR(ISBLANK(H11),H11=ROUND(H11,0)), IF(I$1="",TRUE,OR(ISBLANK(I11),I11=ROUND(I11,0))), IF(I$1="",TRUE,OR(ISBLANK(J11),J11=ROUND(J11,0))), IF(K$1="",TRUE,OR(ISBLANK(K11),K11=ROUND(K11,0))), IF(K$1="",TRUE,OR(ISBLANK(L11),L11=ROUND(L11,0))) )) ), "Entiers attendus !", AND(B11<>"Numérateur",B11<>"Dénominateur", NOT(AND( OR(ISBLANK(C11),C11=ROUND(C11,2)), OR(ISBLANK(D11),D11=ROUND(D11,2)), OR(ISBLANK(E11),E11=ROUND(E11,2)), OR(ISBLANK(F11),F11=ROUND(F11,2)), OR(ISBLANK(G11),G11=ROUND(G11,2)), OR(ISBLANK(H11),H11=ROUND(H11,2)), IF(I$1="",TRUE,OR(ISBLANK(I11),I11=ROUND(I11,2))), IF(I$1="",TRUE,OR(ISBLANK(J11),J11=ROUND(J11,2))), IF(K$1="",TRUE,OR(ISBLANK(K11),K11=ROUND(K11,2))), IF(K$1="",TRUE,OR(ISBLANK(L11),L11=ROUND(L11,2))) ))), "Précision supérieure à 2 décimales", MIN(C11:J11)<0,"Nombres positifs attendus !", AND(B11="Dénominateur", NOT(AND( OR(ISBLANK(C11),C11>0), OR(ISBLANK(D11),D11>0), OR(ISBLANK(E11),E11>0), OR(ISBLANK(F11),F11>0), OR(ISBLANK(G11),G11>0), OR(ISBLANK(H11),H11>0), IF(I$1="",TRUE,OR(ISBLANK(I11),I11>0)), IF(I$1="",TRUE,OR(ISBLANK(J11),J11>0)), IF(K$1="",TRUE,OR(ISBLANK(K11),K11>0)), IF(K$1="",TRUE,OR(ISBLANK(L11),L11>0)) ))), "Nombres strictement positifs attendus !", IF(B11="Dénominateur", NOT(AND( OR(ISBLANK(C10),ISBLANK(C11),C11>=C10), OR(ISBLANK(D10),ISBLANK(D11),D11>=D10), OR(ISBLANK(E10),ISBLANK(E11),E11>=E10), OR(ISBLANK(F10),ISBLANK(F11),F11>=F10), OR(ISBLANK(G10),ISBLANK(G11),G11>=G10), OR(ISBLANK(H10),ISBLANK(H11),H11>=H10), IF(I$1="",TRUE,OR(ISBLANK(I10),ISBLANK(I11),I11>=I10)), IF(I$1="",TRUE,OR(ISBLANK(J10),ISBLANK(J11),J11>=J10)), IF(K$1="",TRUE,OR(ISBLANK(K10),ISBLANK(K11),K11>=K10)), IF(K$1="",TRUE,OR(ISBLANK(L10),ISBLANK(L11),L11>=L10)) )),FALSE), "Numérateur supérieur à ce dénominateur !", LEFT( IF(B11="Dénominateur",A10,A11),12) = "(Facultatif)","", IF(I$1="",COUNTBLANK(C11:H11),COUNTBLANK(C11:J11))>0, _xlfn.CONCAT("Encore ",IF(I$1="",COUNTBLANK(C11:H11),COUNTBLANK(C11:J11)), " cellule(s) requise(s)"), TRUE,"" ) -> #NAME?
B12: Taux | C12: =IF(OR(C11="",C11="N/A",C11="NC",C11="ND"),"",C10/C11) | D12: =IF(OR(D11="",D11="N/A",D11="NC",D11="ND"),"",D10/D11) -> 0.019455253 | E12: =IF(OR(E11="",E11="N/A",E11="NC",E11="ND"),"",E10/E11) | F12: =IF(OR(F11="",F11="N/A",F11="NC",F11="ND"),"",F10/F11) -> #DIV/0! | G12: =IF(OR(G11="",G11="N/A",G11="NC",G11="ND"),"",G10/G11) | H12: =IF(OR(H11="",H11="N/A",H11="NC",H11="ND"),"",H10/H11) -> 0.019455253 | I12: =IF(OR(I11="",I11="N/A",I11="NC",I11="ND"),"",I10/I11) | J12: =IF(OR(J11="",J11="N/A",J11="NC",J11="ND"),"",J10/J11) | K12: =_xlfn.IFS( OR(B12="Taux",B12=""), "", NOT(AND( OR(ISBLANK(C12),ISNUMBER(C12)), OR(ISBLANK(D12),ISNUMBER(D12)), OR(ISBLANK(E12),ISNUMBER(E12)), OR(ISBLANK(F12),ISNUMBER(F12)), OR(ISBLANK(G12),ISNUMBER(G12)), OR(ISBLANK(H12),ISNUMBER(H12)), IF(I$1="",TRUE,OR(ISBLANK(I12),ISNUMBER(I12))), IF(I$1="",TRUE,OR(ISBLANK(J12),ISNUMBER(J12))), IF(K$1="",TRUE,OR(ISBLANK(K12),ISNUMBER(K12))), IF(K$1="",TRUE,OR(ISBLANK(L12),ISNUMBER(L12))) )), "Nombres attendus !", AND( OR(B12="Numérateur",B12="Dénominateur"), NOT(AND( OR(ISBLANK(C12),C12=ROUND(C12,0)), OR(ISBLANK(D12),D12=ROUND(D12,0)), OR(ISBLANK(E12),E12=ROUND(E12,0)), OR(ISBLANK(F12),F12=ROUND(F12,0)), OR(ISBLANK(G12),G12=ROUND(G12,0)), OR(ISBLANK(H12),H12=ROUND(H12,0)), IF(I$1="",TRUE,OR(ISBLANK(I12),I12=ROUND(I12,0))), IF(I$1="",TRUE,OR(ISBLANK(J12),J12=ROUND(J12,0))), IF(K$1="",TRUE,OR(ISBLANK(K12),K12=ROUND(K12,0))), IF(K$1="",TRUE,OR(ISBLANK(L12),L12=ROUND(L12,0))) )) ), "Entiers attendus !", AND(B12<>"Numérateur",B12<>"Dénominateur", NOT(AND( OR(ISBLANK(C12),C12=ROUND(C12,2)), OR(ISBLANK(D12),D12=ROUND(D12,2)), OR(ISBLANK(E12),E12=ROUND(E12,2)), OR(ISBLANK(F12),F12=ROUND(F12,2)), OR(ISBLANK(G12),G12=ROUND(G12,2)), OR(ISBLANK(H12),H12=ROUND(H12,2)), IF(I$1="",TRUE,OR(ISBLANK(I12),I12=ROUND(I12,2))), IF(I$1="",TRUE,OR(ISBLANK(J12),J12=ROUND(J12,2))), IF(K$1="",TRUE,OR(ISBLANK(K12),K12=ROUND(K12,2))), IF(K$1="",TRUE,OR(ISBLANK(L12),L12=ROUND(L12,2))) ))), "Précision supérieure à 2 décimales", MIN(C12:J12)<0,"Nombres positifs attendus !", AND(B12="Dénominateur", NOT(AND( OR(ISBLANK(C12),C12>0), OR(ISBLANK(D12),D12>0), OR(ISBLANK(E12),E12>0), OR(ISBLANK(F12),F12>0), OR(ISBLANK(G12),G12>0), OR(ISBLANK(H12),H12>0), IF(I$1="",TRUE,OR(ISBLANK(I12),I12>0)), IF(I$1="",TRUE,OR(ISBLANK(J12),J12>0)), IF(K$1="",TRUE,OR(ISBLANK(K12),K12>0)), IF(K$1="",TRUE,OR(ISBLANK(L12),L12>0)) ))), "Nombres strictement positifs attendus !", IF(B12="Dénominateur", NOT(AND( OR(ISBLANK(C11),ISBLANK(C12),C12>=C11), OR(ISBLANK(D11),ISBLANK(D12),D12>=D11), OR(ISBLANK(E11),ISBLANK(E12),E12>=E11), OR(ISBLANK(F11),ISBLANK(F12),F12>=F11), OR(ISBLANK(G11),ISBLANK(G12),G12>=G11), OR(ISBLANK(H11),ISBLANK(H12),H12>=H11), IF(I$1="",TRUE,OR(ISBLANK(I11),ISBLANK(I12),I12>=I11)), IF(I$1="",TRUE,OR(ISBLANK(J11),ISBLANK(J12),J12>=J11)), IF(K$1="",TRUE,OR(ISBLANK(K11),ISBLANK(K12),K12>=K11)), IF(K$1="",TRUE,OR(ISBLANK(L11),ISBLANK(L12),L12>=L11)) )),FALSE), "Numérateur supérieur à ce dénominateur !", LEFT( IF(B12="Dénominateur",A11,A12),12) = "(Facultatif)","", IF(I$1="",COUNTBLANK(C12:H12),COUNTBLANK(C12:J12))>0, _xlfn.CONCAT("Encore ",IF(I$1="",COUNTBLANK(C12:H12),COUNTBLANK(C12:J12)), " cellule(s) requise(s)"), TRUE,"" ) -> #NAME?
A13: En cas de réapprovisionnement à froid, délai de communication d’une nouvelle route optique sans lourds travaux de génie civil – 80e centile | B13: 80e centile | C13: =IFERROR(GETPIVOTDATA("valeur",VUE_KPI_FTTH!$A$7,"codeIndicateur","iv","unite","80e centile","maille","Maille OI","type_valeur","Valeurs Nettes","OC","(vide)"),VUE_KPI_FTTH!A1) -> N/A | D13: =IFERROR(GETPIVOTDATA("valeur",VUE_KPI_FTTH!$A$7,"codeIndicateur","iv","unite","80e centile","maille","Maille OI","type_valeur","Valeurs Brutes","OC","(vide)"),VUE_KPI_FTTH!A1) -> 104.7 | E13: =IFERROR(GETPIVOTDATA("valeur",VUE_KPI_FTTH!$A$7,"codeIndicateur","iv","unite","80e centile","maille","Maille OI (offres commercialisées sur le marché de gros activé)","type_valeur","Valeurs Nettes","OC","(vide)"),VUE_KPI_FTTH!A1) -> N/A | F13: =IFERROR(GETPIVOTDATA("valeur",VUE_KPI_FTTH!$A$7,"codeIndicateur","iv","unite","80e centile","maille","Maille OI (offres commercialisées sur le marché de gros activé)","type_valeur","Valeurs Brutes","OC","(vide)"),VUE_KPI_FTTH!A1) -> N/A | G13: =IFERROR(GETPIVOTDATA("valeur",VUE_KPI_FTTH!$A$7,"codeIndicateur","iv","unite","80e centile","maille","Maille OI (offres commercialisées sur le marché de détail - Autofourniture)","type_valeur","Valeurs Nettes","OC","(vide)"),VUE_KPI_FTTH!A1) -> N/A | H13: =IFERROR(GETPIVOTDATA("valeur",VUE_KPI_FTTH!$A$7,"codeIndicateur","iv","unite","80e centile","maille","Maille OI (offres commercialisées sur le marché de détail - Autofourniture)","type_valeur","Valeurs Brutes","OC","(vide)"),VUE_KPI_FTTH!A1) -> 104.7 | I13: =IFERROR(GETPIVOTDATA("valeur",VUE_KPI_FTTH!$A$7,"codeIndicateur","iv","unite","80e centile","maille","Maille d'appréciation","type_valeur","Valeurs Nettes","OC","(vide)"),VUE_KPI_FTTH!A1) -> N/A | J13: =IFERROR(GETPIVOTDATA("valeur",VUE_KPI_FTTH!$A$7,"codeIndicateur","iv","unite","80e centile","maille","Maille d'appréciation","type_valeur","Valeurs Brutes","OC","(vide)"),VUE_KPI_FTTH!A1) -> N/A | K13: =_xlfn.IFS( OR(B13="Taux",B13=""), "", NOT(AND( OR(ISBLANK(C13),ISNUMBER(C13)), OR(ISBLANK(D13),ISNUMBER(D13)), OR(ISBLANK(E13),ISNUMBER(E13)), OR(ISBLANK(F13),ISNUMBER(F13)), OR(ISBLANK(G13),ISNUMBER(G13)), OR(ISBLANK(H13),ISNUMBER(H13)), IF(I$1="",TRUE,OR(ISBLANK(I13),ISNUMBER(I13))), IF(I$1="",TRUE,OR(ISBLANK(J13),ISNUMBER(J13))), IF(K$1="",TRUE,OR(ISBLANK(K13),ISNUMBER(K13))), IF(K$1="",TRUE,OR(ISBLANK(L13),ISNUMBER(L13))) )), "Nombres attendus !", AND( OR(B13="Numérateur",B13="Dénominateur"), NOT(AND( OR(ISBLANK(C13),C13=ROUND(C13,0)), OR(ISBLANK(D13),D13=ROUND(D13,0)), OR(ISBLANK(E13),E13=ROUND(E13,0)), OR(ISBLANK(F13),F13=ROUND(F13,0)), OR(ISBLANK(G13),G13=ROUND(G13,0)), OR(ISBLANK(H13),H13=ROUND(H13,0)), IF(I$1="",TRUE,OR(ISBLANK(I13),I13=ROUND(I13,0))), IF(I$1="",TRUE,OR(ISBLANK(J13),J13=ROUND(J13,0))), IF(K$1="",TRUE,OR(ISBLANK(K13),K13=ROUND(K13,0))), IF(K$1="",TRUE,OR(ISBLANK(L13),L13=ROUND(L13,0))) )) ), "Entiers attendus !", AND(B13<>"Numérateur",B13<>"Dénominateur", NOT(AND( OR(ISBLANK(C13),C13=ROUND(C13,2)), OR(ISBLANK(D13),D13=ROUND(D13,2)), OR(ISBLANK(E13),E13=ROUND(E13,2)), OR(ISBLANK(F13),F13=ROUND(F13,2)), OR(ISBLANK(G13),G13=ROUND(G13,2)), OR(ISBLANK(H13),H13=ROUND(H13,2)), IF(I$1="",TRUE,OR(ISBLANK(I13),I13=ROUND(I13,2))), IF(I$1="",TRUE,OR(ISBLANK(J13),J13=ROUND(J13,2))), IF(K$1="",TRUE,OR(ISBLANK(K13),K13=ROUND(K13,2))), IF(K$1="",TRUE,OR(ISBLANK(L13),L13=ROUND(L13,2))) ))), "Précision supérieure à 2 décimales", MIN(C13:J13)<0,"Nombres positifs attendus !", AND(B13="Dénominateur", NOT(AND( OR(ISBLANK(C13),C13>0), OR(ISBLANK(D13),D13>0), OR(ISBLANK(E13),E13>0), OR(ISBLANK(F13),F13>0), OR(ISBLANK(G13),G13>0), OR(ISBLANK(H13),H13>0), IF(I$1="",TRUE,OR(ISBLANK(I13),I13>0)), IF(I$1="",TRUE,OR(ISBLANK(J13),J13>0)), IF(K$1="",TRUE,OR(ISBLANK(K13),K13>0)), IF(K$1="",TRUE,OR(ISBLANK(L13),L13>0)) ))), "Nombres strictement positifs attendus !", IF(B13="Dénominateur", NOT(AND( OR(ISBLANK(C12),ISBLANK(C13),C13>=C12), OR(ISBLANK(D12),ISBLANK(D13),D13>=D12), OR(ISBLANK(E12),ISBLANK(E13),E13>=E12), OR(ISBLANK(F12),ISBLANK(F13),F13>=F12), OR(ISBLANK(G12),ISBLANK(G13),G13>=G12), OR(ISBLANK(H12),ISBLANK(H13),H13>=H12), IF(I$1="",TRUE,OR(ISBLANK(I12),ISBLANK(I13),I13>=I12)), IF(I$1="",TRUE,OR(ISBLANK(J12),ISBLANK(J13),J13>=J12)), IF(K$1="",TRUE,OR(ISBLANK(K12),ISBLANK(K13),K13>=K12)), IF(K$1="",TRUE,OR(ISBLANK(L12),ISBLANK(L13),L13>=L12)) )),FALSE), "Numérateur supérieur à ce dénominateur !", LEFT( IF(B13="Dénominateur",A12,A13),12) = "(Facultatif)","", IF(I$1="",COUNTBLANK(C13:H13),COUNTBLANK(C13:J13))>0, _xlfn.CONCAT("Encore ",IF(I$1="",COUNTBLANK(C13:H13),COUNTBLANK(C13:J13)), " cellule(s) requise(s)"), TRUE,"" ) -> #NAME?
A14: En cas de réapprovisionnement à froid, délai de communication d’une nouvelle route optique avec lourds travaux de génie civil – 80e centile | B14: 80e centile | C14: =IFERROR(GETPIVOTDATA("valeur",VUE_KPI_FTTH!$A$7,"codeIndicateur","v","unite","80e centile","maille","Maille OI","type_valeur","Valeurs Nettes","OC","(vide)"),VUE_KPI_FTTH!A1) -> N/A | D14: =IFERROR(GETPIVOTDATA("valeur",VUE_KPI_FTTH!$A$7,"codeIndicateur","v","unite","80e centile","maille","Maille OI","type_valeur","Valeurs Brutes","OC","(vide)"),VUE_KPI_FTTH!A1) -> 64.9 | E14: =IFERROR(GETPIVOTDATA("valeur",VUE_KPI_FTTH!$A$7,"codeIndicateur","v","unite","80e centile","maille","Maille OI (offres commercialisées sur le marché de gros activé)","type_valeur","Valeurs Nettes","OC","(vide)"),VUE_KPI_FTTH!A1) -> N/A | F14: =IFERROR(GETPIVOTDATA("valeur",VUE_KPI_FTTH!$A$7,"codeIndicateur","v","unite","80e centile","maille","Maille OI (offres commercialisées sur le marché de gros activé)","type_valeur","Valeurs Brutes","OC","(vide)"),VUE_KPI_FTTH!A1) -> N/A | G14: =IFERROR(GETPIVOTDATA("valeur",VUE_KPI_FTTH!$A$7,"codeIndicateur","v","unite","80e centile","maille","Maille OI (offres commercialisées sur le marché de détail - Autofourniture)","type_valeur","Valeurs Nettes","OC","(vide)"),VUE_KPI_FTTH!A1) -> N/A | H14: =IFERROR(GETPIVOTDATA("valeur",VUE_KPI_FTTH!$A$7,"codeIndicateur","v","unite","80e centile","maille","Maille OI (offres commercialisées sur le marché de détail - Autofourniture)","type_valeur","Valeurs Brutes","OC","(vide)"),VUE_KPI_FTTH!A1) -> 64.9 | I14: =IFERROR(GETPIVOTDATA("valeur",VUE_KPI_FTTH!$A$7,"codeIndicateur","v","unite","80e centile","maille","Maille d'appréciation","type_valeur","Valeurs Nettes","OC","(vide)"),VUE_KPI_FTTH!A1) -> N/A | J14: =IFERROR(GETPIVOTDATA("valeur",VUE_KPI_FTTH!$A$7,"codeIndicateur","v","unite","80e centile","maille","Maille d'appréciation","type_valeur","Valeurs Brutes","OC","(vide)"),VUE_KPI_FTTH!A1) -> N/A | K14: =_xlfn.IFS( OR(B14="Taux",B14=""), "", NOT(AND( OR(ISBLANK(C14),ISNUMBER(C14)), OR(ISBLANK(D14),ISNUMBER(D14)), OR(ISBLANK(E14),ISNUMBER(E14)), OR(ISBLANK(F14),ISNUMBER(F14)), OR(ISBLANK(G14),ISNUMBER(G14)), OR(ISBLANK(H14),ISNUMBER(H14)), IF(I$1="",TRUE,OR(ISBLANK(I14),ISNUMBER(I14))), IF(I$1="",TRUE,OR(ISBLANK(J14),ISNUMBER(J14))), IF(K$1="",TRUE,OR(ISBLANK(K14),ISNUMBER(K14))), IF(K$1="",TRUE,OR(ISBLANK(L14),ISNUMBER(L14))) )), "Nombres attendus !", AND( OR(B14="Numérateur",B14="Dénominateur"), NOT(AND( OR(ISBLANK(C14),C14=ROUND(C14,0)), OR(ISBLANK(D14),D14=ROUND(D14,0)), OR(ISBLANK(E14),E14=ROUND(E14,0)), OR(ISBLANK(F14),F14=ROUND(F14,0)), OR(ISBLANK(G14),G14=ROUND(G14,0)), OR(ISBLANK(H14),H14=ROUND(H14,0)), IF(I$1="",TRUE,OR(ISBLANK(I14),I14=ROUND(I14,0))), IF(I$1="",TRUE,OR(ISBLANK(J14),J14=ROUND(J14,0))), IF(K$1="",TRUE,OR(ISBLANK(K14),K14=ROUND(K14,0))), IF(K$1="",TRUE,OR(ISBLANK(L14),L14=ROUND(L14,0))) )) ), "Entiers attendus !", AND(B14<>"Numérateur",B14<>"Dénominateur", NOT(AND( OR(ISBLANK(C14),C14=ROUND(C14,2)), OR(ISBLANK(D14),D14=ROUND(D14,2)), OR(ISBLANK(E14),E14=ROUND(E14,2)), OR(ISBLANK(F14),F14=ROUND(F14,2)), OR(ISBLANK(G14),G14=ROUND(G14,2)), OR(ISBLANK(H14),H14=ROUND(H14,2)), IF(I$1="",TRUE,OR(ISBLANK(I14),I14=ROUND(I14,2))), IF(I$1="",TRUE,OR(ISBLANK(J14),J14=ROUND(J14,2))), IF(K$1="",TRUE,OR(ISBLANK(K14),K14=ROUND(K14,2))), IF(K$1="",TRUE,OR(ISBLANK(L14),L14=ROUND(L14,2))) ))), "Précision supérieure à 2 décimales", MIN(C14:J14)<0,"Nombres positifs attendus !", AND(B14="Dénominateur", NOT(AND( OR(ISBLANK(C14),C14>0), OR(ISBLANK(D14),D14>0), OR(ISBLANK(E14),E14>0), OR(ISBLANK(F14),F14>0), OR(ISBLANK(G14),G14>0), OR(ISBLANK(H14),H14>0), IF(I$1="",TRUE,OR(ISBLANK(I14),I14>0)), IF(I$1="",TRUE,OR(ISBLANK(J14),J14>0)), IF(K$1="",TRUE,OR(ISBLANK(K14),K14>0)), IF(K$1="",TRUE,OR(ISBLANK(L14),L14>0)) ))), "Nombres strictement positifs attendus !", IF(B14="Dénominateur", NOT(AND( OR(ISBLANK(C13),ISBLANK(C14),C14>=C13), OR(ISBLANK(D13),ISBLANK(D14),D14>=D13), OR(ISBLANK(E13),ISBLANK(E14),E14>=E13), OR(ISBLANK(F13),ISBLANK(F14),F14>=F13), OR(ISBLANK(G13),ISBLANK(G14),G14>=G13), OR(ISBLANK(H13),ISBLANK(H14),H14>=H13), IF(I$1="",TRUE,OR(ISBLANK(I13),ISBLANK(I14),I14>=I13)), IF(I$1="",TRUE,OR(ISBLANK(J13),ISBLANK(J14),J14>=J13)), IF(K$1="",TRUE,OR(ISBLANK(K13),ISBLANK(K14),K14>=K13)), IF(K$1="",TRUE,OR(ISBLANK(L13),ISBLANK(L14),L14>=L13)) )),FALSE), "Numérateur supérieur à ce dénominateur !", LEFT( IF(B14="Dénominateur",A13,A14),12) = "(Facultatif)","", IF(I$1="",COUNTBLANK(C14:H14),COUNTBLANK(C14:J14))>0, _xlfn.CONCAT("Encore ",IF(I$1="",COUNTBLANK(C14:H14),COUNTBLANK(C14:J14)), " cellule(s) requise(s)"), TRUE,"" ) -> #NAME?
A15: Taux de non-respect de la date de livraison du point de branchement optique (PBO) | B15: Numérateur | C15: =IFERROR(GETPIVOTDATA("valeur",VUE_KPI_FTTH!$A$7,"codeIndicateur","vi","unite","Numérateur","maille","Maille OI","type_valeur","Valeurs Nettes","OC","(vide)"),VUE_KPI_FTTH!A2) -> 0 | D15: =IFERROR(GETPIVOTDATA("valeur",VUE_KPI_FTTH!$A$7,"codeIndicateur","vi","unite","Numérateur","maille","Maille OI","type_valeur","Valeurs Brutes","OC","(vide)"),VUE_KPI_FTTH!A2) -> 0 | E15: =IFERROR(GETPIVOTDATA("valeur",VUE_KPI_FTTH!$A$7,"codeIndicateur","vi","unite","Numérateur","maille","Maille OI (offres commercialisées sur le marché de gros activé)","type_valeur","Valeurs Nettes","OC","(vide)"),VUE_KPI_FTTH!A1) -> N/A | F15: =IFERROR(GETPIVOTDATA("valeur",VUE_KPI_FTTH!$A$7,"codeIndicateur","vi","unite","Numérateur","maille","Maille OI (offres commercialisées sur le marché de gros activé)","type_valeur","Valeurs Brutes","OC","(vide)"),VUE_KPI_FTTH!A1) -> N/A | G15: =IFERROR(GETPIVOTDATA("valeur",VUE_KPI_FTTH!$A$7,"codeIndicateur","vi","unite","Numérateur","maille","Maille OI (offres commercialisées sur le marché de détail - Autofourniture)","type_valeur","Valeurs Nettes","OC","(vide)"),VUE_KPI_FTTH!A1) -> N/A | H15: =IFERROR(GETPIVOTDATA("valeur",VUE_KPI_FTTH!$A$7,"codeIndicateur","vi","unite","Numérateur","maille","Maille OI (offres commercialisées sur le marché de détail - Autofourniture)","type_valeur","Valeurs Brutes","OC","(vide)"),VUE_KPI_FTTH!A1) -> N/A | I15: =IFERROR(GETPIVOTDATA("valeur",VUE_KPI_FTTH!$A$7,"codeIndicateur","vi","unite","Numérateur","maille","Maille d'appréciation","type_valeur","Valeurs Nettes","OC","(vide)"),VUE_KPI_FTTH!A1) -> N/A | J15: =IFERROR(GETPIVOTDATA("valeur",VUE_KPI_FTTH!$A$7,"codeIndicateur","vi","unite","Numérateur","maille","Maille d'appréciation","type_valeur","Valeurs Brutes","OC","(vide)"),VUE_KPI_FTTH!A1) -> N/A | K15: =_xlfn.IFS( OR(B15="Taux",B15=""), "", NOT(AND( OR(ISBLANK(C15),ISNUMBER(C15)), OR(ISBLANK(D15),ISNUMBER(D15)), OR(ISBLANK(E15),ISNUMBER(E15)), OR(ISBLANK(F15),ISNUMBER(F15)), OR(ISBLANK(G15),ISNUMBER(G15)), OR(ISBLANK(H15),ISNUMBER(H15)), IF(I$1="",TRUE,OR(ISBLANK(I15),ISNUMBER(I15))), IF(I$1="",TRUE,OR(ISBLANK(J15),ISNUMBER(J15))), IF(K$1="",TRUE,OR(ISBLANK(K15),ISNUMBER(K15))), IF(K$1="",TRUE,OR(ISBLANK(L15),ISNUMBER(L15))) )), "Nombres attendus !", AND( OR(B15="Numérateur",B15="Dénominateur"), NOT(AND( OR(ISBLANK(C15),C15=ROUND(C15,0)), OR(ISBLANK(D15),D15=ROUND(D15,0)), OR(ISBLANK(E15),E15=ROUND(E15,0)), OR(ISBLANK(F15),F15=ROUND(F15,0)), OR(ISBLANK(G15),G15=ROUND(G15,0)), OR(ISBLANK(H15),H15=ROUND(H15,0)), IF(I$1="",TRUE,OR(ISBLANK(I15),I15=ROUND(I15,0))), IF(I$1="",TRUE,OR(ISBLANK(J15),J15=ROUND(J15,0))), IF(K$1="",TRUE,OR(ISBLANK(K15),K15=ROUND(K15,0))), IF(K$1="",TRUE,OR(ISBLANK(L15),L15=ROUND(L15,0))) )) ), "Entiers attendus !", AND(B15<>"Numérateur",B15<>"Dénominateur", NOT(AND( OR(ISBLANK(C15),C15=ROUND(C15,2)), OR(ISBLANK(D15),D15=ROUND(D15,2)), OR(ISBLANK(E15),E15=ROUND(E15,2)), OR(ISBLANK(F15),F15=ROUND(F15,2)), OR(ISBLANK(G15),G15=ROUND(G15,2)), OR(ISBLANK(H15),H15=ROUND(H15,2)), IF(I$1="",TRUE,OR(ISBLANK(I15),I15=ROUND(I15,2))), IF(I$1="",TRUE,OR(ISBLANK(J15),J15=ROUND(J15,2))), IF(K$1="",TRUE,OR(ISBLANK(K15),K15=ROUND(K15,2))), IF(K$1="",TRUE,OR(ISBLANK(L15),L15=ROUND(L15,2))) ))), "Précision supérieure à 2 décimales", MIN(C15:J15)<0,"Nombres positifs attendus !", AND(B15="Dénominateur", NOT(AND( OR(ISBLANK(C15),C15>0), OR(ISBLANK(D15),D15>0), OR(ISBLANK(E15),E15>0), OR(ISBLANK(F15),F15>0), OR(ISBLANK(G15),G15>0), OR(ISBLANK(H15),H15>0), IF(I$1="",TRUE,OR(ISBLANK(I15),I15>0)), IF(I$1="",TRUE,OR(ISBLANK(J15),J15>0)), IF(K$1="",TRUE,OR(ISBLANK(K15),K15>0)), IF(K$1="",TRUE,OR(ISBLANK(L15),L15>0)) ))), "Nombres strictement positifs attendus !", IF(B15="Dénominateur", NOT(AND( OR(ISBLANK(C14),ISBLANK(C15),C15>=C14), OR(ISBLANK(D14),ISBLANK(D15),D15>=D14), OR(ISBLANK(E14),ISBLANK(E15),E15>=E14), OR(ISBLANK(F14),ISBLANK(F15),F15>=F14), OR(ISBLANK(G14),ISBLANK(G15),G15>=G14), OR(ISBLANK(H14),ISBLANK(H15),H15>=H14), IF(I$1="",TRUE,OR(ISBLANK(I14),ISBLANK(I15),I15>=I14)), IF(I$1="",TRUE,OR(ISBLANK(J14),ISBLANK(J15),J15>=J14)), IF(K$1="",TRUE,OR(ISBLANK(K14),ISBLANK(K15),K15>=K14)), IF(K$1="",TRUE,OR(ISBLANK(L14),ISBLANK(L15),L15>=L14)) )),FALSE), "Numérateur supérieur à ce dénominateur !", LEFT( IF(B15="Dénominateur",A14,A15),12) = "(Facultatif)","", IF(I$1="",COUNTBLANK(C15:H15),COUNTBLANK(C15:J15))>0, _xlfn.CONCAT("Encore ",IF(I$1="",COUNTBLANK(C15:H15),COUNTBLANK(C15:J15)), " cellule(s) requise(s)"), TRUE,"" ) -> #NAME?
B16: Dénominateur | C16: =IFERROR(GETPIVOTDATA("valeur",VUE_KPI_FTTH!$A$7,"codeIndicateur","vi","unite","Dénominateur","maille","Maille OI","type_valeur","Valeurs Nettes","OC","(vide)"),VUE_KPI_FTTH!A2) -> 0 | D16: =IFERROR(GETPIVOTDATA("valeur",VUE_KPI_FTTH!$A$7,"codeIndicateur","vi","unite","Dénominateur","maille","Maille OI","type_valeur","Valeurs Brutes","OC","(vide)"),VUE_KPI_FTTH!A2) -> 0 | E16: =IFERROR(GETPIVOTDATA("valeur",VUE_KPI_FTTH!$A$7,"codeIndicateur","vi","unite","Dénominateur","maille","Maille OI (offres commercialisées sur le marché de gros activé)","type_valeur","Valeurs Nettes","OC","(vide)"),VUE_KPI_FTTH!A1) -> N/A | F16: =IFERROR(GETPIVOTDATA("valeur",VUE_KPI_FTTH!$A$7,"codeIndicateur","vi","unite","Dénominateur","maille","Maille OI (offres commercialisées sur le marché de gros activé)","type_valeur","Valeurs Brutes","OC","(vide)"),VUE_KPI_FTTH!A1) -> N/A | G16: =IFERROR(GETPIVOTDATA("valeur",VUE_KPI_FTTH!$A$7,"codeIndicateur","vi","unite","Dénominateur","maille","Maille OI (offres commercialisées sur le marché de détail - Autofourniture)","type_valeur","Valeurs Nettes","OC","(vide)"),VUE_KPI_FTTH!A1) -> N/A | H16: =IFERROR(GETPIVOTDATA("valeur",VUE_KPI_FTTH!$A$7,"codeIndicateur","vi","unite","Dénominateur","maille","Maille OI (offres commercialisées sur le marché de détail - Autofourniture)","type_valeur","Valeurs Brutes","OC","(vide)"),VUE_KPI_FTTH!A1) -> N/A | I16: =IFERROR(GETPIVOTDATA("valeur",VUE_KPI_FTTH!$A$7,"codeIndicateur","vi","unite","Dénominateur","maille","Maille d'appréciation","type_valeur","Valeurs Nettes","OC","(vide)"),VUE_KPI_FTTH!A1) -> N/A | J16: =IFERROR(GETPIVOTDATA("valeur",VUE_KPI_FTTH!$A$7,"codeIndicateur","vi","unite","Dénominateur","maille","Maille d'appréciation","type_valeur","Valeurs Brutes","OC","(vide)"),VUE_KPI_FTTH!A1) -> N/A | K16: =_xlfn.IFS( OR(B16="Taux",B16=""), "", NOT(AND( OR(ISBLANK(C16),ISNUMBER(C16)), OR(ISBLANK(D16),ISNUMBER(D16)), OR(ISBLANK(E16),ISNUMBER(E16)), OR(ISBLANK(F16),ISNUMBER(F16)), OR(ISBLANK(G16),ISNUMBER(G16)), OR(ISBLANK(H16),ISNUMBER(H16)), IF(I$1="",TRUE,OR(ISBLANK(I16),ISNUMBER(I16))), IF(I$1="",TRUE,OR(ISBLANK(J16),ISNUMBER(J16))), IF(K$1="",TRUE,OR(ISBLANK(K16),ISNUMBER(K16))), IF(K$1="",TRUE,OR(ISBLANK(L16),ISNUMBER(L16))) )), "Nombres attendus !", AND( OR(B16="Numérateur",B16="Dénominateur"), NOT(AND( OR(ISBLANK(C16),C16=ROUND(C16,0)), OR(ISBLANK(D16),D16=ROUND(D16,0)), OR(ISBLANK(E16),E16=ROUND(E16,0)), OR(ISBLANK(F16),F16=ROUND(F16,0)), OR(ISBLANK(G16),G16=ROUND(G16,0)), OR(ISBLANK(H16),H16=ROUND(H16,0)), IF(I$1="",TRUE,OR(ISBLANK(I16),I16=ROUND(I16,0))), IF(I$1="",TRUE,OR(ISBLANK(J16),J16=ROUND(J16,0))), IF(K$1="",TRUE,OR(ISBLANK(K16),K16=ROUND(K16,0))), IF(K$1="",TRUE,OR(ISBLANK(L16),L16=ROUND(L16,0))) )) ), "Entiers attendus !", AND(B16<>"Numérateur",B16<>"Dénominateur", NOT(AND( OR(ISBLANK(C16),C16=ROUND(C16,2)), OR(ISBLANK(D16),D16=ROUND(D16,2)), OR(ISBLANK(E16),E16=ROUND(E16,2)), OR(ISBLANK(F16),F16=ROUND(F16,2)), OR(ISBLANK(G16),G16=ROUND(G16,2)), OR(ISBLANK(H16),H16=ROUND(H16,2)), IF(I$1="",TRUE,OR(ISBLANK(I16),I16=ROUND(I16,2))), IF(I$1="",TRUE,OR(ISBLANK(J16),J16=ROUND(J16,2))), IF(K$1="",TRUE,OR(ISBLANK(K16),K16=ROUND(K16,2))), IF(K$1="",TRUE,OR(ISBLANK(L16),L16=ROUND(L16,2))) ))), "Précision supérieure à 2 décimales", MIN(C16:J16)<0,"Nombres positifs attendus !", AND(B16="Dénominateur", NOT(AND( OR(ISBLANK(C16),C16>0), OR(ISBLANK(D16),D16>0), OR(ISBLANK(E16),E16>0), OR(ISBLANK(F16),F16>0), OR(ISBLANK(G16),G16>0), OR(ISBLANK(H16),H16>0), IF(I$1="",TRUE,OR(ISBLANK(I16),I16>0)), IF(I$1="",TRUE,OR(ISBLANK(J16),J16>0)), IF(K$1="",TRUE,OR(ISBLANK(K16),K16>0)), IF(K$1="",TRUE,OR(ISBLANK(L16),L16>0)) ))), "Nombres strictement positifs attendus !", IF(B16="Dénominateur", NOT(AND( OR(ISBLANK(C15),ISBLANK(C16),C16>=C15), OR(ISBLANK(D15),ISBLANK(D16),D16>=D15), OR(ISBLANK(E15),ISBLANK(E16),E16>=E15), OR(ISBLANK(F15),ISBLANK(F16),F16>=F15), OR(ISBLANK(G15),ISBLANK(G16),G16>=G15), OR(ISBLANK(H15),ISBLANK(H16),H16>=H15), IF(I$1="",TRUE,OR(ISBLANK(I15),ISBLANK(I16),I16>=I15)), IF(I$1="",TRUE,OR(ISBLANK(J15),ISBLANK(J16),J16>=J15)), IF(K$1="",TRUE,OR(ISBLANK(K15),ISBLANK(K16),K16>=K15)), IF(K$1="",TRUE,OR(ISBLANK(L15),ISBLANK(L16),L16>=L15)) )),FALSE), "Numérateur supérieur à ce dénominateur !", LEFT( IF(B16="Dénominateur",A15,A16),12) = "(Facultatif)","", IF(I$1="",COUNTBLANK(C16:H16),COUNTBLANK(C16:J16))>0, _xlfn.CONCAT("Encore ",IF(I$1="",COUNTBLANK(C16:H16),COUNTBLANK(C16:J16)), " cellule(s) requise(s)"), TRUE,"" ) -> #NAME?
