Workbook
Name Segment_AnneeTTrimestre: #N/A

Sheet Sommaire
A1: Tableur de restitution des indicateurs de qualité de service prévus par la décision n°2020-1432
A3: Nom de l'opérateur d'infrastructure
A4: Code opérateur L.33-1 (2 à 5 caractères)
A5: Année mesurée | C5: Ex. format : 2021
A6: Mois/trimestre mesuré | C6: Ex. format : - restitution mensuelle (ex pour avril) : 4 - restitution trimestrielle : T2
A9: Contacts | B9: ROGUET Anne-Lou | C9: 01 40 47 71 43 (Indicateurs communs à tous les accès)
B10: TCHIBOUKDJIAN Victor | C10: 01 40 47 71 77 (Indicateurs spécifiques au marché entreprises)
A12: Retour du tableur | B12: QSfibre@arcep.fr | C12: Le questionnaire renseigné est à retourner au plus tard 30 jours après la fin du mois à cette adresse.
A13: Liens vers les différents onglets
B14: Guide | C14: Si la définition d'un indicateur est différente de celle indiquée dans le guide d'application et rappelée dans l'onglet "Guide", alors il est demandé de préciser et justifier ici les différences.
B15: Maille d'appréciation | C15: Il est demandé ici de lister les références NRO ou PM (en ZTD-PHD) constituant la maille d'appréciation telle que définie dans la décision
B16: Annexe 2-1 | C16: Sont à renseigner dans ces onglets les valeurs nettes (excluant le cas échéant certains cas et délais de gel) et les valeurs brutes (sans exclusion des cas et délais de gel) Pour les annexes 2-1 et 2-2, les valeurs nettes renseignées sont celles servant à déterminer le respect par l'opérateur des seuils réglementaires.
B17: Annexe 2-2
B18: Annexe 3
B19: Annexe 3 - Détail par OC
A20: Code couleur des cellules | C20: Renseigner un nombre entier
C21: Renseigner un pourcentage entre 0 et 100
C22: Renseigner un nombre arrondi à deux décimales
C23: Renseigner une chaine de caractères
C24: Pas de réponse attendue
B26: =_xlfn.IFS( ISBLANK(B3),"Nom de l'OI manquant", ISBLANK(B4),"Code de l'OI manquant", ISBLANK(B5),"Année mesurée manquantes", ISBLANK(B6),"Mois ou trimestre mesuré manquant", COUNTBLANK('Annexe 2-1'!K1:K41)+COUNTBLANK('Annexe 2-2'!K1:K24)+COUNTBLANK('Annexe 3'!I1:I39)+COUNTBLANK('Annexe 3 - Détail par OC'!M1:M40)=41+24+39+40,"", TRUE,"Il reste des erreurs dans le fichier !" ) -> #NAME?

Sheet Guide
B1: Indicateurs | C1: Définition différant du Guide d'Application | D1: Commentaire Opérateur
A2: Annexe 2-1
A3: PRODUCTION
A4: 1 | B4: Taux de signalisations sur les parcs livrés depuis moins d’un mois – responsabilité opérateur d’immeuble | C4: Numérateur :
C5: Dénominateur :
A6: 2 | B6: Taux de non-respect de la date de livraison de l’accès – mode OI | C6: Numérateur :
C7: Dénominateur :
A8: 3 | B8: Taux de commandes qui font l’objet d’un réapprovisionnement à froid | C8: Numérateur :
C9: Dénominateur :
A10: 4 | B10: En cas de réapprovisionnement à froid, délai de communication d’une nouvelle route optique sans lourds travaux de génie civil – 80e centile | C10: Définition :
A11: 5 | B11: En cas de réapprovisionnement à froid, délai de communication d’une nouvelle route optique avec lourds travaux de génie civil – 80e centile | C11: Définition :
A12: 6 | B12: Taux de non-respect de la date de livraison du point de branchement optique (PBO) | C12: Numérateur :
C13: Dénominateur :
A14: 7 | B14: Délai de livraison d’un lien PRDM-PM (première commande) – 95e centile* | C14: Définition :
A15: 8 | B15: Délai de livraison d’un lien PRDM-PM (commandes suivantes) – 95e centile* | C15: Définition :
A16: 9 | B16: Délai de livraison d’un lien PRDM-PM (toute commande) – 95e centile | C16: Définition :
A17: 10 | B17: Taux de non-respect du délai contractuel de livraison des liens PRDM-PM | C17: Numérateur :
C18: Dénominateur :
A19: SERVICE APRES-VENTE
A20: 11 | B20: Taux de non-respect du délai de rétablissement sur le segment PBO-DTIo | C20: Numérateur :
C21: Dénominateur :
A22: 12 | B22: Délai de rétablissement sur le segment PBO-DTIo – 95e centile | C22: Définition :
A23: 13 | B23: Taux de non-respect du délai de rétablissement sur le segment PM-PBO | C23: Numérateur :
C24: Dénominateur :
A25: 14 | B25: Délai de rétablissement sur le segment PM-PBO – 95e centile | C25: Définition :
A26: 15 | B26: Taux de non-respect de la garantie du temps de rétablissement 10 heures ouvrées PRDM-PM | C26: Numérateur :
C27: Dénominateur :
A28: 16 | B28: Délai moyen de rétablissement sur le segment PRDM-PM | C28: Définition :
A29: 17 | B29: Taux de signalisations sur parc (NRO-DTIO) sur une période d’un mois | C29: Numérateur :
C30: Dénominateur :
A31: 18 | B31: Taux de réitération des interruptions de services sur le segment PM-PBO | C31: Numérateur :
C32: Dénominateur :
A33: Annexe 2-2
A34: PRODUCTION
A35: 19 | B35: Taux de non respect de la date de livraison de l'accès avec GTR 4HO/HNO – mode OI | C35: Numérateur :
C36: Dénominateur :
A37: 20 | B37: Délai moyen de livraison de l'accès avec GTR 4HO/HNO – mode OI | C37: Définition :
A38: SERVICE APRES-VENTE
A39: 21 | B39: Taux de respect du délai de rétablissement | C39: Numérateur :
C40: Dénominateur :
A41: 22 | B41: Délai moyen de rétablissement des incidents GTR 10HO | C41: Définition :
A42: 23 | B42: Délai moyen de rétablissement des incidents GTR 4HO/HNO | C42: Définition :
A43: 24 | B43: Taux de respect de l'interruption maximum de services des accès GTR 10HO | C43: Numérateur :
C44: Dénominateur :
A45: 25 | B45: Taux de respect de l'interruption maximum de services des accès GTR 4HO/HNO | C45: Numérateur :
C46: Dénominateur :
A47: 26 | B47: Taux moyen d'indisponibilité du parc des accès GTR 10HO | C47: Numérateur :
C48: Dénominateur :
A49: 27 | B49: Taux moyen d'indisponibilité du parc des accès GTR 4HO/HNO | C49: Numérateur :
C50: Dénominateur :
A51: Annexe 2-3
A52: PRODUCTION
A53: 28 | B53: Taux de malfaçons du raccordement final (malfaçons constatées sur le raccordement final lorsqu'il est effectué) | C53: Numérateur :
C54: Dénominateur :
B55: (Facultatif) - Taux de malfaçons du raccordement final en mode OI | C55: Numérateur :
C56: Dénominateur :
B57: (Facultatif) - Taux de malfaçons du raccordement final en mode STOC | C57: Numérateur :
C58: Dénominateur :
A59: 29 | B59: Taux d'échec d'accès à la boucle locale optique mutualisée - cause OI | C59: Numérateur :
C60: Dénominateur :
A61: 30 | B61: Délai d'envoi du compte-rendu de sous-traitance par l'OC | C61: Définition :
A62: 31 | B62: Délai d'envoi du compte-rendu de mise en service commerciale de la ligne par l'OC | C62: Définition :
A63: 32 | B63: Taux de commande qui font l'objet d'un réapprovisionnement à chaud - Origine OI et OC | C63: Numérateur :
C64: Dénominateur :
A65: 33 | B65: Taux d'indisponibilité de l'assistance téléphonique | C65: Numérateur : | D65: Valeur nationale, tous OI (FTEL et RIPS Orange) et OC confondus
C66: Dénominateur : | D66: Valeur nationale, tous OI (FTEL et RIPS Orange) et OC confondus
A67: HEBERGEMENT
A68: 34 | B68: Taux de respect du délai contractuel de livraison de la prestation d'hébergement | C68: Numérateur :
C69: Dénominateur :
A70: 35 | B70: Taux de respect du délai contractuel d'étude de faisabilité de la réalisation de la prestation d'hébergement | C70: Numérateur :
C71: Dénominateur :
A72: SERVICE APRES-VENTE
A73: 36 | B73: Taux de signalisation effectuée à tort par un opérateur commercial | C73: Numérateur :
C74: Dénominateur :
A75: 37 | B75: Interruption maximum de services (annuelle) | C75: Définition :
A76: 38 | B76: Taux de réitération des interruptions de services sur le segment PRDM-PM | C76: Numérateur :
C77: Dénominateur :

Sheet Maille d'appréciation
A1: Maille d'appréciation : Ensemble des zones de confinancement qui remplissent les critères suivants : 1. 80% des logements ou des locaux de la zone de confinancement sont raccordables 2. Le nombre de lignes activées à excéder au moins une fois 30% de la zone de cofinancement
A3: Référence des NRO constituant la maille d'appréciation (ZMD et ZTD-PBD) | B3: Référence des PM constituant la maille d'appréciation (ZTD-PHD)

Sheet Annexe 2-1
C1: Maille OI | E1: Maille OI (offres commercialisées sur le marché de gros activé) | G1: Maille OI (offres commercialisées sur le marché de détail - Autofourniture) | I1: Maille d'appréciation
C2: Valeurs nettes | D2: Valeurs brutes | E2: Valeurs nettes | F2: Valeurs brutes | G2: Valeurs nettes | H2: Valeurs brutes | I2: Valeurs nettes | J2: Valeurs brutes
A3: PRODUCTION
A4: Taux de signalisations sur les parcs livrés depuis moins d’un mois – responsabilité opérateur d’immeuble | B4: Numérateur | C4: =IFERROR(GETPIVOTDATA("valeur",VUE_KPI_FTTH!$A$7,"codeIndicateur","i","unite","Numérateur","maille","Maille OI","type_valeur","Valeurs Nettes","OC","(vide)"),VUE_KPI_FTTH!A1) -> 0 | D4: =IFERROR(GETPIVOTDATA("valeur",VUE_KPI_FTTH!$A$7,"codeIndicateur","i","unite","Numérateur","maille","Maille OI","type_valeur","Valeurs Brutes","OC","(vide)"),VUE_KPI_FTTH!A1) -> 0 | E4: =IFERROR(GETPIVOTDATA("valeur",VUE_KPI_FTTH!$A$7,"codeIndicateur","i","unite","Numérateur","maille","Maille OI (offres commercialisées sur le marché de gros activé)","type_valeur","Valeurs Nettes","OC","(vide)"),VUE_KPI_FTTH!A1) -> N/A | F4: =IFERROR(GETPIVOTDATA("valeur",VUE_KPI_FTTH!$A$7,"codeIndicateur","i","unite","Numérateur","maille","Maille OI (offres commercialisées sur le marché de gros activé)","type_valeur","Valeurs Brutes","OC","(vide)"),VUE_KPI_FTTH!A1) -> N/A | G4: =IFERROR(GETPIVOTDATA("valeur",VUE_KPI_FTTH!$A$7,"codeIndicateur","i","unite","Numérateur","maille","Maille OI (offres commercialisées sur le marché de détail - Autofourniture)","type_valeur","Valeurs Nettes","OC","(vide)"),VUE_KPI_FTTH!A1) -> 0 | H4: =IFERROR(GETPIVOTDATA("valeur",VUE_KPI_FTTH!$A$7,"codeIndicateur","i","unite","Numérateur","maille","Maille OI (offres commercialisées sur le marché de détail - Autofourniture)","type_valeur","Valeurs Brutes","OC","(vide)"),VUE_KPI_FTTH!A1) -> 0 | I4: =IFERROR(GETPIVOTDATA("valeur",VUE_KPI_FTTH!$A$7,"codeIndicateur","i","unite","Numérateur","maille","Maille d'appréciation","type_valeur","Valeurs Nettes","OC","(vide)"),VUE_KPI_FTTH!A1) -> N/A | J4: =IFERROR(GETPIVOTDATA("valeur",VUE_KPI_FTTH!$A$7,"codeIndicateur","i","unite","Numérateur","maille","Maille d'appréciation","type_valeur","Valeurs Brutes","OC","(vide)"),VUE_KPI_FTTH!A1) -> N/A | K4: =_xlfn.IFS( OR(B4="Taux",B4=""), "", NOT(AND( OR(ISBLANK(C4),ISNUMBER(C4)), OR(ISBLANK(D4),ISNUMBER(D4)), OR(ISBLANK(E4),ISNUMBER(E4)), OR(ISBLANK(F4),ISNUMBER(F4)), OR(ISBLANK(G4),ISNUMBER(G4)), OR(ISBLANK(H4),ISNUMBER(H4)), IF(I$1="",TRUE,OR(ISBLANK(I4),ISNUMBER(I4))), IF(I$1="",TRUE,OR(ISBLANK(J4),ISNUMBER(J4))), IF(K$1="",TRUE,OR(ISBLANK(K4),ISNUMBER(K4))), IF(K$1="",TRUE,OR(ISBLANK(L4),ISNUMBER(L4))) )), "Nombres attendus !", AND( OR(B4="Numérateur",B4="Dénominateur"), NOT(AND( OR(ISBLANK(C4),C4=ROUND(C4,0)), OR(ISBLANK(D4),D4=ROUND(D4,0)), OR(ISBLANK(E4),E4=ROUND(E4,0)), OR(ISBLANK(F4),F4=ROUND(F4,0)), OR(ISBLANK(G4),G4=ROUND(G4,0)), OR(ISBLANK(H4),H4=ROUND(H4,0)), IF(I$1="",TRUE,OR(ISBLANK(I4),I4=ROUND(I4,0))), IF(I$1="",TRUE,OR(ISBLANK(J4),J4=ROUND(J4,0))), IF(K$1="",TRUE,OR(ISBLANK(K4),K4=ROUND(K4,0))), IF(K$1="",TRUE,OR(ISBLANK(L4),L4=ROUND(L4,0))) )) ), "Entiers attendus !", AND(B4<>"Numérateur",B4<>"Dénominateur", NOT(AND( OR(ISBLANK(C4),C4=ROUND(C4,2)), OR(ISBLANK(D4),D4=ROUND(D4,2)), OR(ISBLANK(E4),E4=ROUND(E4,2)), OR(ISBLANK(F4),F4=ROUND(F4,2)), OR(ISBLANK(G4),G4=ROUND(G4,2)), OR(ISBLANK(H4),H4=ROUND(H4,2)), IF(I$1="",TRUE,OR(ISBLANK(I4),I4=ROUND(I4,2))), IF(I$1="",TRUE,OR(ISBLANK(J4),J4=ROUND(J4,2))), IF(K$1="",TRUE,OR(ISBLANK(K4),K4=ROUND(K4,2))), IF(K$1="",TRUE,OR(ISBLANK(L4),L4=ROUND(L4,2))) ))), "Précision supérieure à 2 décimales", MIN(C4:J4)<0,"Nombres positifs attendus !", AND(B4="Dénominateur", NOT(AND( OR(ISBLANK(C4),C4>0), OR(ISBLANK(D4),D4>0), OR(ISBLANK(E4),E4>0), OR(ISBLANK(F4),F4>0), OR(ISBLANK(G4),G4>0), OR(ISBLANK(H4),H4>0), IF(I$1="",TRUE,OR(ISBLANK(I4),I4>0)), IF(I$1="",TRUE,OR(ISBLANK(J4),J4>0)), IF(K$1="",TRUE,OR(ISBLANK(K4),K4>0)), IF(K$1="",TRUE,OR(ISBLANK(L4),L4>0)) ))), "Nombres strictement positifs attendus !", IF(B4="Dénominateur", NOT(AND( OR(ISBLANK(C3),ISBLANK(C4),C4>=C3), OR(ISBLANK(D3),ISBLANK(D4),D4>=D3), OR(ISBLANK(E3),ISBLANK(E4),E4>=E3), OR(ISBLANK(F3),ISBLANK(F4),F4>=F3), OR(ISBLANK(G3),ISBLANK(G4),G4>=G3), OR(ISBLANK(H3),ISBLANK(H4),H4>=H3), IF(I$1="",TRUE,OR(ISBLANK(I3),ISBLANK(I4),I4>=I3)), IF(I$1="",TRUE,OR(ISBLANK(J3),ISBLANK(J4),J4>=J3)), IF(K$1="",TRUE,OR(ISBLANK(K3),ISBLANK(K4),K4>=K3)), IF(K$1="",TRUE,OR(ISBLANK(L3),ISBLANK(L4),L4>=L3)) )),FALSE), "Numérateur supérieur à ce dénominateur !", LEFT( IF(B4="Dénominateur",A3,A4),12) = "(Facultatif)","", IF(I$1="",COUNTBLANK(C4:H4),COUNTBLANK(C4:J4))>0, _xlfn.CONCAT("Encore ",IF(I$1="",COUNTBLANK(C4:H4),COUNTBLANK(C4:J4)), " cellule(s) requise(s)"), TRUE,"" ) -> #NAME?
B5: Dénominateur | C5: =IFERROR(GETPIVOTDATA("valeur",VUE_KPI_FTTH!$A$7,"codeIndicateur","i","unite","Dénominateur","maille","Maille OI","type_valeur","Valeurs Nettes","OC","(vide)"),VUE_KPI_FTTH!A1) -> 795 | D5: =IFERROR(GETPIVOTDATA("valeur",VUE_KPI_FTTH!$A$7,"codeIndicateur","i","unite","Dénominateur","maille","Maille OI","type_valeur","Valeurs Brutes","OC","(vide)"),VUE_KPI_FTTH!A1) -> 795 | E5: =IFERROR(GETPIVOTDATA("valeur",VUE_KPI_FTTH!$A$7,"codeIndicateur","i","unite","Dénominateur","maille","Maille OI (offres commercialisées sur le marché de gros activé)","type_valeur","Valeurs Nettes","OC","(vide)"),VUE_KPI_FTTH!A1) -> N/A | F5: =IFERROR(GETPIVOTDATA("valeur",VUE_KPI_FTTH!$A$7,"codeIndicateur","i","unite","Dénominateur","maille","Maille OI (offres commercialisées sur le marché de gros activé)","type_valeur","Valeurs Brutes","OC","(vide)"),VUE_KPI_FTTH!A1) -> N/A | G5: =IFERROR(GETPIVOTDATA("valeur",VUE_KPI_FTTH!$A$7,"codeIndicateur","i","unite","Dénominateur","maille","Maille OI (offres commercialisées sur le marché de détail - Autofourniture)","type_valeur","Valeurs Nettes","OC","(vide)"),VUE_KPI_FTTH!A1) -> 795 | H5: =IFERROR(GETPIVOTDATA("valeur",VUE_KPI_FTTH!$A$7,"codeIndicateur","i","unite","Dénominateur","maille","Maille OI (offres commercialisées sur le marché de détail - Autofourniture)","type_valeur","Valeurs Brutes","OC","(vide)"),VUE_KPI_FTTH!A1) -> 795 | I5: =IFERROR(GETPIVOTDATA("valeur",VUE_KPI_FTTH!$A$7,"codeIndicateur","i","unite","Dénominateur","maille","Maille d'appréciation","type_valeur","Valeurs Nettes","OC","(vide)"),VUE_KPI_FTTH!A1) -> N/A | J5: =IFERROR(GETPIVOTDATA("valeur",VUE_KPI_FTTH!$A$7,"codeIndicateur","i","unite","Dénominateur","maille","Maille d'appréciation","type_valeur","Valeurs Brutes","OC","(vide)"),VUE_KPI_FTTH!A1) -> N/A | K5: =_xlfn.IFS( OR(B5="Taux",B5=""), "", NOT(AND( OR(ISBLANK(C5),ISNUMBER(C5)), OR(ISBLANK(D5),ISNUMBER(D5)), OR(ISBLANK(E5),ISNUMBER(E5)), OR(ISBLANK(F5),ISNUMBER(F5)), OR(ISBLANK(G5),ISNUMBER(G5)), OR(ISBLANK(H5),ISNUMBER(H5)), IF(I$1="",TRUE,OR(ISBLANK(I5),ISNUMBER(I5))), IF(I$1="",TRUE,OR(ISBLANK(J5),ISNUMBER(J5))), IF(K$1="",TRUE,OR(ISBLANK(K5),ISNUMBER(K5))), IF(K$1="",TRUE,OR(ISBLANK(L5),ISNUMBER(L5))) )), "Nombres attendus !", AND( OR(B5="Numérateur",B5="Dénominateur"), NOT(AND( OR(ISBLANK(C5),C5=ROUND(C5,0)), OR(ISBLANK(D5),D5=ROUND(D5,0)), OR(ISBLANK(E5),E5=ROUND(E5,0)), OR(ISBLANK(F5),F5=ROUND(F5,0)), OR(ISBLANK(G5),G5=ROUND(G5,0)), OR(ISBLANK(H5),H5=ROUND(H5,0)), IF(I$1="",TRUE,OR(ISBLANK(I5),I5=ROUND(I5,0))), IF(I$1="",TRUE,OR(ISBLANK(J5),J5=ROUND(J5,0))), IF(K$1="",TRUE,OR(ISBLANK(K5),K5=ROUND(K5,0))), IF(K$1="",TRUE,OR(ISBLANK(L5),L5=ROUND(L5,0))) )) ), "Entiers attendus !", AND(B5<>"Numérateur",B5<>"Dénominateur", NOT(AND( OR(ISBLANK(C5),C5=ROUND(C5,2)), OR(ISBLANK(D5),D5=ROUND(D5,2)), OR(ISBLANK(E5),E5=ROUND(E5,2)), OR(ISBLANK(F5),F5=ROUND(F5,2)), OR(ISBLANK(G5),G5=ROUND(G5,2)), OR(ISBLANK(H5),H5=ROUND(H5,2)), IF(I$1="",TRUE,OR(ISBLANK(I5),I5=ROUND(I5,2))), IF(I$1="",TRUE,OR(ISBLANK(J5),J5=ROUND(J5,2))), IF(K$1="",TRUE,OR(ISBLANK(K5),K5=ROUND(K5,2))), IF(K$1="",TRUE,OR(ISBLANK(L5),L5=ROUND(L5,2))) ))), "Précision supérieure à 2 décimales", MIN(C5:J5)<0,"Nombres positifs attendus !", AND(B5="Dénominateur", NOT(AND( OR(ISBLANK(C5),C5>0), OR(ISBLANK(D5),D5>0), OR(ISBLANK(E5),E5>0), OR(ISBLANK(F5),F5>0), OR(ISBLANK(G5),G5>0), OR(ISBLANK(H5),H5>0), IF(I$1="",TRUE,OR(ISBLANK(I5),I5>0)), IF(I$1="",TRUE,OR(ISBLANK(J5),J5>0)), IF(K$1="",TRUE,OR(ISBLANK(K5),K5>0)), IF(K$1="",TRUE,OR(ISBLANK(L5),L5>0)) ))), "Nombres strictement positifs attendus !", IF(B5="Dénominateur", NOT(AND( OR(ISBLANK(C4),ISBLANK(C5),C5>=C4), OR(ISBLANK(D4),ISBLANK(D5),D5>=D4), OR(ISBLANK(E4),ISBLANK(E5),E5>=E4), OR(ISBLANK(F4),ISBLANK(F5),F5>=F4), OR(ISBLANK(G4),ISBLANK(G5),G5>=G4), OR(ISBLANK(H4),ISBLANK(H5),H5>=H4), IF(I$1="",TRUE,OR(ISBLANK(I4),ISBLANK(I5),I5>=I4)), IF(I$1="",TRUE,OR(ISBLANK(J4),ISBLANK(J5),J5>=J4)), IF(K$1="",TRUE,OR(ISBLANK(K4),ISBLANK(K5),K5>=K4)), IF(K$1="",TRUE,OR(ISBLANK(L4),ISBLANK(L5),L5>=L4)) )),FALSE), "Numérateur supérieur à ce dénominateur !", LEFT( IF(B5="Dénominateur",A4,A5),12) = "(Facultatif)","", IF(I$1="",COUNTBLANK(C5:H5),COUNTBLANK(C5:J5))>0, _xlfn.CONCAT("Encore ",IF(I$1="",COUNTBLANK(C5:H5),COUNTBLANK(C5:J5)), " cellule(s) requise(s)"), TRUE,"" ) -> #NAME?
B6: Taux | C6: =IF(OR(C5="",C5="N/A",C5="NC",C5="ND"),"",C4/C5) -> 0 | D6: =IF(OR(D5="",D5="N/A",D5="NC",D5="ND"),"",D4/D5) -> 0 | E6: =IF(OR(E5="",E5="N/A",E5="NC",E5="ND"),"",E4/E5) | F6: =IF(OR(F5="",F5="N/A",F5="NC",F5="ND"),"",F4/F5) | G6: =IF(OR(G5="",G5="N/A",G5="NC",G5="ND"),"",G4/G5) -> 0 | H6: =IF(OR(H5="",H5="N/A",H5="NC",H5="ND"),"",H4/H5) -> 0 | I6: =IF(OR(I5="",I5="N/A",I5="NC",I5="ND"),"",I4/I5) | J6: =IF(OR(J5="",J5="N/A",J5="NC",J5="ND"),"",J4/J5) | K6: =_xlfn.IFS( OR(B6="Taux",B6=""), "", NOT(AND( OR(ISBLANK(C6),ISNUMBER(C6)), OR(ISBLANK(D6),ISNUMBER(D6)), OR(ISBLANK(E6),ISNUMBER(E6)), OR(ISBLANK(F6),ISNUMBER(F6)), OR(ISBLANK(G6),ISNUMBER(G6)), OR(ISBLANK(H6),ISNUMBER(H6)), IF(I$1="",TRUE,OR(ISBLANK(I6),ISNUMBER(I6))), IF(I$1="",TRUE,OR(ISBLANK(J6),ISNUMBER(J6))), IF(K$1="",TRUE,OR(ISBLANK(K6),ISNUMBER(K6))), IF(K$1="",TRUE,OR(ISBLANK(L6),ISNUMBER(L6))) )), "Nombres attendus !", AND( OR(B6="Numérateur",B6="Dénominateur"), NOT(AND( OR(ISBLANK(C6),C6=ROUND(C6,0)), OR(ISBLANK(D6),D6=ROUND(D6,0)), OR(ISBLANK(E6),E6=ROUND(E6,0)), OR(ISBLANK(F6),F6=ROUND(F6,0)), OR(ISBLANK(G6),G6=ROUND(G6,0)), OR(ISBLANK(H6),H6=ROUND(H6,0)), IF(I$1="",TRUE,OR(ISBLANK(I6),I6=ROUND(I6,0))), IF(I$1="",TRUE,OR(ISBLANK(J6),J6=ROUND(J6,0))), IF(K$1="",TRUE,OR(ISBLANK(K6),K6=ROUND(K6,0))), IF(K$1="",TRUE,OR(ISBLANK(L6),L6=ROUND(L6,0))) )) ), "Entiers attendus !", AND(B6<>"Numérateur",B6<>"Dénominateur", NOT(AND( OR(ISBLANK(C6),C6=ROUND(C6,2)), OR(ISBLANK(D6),D6=ROUND(D6,2)), OR(ISBLANK(E6),E6=ROUND(E6,2)), OR(ISBLANK(F6),F6=ROUND(F6,2)), OR(ISBLANK(G6),G6=ROUND(G6,2)), OR(ISBLANK(H6),H6=ROUND(H6,2)), IF(I$1="",TRUE,OR(ISBLANK(I6),I6=ROUND(I6,2))), IF(I$1="",TRUE,OR(ISBLANK(J6),J6=ROUND(J6,2))), IF(K$1="",TRUE,OR(ISBLANK(K6),K6=ROUND(K6,2))), IF(K$1="",TRUE,OR(ISBLANK(L6),L6=ROUND(L6,2))) ))), "Précision supérieure à 2 décimales", MIN(C6:J6)<0,"Nombres positifs attendus !", AND(B6="Dénominateur", NOT(AND( OR(ISBLANK(C6),C6>0), OR(ISBLANK(D6),D6>0), OR(ISBLANK(E6),E6>0), OR(ISBLANK(F6),F6>0), OR(ISBLANK(G6),G6>0), OR(ISBLANK(H6),H6>0), IF(I$1="",TRUE,OR(ISBLANK(I6),I6>0)), IF(I$1="",TRUE,OR(ISBLANK(J6),J6>0)), IF(K$1="",TRUE,OR(ISBLANK(K6),K6>0)), IF(K$1="",TRUE,OR(ISBLANK(L6),L6>0)) ))), "Nombres strictement positifs attendus !", IF(B6="Dénominateur", NOT(AND( OR(ISBLANK(C5),ISBLANK(C6),C6>=C5), OR(ISBLANK(D5),ISBLANK(D6),D6>=D5), OR(ISBLANK(E5),ISBLANK(E6),E6>=E5), OR(ISBLANK(F5),ISBLANK(F6),F6>=F5), OR(ISBLANK(G5),ISBLANK(G6),G6>=G5), OR(ISBLANK(H5),ISBLANK(H6),H6>=H5), IF(I$1="",TRUE,OR(ISBLANK(I5),ISBLANK(I6),I6>=I5)), IF(I$1="",TRUE,OR(ISBLANK(J5),ISBLANK(J6),J6>=J5)), IF(K$1="",TRUE,OR(ISBLANK(K5),ISBLANK(K6),K6>=K5)), IF(K$1="",TRUE,OR(ISBLANK(L5),ISBLANK(L6),L6>=L5)) )),FALSE), "Numérateur supérieur à ce dénominateur !", LEFT( IF(B6="Dénominateur",A5,A6),12) = "(Facultatif)","", IF(I$1="",COUNTBLANK(C6:H6),COUNTBLANK(C6:J6))>0, _xlfn.CONCAT("Encore ",IF(I$1="",COUNTBLANK(C6:H6),COUNTBLANK(C6:J6)), " cellule(s) requise(s)"), TRUE,"" ) -> #NAME?
A7: Taux de non-respect de la date de livraison de l’accès – mode OI | B7: Numérateur | C7: =IFERROR(GETPIVOTDATA("valeur",VUE_KPI_FTTH!$A$7,"codeIndicateur","ii","unite","Numérateur","maille","Maille OI","type_valeur","Valeurs Nettes","OC","(vide)"),VUE_KPI_FTTH!A1) -> N/A | D7: =IFERROR(GETPIVOTDATA("valeur",VUE_KPI_FTTH!$A$7,"codeIndicateur","ii","unite","Numérateur","maille","Maille OI","type_valeur","Valeurs Brutes","OC","(vide)"),VUE_KPI_FTTH!A2) -> 0 | E7: =IFERROR(GETPIVOTDATA("valeur",VUE_KPI_FTTH!$A$7,"codeIndicateur","ii","unite","Numérateur","maille","Maille OI (offres commercialisées sur le marché de gros activé)","type_valeur","Valeurs Nettes","OC","(vide)"),VUE_KPI_FTTH!A1) -> N/A | F7: =IFERROR(GETPIVOTDATA("valeur",VUE_KPI_FTTH!$A$7,"codeIndicateur","ii","unite","Numérateur","maille","Maille OI (offres commercialisées sur le marché de gros activé)","type_valeur","Valeurs Brutes","OC","(vide)"),VUE_KPI_FTTH!A2) -> 0 | G7: =IFERROR(GETPIVOTDATA("valeur",VUE_KPI_FTTH!$A$7,"codeIndicateur","ii","unite","Numérateur","maille","Maille OI (offres commercialisées sur le marché de détail - Autofourniture)","type_valeur","Valeurs Nettes","OC","(vide)"),VUE_KPI_FTTH!A1) -> N/A | H7: =IFERROR(GETPIVOTDATA("valeur",VUE_KPI_FTTH!$A$7,"codeIndicateur","ii","unite","Numérateur","maille","Maille OI (offres commercialisées sur le marché de détail - Autofourniture)","type_valeur","Valeurs Brutes","OC","(vide)"),VUE_KPI_FTTH!A2) -> 0 | I7: =IFERROR(GETPIVOTDATA("valeur",VUE_KPI_FTTH!$A$7,"codeIndicateur","ii","unite","Numérateur","maille","Maille d'appréciation","type_valeur","Valeurs Nettes","OC","(vide)"),VUE_KPI_FTTH!A1) -> N/A | J7: =IFERROR(GETPIVOTDATA("valeur",VUE_KPI_FTTH!$A$7,"codeIndicateur","ii","unite","Numérateur","maille","Maille d'appréciation","type_valeur","Valeurs Brutes","OC","(vide)"),VUE_KPI_FTTH!A1) -> N/A | K7: =_xlfn.IFS( OR(B7="Taux",B7=""), "", NOT(AND( OR(ISBLANK(C7),ISNUMBER(C7)), OR(ISBLANK(D7),ISNUMBER(D7)), OR(ISBLANK(E7),ISNUMBER(E7)), OR(ISBLANK(F7),ISNUMBER(F7)), OR(ISBLANK(G7),ISNUMBER(G7)), OR(ISBLANK(H7),ISNUMBER(H7)), IF(I$1="",TRUE,OR(ISBLANK(I7),ISNUMBER(I7))), IF(I$1="",TRUE,OR(ISBLANK(J7),ISNUMBER(J7))), IF(K$1="",TRUE,OR(ISBLANK(K7),ISNUMBER(K7))), IF(K$1="",TRUE,OR(ISBLANK(L7),ISNUMBER(L7))) )), "Nombres attendus !", AND( OR(B7="Numérateur",B7="Dénominateur"), NOT(AND( OR(ISBLANK(C7),C7=ROUND(C7,0)), OR(ISBLANK(D7),D7=ROUND(D7,0)), OR(ISBLANK(E7),E7=ROUND(E7,0)), OR(ISBLANK(F7),F7=ROUND(F7,0)), OR(ISBLANK(G7),G7=ROUND(G7,0)), OR(ISBLANK(H7),H7=ROUND(H7,0)), IF(I$1="",TRUE,OR(ISBLANK(I7),I7=ROUND(I7,0))), IF(I$1="",TRUE,OR(ISBLANK(J7),J7=ROUND(J7,0))), IF(K$1="",TRUE,OR(ISBLANK(K7),K7=ROUND(K7,0))), IF(K$1="",TRUE,OR(ISBLANK(L7),L7=ROUND(L7,0))) )) ), "Entiers attendus !", AND(B7<>"Numérateur",B7<>"Dénominateur", NOT(AND( OR(ISBLANK(C7),C7=ROUND(C7,2)), OR(ISBLANK(D7),D7=ROUND(D7,2)), OR(ISBLANK(E7),E7=ROUND(E7,2)), OR(ISBLANK(F7),F7=ROUND(F7,2)), OR(ISBLANK(G7),G7=ROUND(G7,2)), OR(ISBLANK(H7),H7=ROUND(H7,2)), IF(I$1="",TRUE,OR(ISBLANK(I7),I7=ROUND(I7,2))), IF(I$1="",TRUE,OR(ISBLANK(J7),J7=ROUND(J7,2))), IF(K$1="",TRUE,OR(ISBLANK(K7),K7=ROUND(K7,2))), IF(K$1="",TRUE,OR(ISBLANK(L7),L7=ROUND(L7,2))) ))), "Précision supérieure à 2 décimales", MIN(C7:J7)<0,"Nombres positifs attendus !", AND(B7="Dénominateur", NOT(AND( OR(ISBLANK(C7),C7>0), OR(ISBLANK(D7),D7>0), OR(ISBLANK(E7),E7>0), OR(ISBLANK(F7),F7>0), OR(ISBLANK(G7),G7>0), OR(ISBLANK(H7),H7>0), IF(I$1="",TRUE,OR(ISBLANK(I7),I7>0)), IF(I$1="",TRUE,OR(ISBLANK(J7),J7>0)), IF(K$1="",TRUE,OR(ISBLANK(K7),K7>0)), IF(K$1="",TRUE,OR(ISBLANK(L7),L7>0)) ))), "Nombres strictement positifs attendus !", IF(B7="Dénominateur", NOT(AND( OR(ISBLANK(C6),ISBLANK(C7),C7>=C6), OR(ISBLANK(D6),ISBLANK(D7),D7>=D6), OR(ISBLANK(E6),ISBLANK(E7),E7>=E6), OR(ISBLANK(F6),ISBLANK(F7),F7>=F6), OR(ISBLANK(G6),ISBLANK(G7),G7>=G6), OR(ISBLANK(H6),ISBLANK(H7),H7>=H6), IF(I$1="",TRUE,OR(ISBLANK(I6),ISBLANK(I7),I7>=I6)), IF(I$1="",TRUE,OR(ISBLANK(J6),ISBLANK(J7),J7>=J6)), IF(K$1="",TRUE,OR(ISBLANK(K6),ISBLANK(K7),K7>=K6)), IF(K$1="",TRUE,OR(ISBLANK(L6),ISBLANK(L7),L7>=L6)) )),FALSE), "Numérateur supérieur à ce dénominateur !", LEFT( IF(B7="Dénominateur",A6,A7),12) = "(Facultatif)","", IF(I$1="",COUNTBLANK(C7:H7),COUNTBLANK(C7:J7))>0, _xlfn.CONCAT("Encore ",IF(I$1="",COUNTBLANK(C7:H7),COUNTBLANK(C7:J7)), " cellule(s) requise(s)"), TRUE,"" ) -> #NAME?
B8: Dénominateur | C8: =IFERROR(GETPIVOTDATA("valeur",VUE_KPI_FTTH!$A$7,"codeIndicateur","ii","unite","Dénominateur","maille","Maille OI","type_valeur","Valeurs Nettes","OC","(vide)"),VUE_KPI_FTTH!A1) -> N/A | D8: =IFERROR(GETPIVOTDATA("valeur",VUE_KPI_FTTH!$A$7,"codeIndicateur","ii","unite","Dénominateur","maille","Maille OI","type_valeur","Valeurs Brutes","OC","(vide)"),VUE_KPI_FTTH!A2) -> 0 | E8: =IFERROR(GETPIVOTDATA("valeur",VUE_KPI_FTTH!$A$7,"codeIndicateur","ii","unite","Dénominateur","maille","Maille OI (offres commercialisées sur le marché de gros activé)","type_valeur","Valeurs Nettes","OC","(vide)"),VUE_KPI_FTTH!A1) -> N/A | F8: =IFERROR(GETPIVOTDATA("valeur",VUE_KPI_FTTH!$A$7,"codeIndicateur","ii","unite","Dénominateur","maille","Maille OI (offres commercialisées sur le marché de gros activé)","type_valeur","Valeurs Brutes","OC","(vide)"),VUE_KPI_FTTH!A2) -> 0 | G8: =IFERROR(GETPIVOTDATA("valeur",VUE_KPI_FTTH!$A$7,"codeIndicateur","ii","unite","Dénominateur","maille","Maille OI (offres commercialisées sur le marché de détail - Autofourniture)","type_valeur","Valeurs Nettes","OC","(vide)"),VUE_KPI_FTTH!A1) -> N/A | H8: =IFERROR(GETPIVOTDATA("valeur",VUE_KPI_FTTH!$A$7,"codeIndicateur","ii","unite","Dénominateur","maille","Maille OI (offres commercialisées sur le marché de détail - Autofourniture)","type_valeur","Valeurs Brutes","OC","(vide)"),VUE_KPI_FTTH!A2) -> 0 | I8: =IFERROR(GETPIVOTDATA("valeur",VUE_KPI_FTTH!$A$7,"codeIndicateur","ii","unite","Dénominateur","maille","Maille d'appréciation","type_valeur","Valeurs Nettes","OC","(vide)"),VUE_KPI_FTTH!A1) -> N/A | J8: =IFERROR(GETPIVOTDATA("valeur",VUE_KPI_FTTH!$A$7,"codeIndicateur","ii","unite","Dénominateur","maille","Maille d'appréciation","type_valeur","Valeurs Brutes","OC","(vide)"),VUE_KPI_FTTH!A1) -> N/A | K8: =_xlfn.IFS( OR(B8="Taux",B8=""), "", NOT(AND( OR(ISBLANK(C8),ISNUMBER(C8)), OR(ISBLANK(D8),ISNUMBER(D8)), OR(ISBLANK(E8),ISNUMBER(E8)), OR(ISBLANK(F8),ISNUMBER(F8)), OR(ISBLANK(G8),ISNUMBER(G8)), OR(ISBLANK(H8),ISNUMBER(H8)), IF(I$1="",TRUE,OR(ISBLANK(I8),ISNUMBER(I8))), IF(I$1="",TRUE,OR(ISBLANK(J8),ISNUMBER(J8))), IF(K$1="",TRUE,OR(ISBLANK(K8),ISNUMBER(K8))), IF(K$1="",TRUE,OR(ISBLANK(L8),ISNUMBER(L8))) )), "Nombres attendus !", AND( OR(B8="Numérateur",B8="Dénominateur"), NOT(AND( OR(ISBLANK(C8),C8=ROUND(C8,0)), OR(ISBLANK(D8),D8=ROUND(D8,0)), OR(ISBLANK(E8),E8=ROUND(E8,0)), OR(ISBLANK(F8),F8=ROUND(F8,0)), OR(ISBLANK(G8),G8=ROUND(G8,0)), OR(ISBLANK(H8),H8=ROUND(H8,0)), IF(I$1="",TRUE,OR(ISBLANK(I8),I8=ROUND(I8,0))), IF(I$1="",TRUE,OR(ISBLANK(J8),J8=ROUND(J8,0))), IF(K$1="",TRUE,OR(ISBLANK(K8),K8=ROUND(K8,0))), IF(K$1="",TRUE,OR(ISBLANK(L8),L8=ROUND(L8,0))) )) ), "Entiers attendus !", AND(B8<>"Numérateur",B8<>"Dénominateur", NOT(AND( OR(ISBLANK(C8),C8=ROUND(C8,2)), OR(ISBLANK(D8),D8=ROUND(D8,2)), OR(ISBLANK(E8),E8=ROUND(E8,2)), OR(ISBLANK(F8),F8=ROUND(F8,2)), OR(ISBLANK(G8),G8=ROUND(G8,2)), OR(ISBLANK(H8),H8=ROUND(H8,2)), IF(I$1="",TRUE,OR(ISBLANK(I8),I8=ROUND(I8,2))), IF(I$1="",TRUE,OR(ISBLANK(J8),J8=ROUND(J8,2))), IF(K$1="",TRUE,OR(ISBLANK(K8),K8=ROUND(K8,2))), IF(K$1="",TRUE,OR(ISBLANK(L8),L8=ROUND(L8,2))) ))), "Précision supérieure à 2 décimales", MIN(C8:J8)<0,"Nombres positifs attendus !", AND(B8="Dénominateur", NOT(AND( OR(ISBLANK(C8),C8>0), OR(ISBLANK(D8),D8>0), OR(ISBLANK(E8),E8>0), OR(ISBLANK(F8),F8>0), OR(ISBLANK(G8),G8>0), OR(ISBLANK(H8),H8>0), IF(I$1="",TRUE,OR(ISBLANK(I8),I8>0)), IF(I$1="",TRUE,OR(ISBLANK(J8),J8>0)), IF(K$1="",TRUE,OR(ISBLANK(K8),K8>0)), IF(K$1="",TRUE,OR(ISBLANK(L8),L8>0)) ))), "Nombres strictement positifs attendus !", IF(B8="Dénominateur", NOT(AND( OR(ISBLANK(C7),ISBLANK(C8),C8>=C7), OR(ISBLANK(D7),ISBLANK(D8),D8>=D7), OR(ISBLANK(E7),ISBLANK(E8),E8>=E7), OR(ISBLANK(F7),ISBLANK(F8),F8>=F7), OR(ISBLANK(G7),ISBLANK(G8),G8>=G7), OR(ISBLANK(H7),ISBLANK(H8),H8>=H7), IF(I$1="",TRUE,OR(ISBLANK(I7),ISBLANK(I8),I8>=I7)), IF(I$1="",TRUE,OR(ISBLANK(J7),ISBLANK(J8),J8>=J7)), IF(K$1="",TRUE,OR(ISBLANK(K7),ISBLANK(K8),K8>=K7)), IF(K$1="",TRUE,OR(ISBLANK(L7),ISBLANK(L8),L8>=L7)) )),FALSE), "Numérateur supérieur à ce dénominateur !", LEFT( IF(B8="Dénominateur",A7,A8),12) = "(Facultatif)","", IF(I$1="",COUNTBLANK(C8:H8),COUNTBLANK(C8:J8))>0, _xlfn.CONCAT("Encore ",IF(I$1="",COUNTBLANK(C8:H8),COUNTBLANK(C8:J8)), " cellule(s) requise(s)"), TRUE,"" ) -> #NAME?
B9: Taux | C9: =IF(OR(C8="",C8="N/A",C8="NC",C8="ND"),"",C7/C8) | D9: =IF(OR(D8="",D8="N/A",D8="NC",D8="ND"),"",D7/D8) -> #DIV/0! | E9: =IF(OR(E8="",E8="N/A",E8="NC",E8="ND"),"",E7/E8) | F9: =IF(OR(F8="",F8="N/A",F8="NC",F8="ND"),"",F7/F8) -> #DIV/0! | G9: =IF(OR(G8="",G8="N/A",G8="NC",G8="ND"),"",G7/G8) | H9: =IF(OR(H8="",H8="N/A",H8="NC",H8="ND"),"",H7/H8) -> #DIV/0! | I9: =IF(OR(I8="",I8="N/A",I8="NC",I8="ND"),"",I7/I8) | J9: =IF(OR(J8="",J8="N/A",J8="NC",J8="ND"),"",J7/J8) | K9: =_xlfn.IFS( OR(B9="Taux",B9=""), "", NOT(AND( OR(ISBLANK(C9),ISNUMBER(C9)), OR(ISBLANK(D9),ISNUMBER(D9)), OR(ISBLANK(E9),ISNUMBER(E9)), OR(ISBLANK(F9),ISNUMBER(F9)), OR(ISBLANK(G9),ISNUMBER(G9)), OR(ISBLANK(H9),ISNUMBER(H9)), IF(I$1="",TRUE,OR(ISBLANK(I9),ISNUMBER(I9))), IF(I$1="",TRUE,OR(ISBLANK(J9),ISNUMBER(J9))), IF(K$1="",TRUE,OR(ISBLANK(K9),ISNUMBER(K9))), IF(K$1="",TRUE,OR(ISBLANK(L9),ISNUMBER(L9))) )), "Nombres attendus !", AND( OR(B9="Numérateur",B9="Dénominateur"), NOT(AND( OR(ISBLANK(C9),C9=ROUND(C9,0)), OR(ISBLANK(D9),D9=ROUND(D9,0)), OR(ISBLANK(E9),E9=ROUND(E9,0)), OR(ISBLANK(F9),F9=ROUND(F9,0)), OR(ISBLANK(G9),G9=ROUND(G9,0)), OR(ISBLANK(H9),H9=ROUND(H9,0)), IF(I$1="",TRUE,OR(ISBLANK(I9),I9=ROUND(I9,0))), IF(I$1="",TRUE,OR(ISBLANK(J9),J9=ROUND(J9,0))), IF(K$1="",TRUE,OR(ISBLANK(K9),K9=ROUND(K9,0))), IF(K$1="",TRUE,OR(ISBLANK(L9),L9=ROUND(L9,0))) )) ), "Entiers attendus !", AND(B9<>"Numérateur",B9<>"Dénominateur", NOT(AND( OR(ISBLANK(C9),C9=ROUND(C9,2)), OR(ISBLANK(D9),D9=ROUND(D9,2)), OR(ISBLANK(E9),E9=ROUND(E9,2)), OR(ISBLANK(F9),F9=ROUND(F9,2)), OR(ISBLANK(G9),G9=ROUND(G9,2)), OR(ISBLANK(H9),H9=ROUND(H9,2)), IF(I$1="",TRUE,OR(ISBLANK(I9),I9=ROUND(I9,2))), IF(I$1="",TRUE,OR(ISBLANK(J9),J9=ROUND(J9,2))), IF(K$1="",TRUE,OR(ISBLANK(K9),K9=ROUND(K9,2))), IF(K$1="",TRUE,OR(ISBLANK(L9),L9=ROUND(L9,2))) ))), "Précision supérieure à 2 décimales", MIN(C9:J9)<0,"Nombres positifs attendus !", AND(B9="Dénominateur", NOT(AND( OR(ISBLANK(C9),C9>0), OR(ISBLANK(D9),D9>0), OR(ISBLANK(E9),E9>0), OR(ISBLANK(F9),F9>0), OR(ISBLANK(G9),G9>0), OR(ISBLANK(H9),H9>0), IF(I$1="",TRUE,OR(ISBLANK(I9),I9>0)), IF(I$1="",TRUE,OR(ISBLANK(J9),J9>0)), IF(K$1="",TRUE,OR(ISBLANK(K9),K9>0)), IF(K$1="",TRUE,OR(ISBLANK(L9),L9>0)) ))), "Nombres strictement positifs attendus !", IF(B9="Dénominateur", NOT(AND( OR(ISBLANK(C8),ISBLANK(C9),C9>=C8), OR(ISBLANK(D8),ISBLANK(D9),D9>=D8), OR(ISBLANK(E8),ISBLANK(E9),E9>=E8), OR(ISBLANK(F8),ISBLANK(F9),F9>=F8), OR(ISBLANK(G8),ISBLANK(G9),G9>=G8), OR(ISBLANK(H8),ISBLANK(H9),H9>=H8), IF(I$1="",TRUE,OR(ISBLANK(I8),ISBLANK(I9),I9>=I8)), IF(I$1="",TRUE,OR(ISBLANK(J8),ISBLANK(J9),J9>=J8)), IF(K$1="",TRUE,OR(ISBLANK(K8),ISBLANK(K9),K9>=K8)), IF(K$1="",TRUE,OR(ISBLANK(L8),ISBLANK(L9),L9>=L8)) )),FALSE), "Numérateur supérieur à ce dénominateur !", LEFT( IF(B9="Dénominateur",A8,A9),12) = "(Facultatif)","", IF(I$1="",COUNTBLANK(C9:H9),COUNTBLANK(C9:J9))>0, _xlfn.CONCAT("Encore ",IF(I$1="",COUNTBLANK(C9:H9),COUNTBLANK(C9:J9)), " cellule(s) requise(s)"), TRUE,"" ) -> #NAME?
A10: Taux de commandes qui font l’objet d’un réapprovisionnement à froid | B10: Numérateur | C10: =IFERROR(GETPIVOTDATA("valeur",VUE_KPI_FTTH!$A$7,"codeIndicateur","iii","unite","Numérateur","maille","Maille OI","type_valeur","Valeurs Nettes","OC","(vide)"),VUE_KPI_FTTH!A1) -> N/A | D10: =IFERROR(GETPIVOTDATA("valeur",VUE_KPI_FTTH!$A$7,"codeIndicateur","iii","unite","Numérateur","maille","Maille OI","type_valeur","Valeurs Brutes","OC","(vide)"),VUE_KPI_FTTH!A2) -> 15 | E10: =IFERROR(GETPIVOTDATA("valeur",VUE_KPI_FTTH!$A$7,"codeIndicateur","iii","unite","Numérateur","maille","Maille OI (offres commercialisées sur le marché de gros activé)","type_valeur","Valeurs Nettes","OC","(vide)"),VUE_KPI_FTTH!A1) -> N/A | F10: =IFERROR(GETPIVOTDATA("valeur",VUE_KPI_FTTH!$A$7,"codeIndicateur","iii","unite","Numérateur","maille","Maille OI (offres commercialisées sur le marché de gros activé)","type_valeur","Valeurs Brutes","OC","(vide)"),VUE_KPI_FTTH!A2) -> 0 | G10: =IFERROR(GETPIVOTDATA("valeur",VUE_KPI_FTTH!$A$7,"codeIndicateur","iii","unite","Numérateur","maille","Maille OI (offres commercialisées sur le marché de détail - Autofourniture)","type_valeur","Valeurs Nettes","OC","(vide)"),VUE_KPI_FTTH!A1) -> N/A | H10: =IFERROR(GETPIVOTDATA("valeur",VUE_KPI_FTTH!$A$7,"codeIndicateur","iii","unite","Numérateur","maille","Maille OI (offres commercialisées sur le marché de détail - Autofourniture)","type_valeur","Valeurs Brutes","OC","(vide)"),VUE_KPI_FTTH!A1) -> 15 | I10: =IFERROR(GETPIVOTDATA("valeur",VUE_KPI_FTTH!$A$7,"codeIndicateur","iii","unite","Numérateur","maille","Maille d'appréciation","type_valeur","Valeurs Nettes","OC","(vide)"),VUE_KPI_FTTH!A1) -> N/A | J10: =IFERROR(GETPIVOTDATA("valeur",VUE_KPI_FTTH!$A$7,"codeIndicateur","iii","unite","Numérateur","maille","Maille d'appréciation","type_valeur","Valeurs Brutes","OC","(vide)"),VUE_KPI_FTTH!A1) -> N/A | K10: =_xlfn.IFS( OR(B10="Taux",B10=""), "", NOT(AND( OR(ISBLANK(C10),ISNUMBER(C10)), OR(ISBLANK(D10),ISNUMBER(D10)), OR(ISBLANK(E10),ISNUMBER(E10)), OR(ISBLANK(F10),ISNUMBER(F10)), OR(ISBLANK(G10),ISNUMBER(G10)), OR(ISBLANK(H10),ISNUMBER(H10)), IF(I$1="",TRUE,OR(ISBLANK(I10),ISNUMBER(I10))), IF(I$1="",TRUE,OR(ISBLANK(J10),ISNUMBER(J10))), IF(K$1="",TRUE,OR(ISBLANK(K10),ISNUMBER(K10))), IF(K$1="",TRUE,OR(ISBLANK(L10),ISNUMBER(L10))) )), "Nombres attendus !", AND( OR(B10="Numérateur",B10="Dénominateur"), NOT(AND( OR(ISBLANK(C10),C10=ROUND(C10,0)), OR(ISBLANK(D10),D10=ROUND(D10,0)), OR(ISBLANK(E10),E10=ROUND(E10,0)), OR(ISBLANK(F10),F10=ROUND(F10,0)), OR(ISBLANK(G10),G10=ROUND(G10,0)), OR(ISBLANK(H10),H10=ROUND(H10,0)), IF(I$1="",TRUE,OR(ISBLANK(I10),I10=ROUND(I10,0))), IF(I$1="",TRUE,OR(ISBLANK(J10),J10=ROUND(J10,0))), IF(K$1="",TRUE,OR(ISBLANK(K10),K10=ROUND(K10,0))), IF(K$1="",TRUE,OR(ISBLANK(L10),L10=ROUND(L10,0))) )) ), "Entiers attendus !", AND(B10<>"Numérateur",B10<>"Dénominateur", NOT(AND( OR(ISBLANK(C10),C10=ROUND(C10,2)), OR(ISBLANK(D10),D10=ROUND(D10,2)), OR(ISBLANK(E10),E10=ROUND(E10,2)), OR(ISBLANK(F10),F10=ROUND(F10,2)), OR(ISBLANK(G10),G10=ROUND(G10,2)), OR(ISBLANK(H10),H10=ROUND(H10,2)), IF(I$1="",TRUE,OR(ISBLANK(I10),I10=ROUND(I10,2))), IF(I$1="",TRUE,OR(ISBLANK(J10),J10=ROUND(J10,2))), IF(K$1="",TRUE,OR(ISBLANK(K10),K10=ROUND(K10,2))), IF(K$1="",TRUE,OR(ISBLANK(L10),L10=ROUND(L10,2))) ))), "Précision supérieure à 2 décimales", MIN(C10:J10)<0,"Nombres positifs attendus !", AND(B10="Dénominateur", NOT(AND( OR(ISBLANK(C10),C10>0), OR(ISBLANK(D10),D10>0), OR(ISBLANK(E10),E10>0), OR(ISBLANK(F10),F10>0), OR(ISBLANK(G10),G10>0), OR(ISBLANK(H10),H10>0), IF(I$1="",TRUE,OR(ISBLANK(I10),I10>0)), IF(I$1="",TRUE,OR(ISBLANK(J10),J10>0)), IF(K$1="",TRUE,OR(ISBLANK(K10),K10>0)), IF(K$1="",TRUE,OR(ISBLANK(L10),L10>0)) ))), "Nombres strictement positifs attendus !", IF(B10="Dénominateur", NOT(AND( OR(ISBLANK(C9),ISBLANK(C10),C10>=C9), OR(ISBLANK(D9),ISBLANK(D10),D10>=D9), OR(ISBLANK(E9),ISBLANK(E10),E10>=E9), OR(ISBLANK(F9),ISBLANK(F10),F10>=F9), OR(ISBLANK(G9),ISBLANK(G10),G10>=G9), OR(ISBLANK(H9),ISBLANK(H10),H10>=H9), IF(I$1="",TRUE,OR(ISBLANK(I9),ISBLANK(I10),I10>=I9)), IF(I$1="",TRUE,OR(ISBLANK(J9),ISBLANK(J10),J10>=J9)), IF(K$1="",TRUE,OR(ISBLANK(K9),ISBLANK(K10),K10>=K9)), IF(K$1="",TRUE,OR(ISBLANK(L9),ISBLANK(L10),L10>=L9)) )),FALSE), "Numérateur supérieur à ce dénominateur !", LEFT( IF(B10="Dénominateur",A9,A10),12) = "(Facultatif)","", IF(I$1="",COUNTBLANK(C10:H10),COUNTBLANK(C10:J10))>0, _xlfn.CONCAT("Encore ",IF(I$1="",COUNTBLANK(C10:H10),COUNTBLANK(C10:J10)), " cellule(s) requise(s)"), TRUE,"" ) -> #NAME?
B11: Dénominateur | C11: =IFERROR(GETPIVOTDATA("valeur",VUE_KPI_FTTH!$A$7,"codeIndicateur","iii","unite","Dénominateur","maille","Maille OI","type_valeur","Valeurs Nettes","OC","(vide)"),VUE_KPI_FTTH!A1) -> N/A | D11: =IFERROR(GETPIVOTDATA("valeur",VUE_KPI_FTTH!$A$7,"codeIndicateur","iii","unite","Dénominateur","maille","Maille OI","type_valeur","Valeurs Brutes","OC","(vide)"),VUE_KPI_FTTH!A2) -> 771 | E11: =IFERROR(GETPIVOTDATA("valeur",VUE_KPI_FTTH!$A$7,"codeIndicateur","iii","unite","Dénominateur","maille","Maille OI (offres commercialisées sur le marché de gros activé)","type_valeur","Valeurs Nettes","OC","(vide)"),VUE_KPI_FTTH!A1) -> N/A | F11: =IFERROR(GETPIVOTDATA("valeur",VUE_KPI_FTTH!$A$7,"codeIndicateur","iii","unite","Dénominateur","maille","Maille OI (offres commercialisées sur le marché de gros activé)","type_valeur","Valeurs Brutes","OC","(vide)"),VUE_KPI_FTTH!A2) -> 0 | G11: =IFERROR(GETPIVOTDATA("valeur",VUE_KPI_FTTH!$A$7,"codeIndicateur","iii","unite","Dénominateur","maille","Maille OI (offres commercialisées sur le marché de détail - Autofourniture)","type_valeur","Valeurs Nettes","OC","(vide)"),VUE_KPI_FTTH!A1) -> N/A | H11: =IFERROR(GETPIVOTDATA("valeur",VUE_KPI_FTTH!$A$7,"codeIndicateur","iii","unite","Dénominateur","maille","Maille OI (offres commercialisées sur le marché de détail - Autofourniture)","type_valeur","Valeurs Brutes","OC","(vide)"),VUE_KPI_FTTH!A1) -> 771 | I11: =IFERROR(GETPIVOTDATA("valeur",VUE_KPI_FTTH!$A$7,"codeIndicateur","iii","unite","Dénominateur","maille","Maille d'appréciation","type_valeur","Valeurs Nettes","OC","(vide)"),VUE_KPI_FTTH!A1) -> N/A | J11: =IFERROR(GETPIVOTDATA("valeur",VUE_KPI_FTTH!$A$7,"codeIndicateur","iii","unite","Dénominateur","maille","Maille d'appréciation","type_valeur","Valeurs Brutes","OC","(vide)"),VUE_KPI_FTTH!A1) -> N/A | K11: =_xlfn.IFS( OR(B11="Taux",B11=""), "", NOT(AND( OR(ISBLANK(C11),ISNUMBER(C11)), OR(ISBLANK(D11),ISNUMBER(D11)), OR(ISBLANK(E11),ISNUMBER(E11)), OR(ISBLANK(F11),ISNUMBER(F11)), OR(ISBLANK(G11),ISNUMBER(G11)), OR(ISBLANK(H11),ISNUMBER(H11)), IF(I$1="",TRUE,OR(ISBLANK(I11),ISNUMBER(I11))), IF(I$1="",TRUE,OR(ISBLANK(J11),ISNUMBER(J11))), IF(K$1="",TRUE,OR(ISBLANK(K11),ISNUMBER(K11))), IF(K$1="",TRUE,OR(ISBLANK(L11),ISNUMBER(L11))) )), "Nombres attendus !", AND( OR(B11="Numérateur",B11="Dénominateur"), NOT(AND( OR(ISBLANK(C11),C11=ROUND(C11,0)), OR(ISBLANK(D11),D11=ROUND(D11,0)), OR(ISBLANK(E11),E11=ROUND(E11,0)), OR(ISBLANK(F11),F11=ROUND(F11,0)), OR(ISBLANK(G11),G11=ROUND(G11,0)), OR(ISBLANK(H11),H11=ROUND(H11,0)), IF(I$1="",TRUE,OR(ISBLANK(I11),I11=ROUND(I11,0))), IF(I$1="",TRUE,OR(ISBLANK(J11),J11=ROUND(J11,0))), IF(K$1="",TRUE,OR(ISBLANK(K11),K11=ROUND(K11,0))), IF(K$1="",TRUE,OR(ISBLANK(L11),L11=ROUND(L11,0))) )) ), "Entiers attendus !", AND(B11<>"Numérateur",B11<>"Dénominateur", NOT(AND( OR(ISBLANK(C11),C11=ROUND(C11,2)), OR(ISBLANK(D11),D11=ROUND(D11,2)), OR(ISBLANK(E11),E11=ROUND(E11,2)), OR(ISBLANK(F11),F11=ROUND(F11,2)), OR(ISBLANK(G11),G11=ROUND(G11,2)), OR(ISBLANK(H11),H11=ROUND(H11,2)), IF(I$1="",TRUE,OR(ISBLANK(I11),I11=ROUND(I11,2))), IF(I$1="",TRUE,OR(ISBLANK(J11),J11=ROUND(J11,2))), IF(K$1="",TRUE,OR(ISBLANK(K11),K11=ROUND(K11,2))), IF(K$1="",TRUE,OR(ISBLANK(L11),L11=ROUND(L11,2))) ))), "Précision supérieure à 2 décimales", MIN(C11:J11)<0,"Nombres positifs attendus !", AND(B11="Dénominateur", NOT(AND( OR(ISBLANK(C11),C11>0), OR(ISBLANK(D11),D11>0), OR(ISBLANK(E11),E11>0), OR(ISBLANK(F11),F11>0), OR(ISBLANK(G11),G11>0), OR(ISBLANK(H11),H11>0), IF(I$1="",TRUE,OR(ISBLANK(I11),I11>0)), IF(I$1="",TRUE,OR(ISBLANK(J11),J11>0)), IF(K$1="",TRUE,OR(ISBLANK(K11),K11>0)), IF(K$1="",TRUE,OR(ISBLANK(L11),L11>0)) ))), "Nombres strictement positifs attendus !", IF(B11="Dénominateur", NOT(AND( OR(ISBLANK(C10),ISBLANK(C11),C11>=C10), OR(ISBLANK(D10),ISBLANK(D11),D11>=D10), OR(ISBLANK(E10),ISBLANK(E11),E11>=E10), OR(ISBLANK(F10),ISBLANK(F11),F11>=F10), OR(ISBLANK(G10),ISBLANK(G11),G11>=G10), OR(ISBLANK(H10),ISBLANK(H11),H11>=H10), IF(I$1="",TRUE,OR(ISBLANK(I10),ISBLANK(I11),I11>=I10)), IF(I$1="",TRUE,OR(ISBLANK(J10),ISBLANK(J11),J11>=J10)), IF(K$1="",TRUE,OR(ISBLANK(K10),ISBLANK(K11),K11>=K10)), IF(K$1="",TRUE,OR(ISBLANK(L10),ISBLANK(L11),L11>=L10)) )),FALSE), "Numérateur supérieur à ce dénominateur !", LEFT( IF(B11="Dénominateur",A10,A11),12) = "(Facultatif)","", IF(I$1="",COUNTBLANK(C11:H11),COUNTBLANK(C11:J11))>0, _xlfn.CONCAT("Encore ",IF(I$1="",COUNTBLANK(C11:H11),COUNTBLANK(C11:J11)), " cellule(s) requise(s)"), TRUE,"" ) -> #NAME?
B12: Taux | C12: =IF(OR(C11="",C11="N/A",C11="NC",C11="ND"),"",C10/C11) | D12: =IF(OR(D11="",D11="N/A",D11="NC",D11="ND"),"",D10/D11) -> 0.019455253 | E12: =IF(OR(E11="",E11="N/A",E11="NC",E11="ND"),"",E10/E11) | F12: =IF(OR(F11="",F11="N/A",F11="NC",F11="ND"),"",F10/F11) -> #DIV/0! | G12: =IF(OR(G11="",G11="N/A",G11="NC",G11="ND"),"",G10/G11) | H12: =IF(OR(H11="",H11="N/A",H11="NC",H11="ND"),"",H10/H11) -> 0.019455253 | I12: =IF(OR(I11="",I11="N/A",I11="NC",I11="ND"),"",I10/I11) | J12: =IF(OR(J11="",J11="N/A",J11="NC",J11="ND"),"",J10/J11) | K12: =_xlfn.IFS( OR(B12="Taux",B12=""), "", NOT(AND( OR(ISBLANK(C12),ISNUMBER(C12)), OR(ISBLANK(D12),ISNUMBER(D12)), OR(ISBLANK(E12),ISNUMBER(E12)), OR(ISBLANK(F12),ISNUMBER(F12)), OR(ISBLANK(G12),ISNUMBER(G12)), OR(ISBLANK(H12),ISNUMBER(H12)), IF(I$1="",TRUE,OR(ISBLANK(I12),ISNUMBER(I12))), IF(I$1="",TRUE,OR(ISBLANK(J12),ISNUMBER(J12))), IF(K$1="",TRUE,OR(ISBLANK(K12),ISNUMBER(K12))), IF(K$1="",TRUE,OR(ISBLANK(L12),ISNUMBER(L12))) )), "Nombres attendus !", AND( OR(B12="Numérateur",B12="Dénominateur"), NOT(AND( OR(ISBLANK(C12),C12=ROUND(C12,0)), OR(ISBLANK(D12),D12=ROUND(D12,0)), OR(ISBLANK(E12),E12=ROUND(E12,0)), OR(ISBLANK(F12),F12=ROUND(F12,0)), OR(ISBLANK(G12),G12=ROUND(G12,0)), OR(ISBLANK(H12),H12=ROUND(H12,0)), IF(I$1="",TRUE,OR(ISBLANK(I12),I12=ROUND(I12,0))), IF(I$1="",TRUE,OR(ISBLANK(J12),J12=ROUND(J12,0))), IF(K$1="",TRUE,OR(ISBLANK(K12),K12=ROUND(K12,0))), IF(K$1="",TRUE,OR(ISBLANK(L12),L12=ROUND(L12,0))) )) ), "Entiers attendus !", AND(B12<>"Numérateur",B12<>"Dénominateur", NOT(AND( OR(ISBLANK(C12),C12=ROUND(C12,2)), OR(ISBLANK(D12),D12=ROUND(D12,2)), OR(ISBLANK(E12),E12=ROUND(E12,2)), OR(ISBLANK(F12),F12=ROUND(F12,2)), OR(ISBLANK(G12),G12=ROUND(G12,2)), OR(ISBLANK(H12),H12=ROUND(H12,2)), IF(I$1="",TRUE,OR(ISBLANK(I12),I12=ROUND(I12,2))), IF(I$1="",TRUE,OR(ISBLANK(J12),J12=ROUND(J12,2))), IF(K$1="",TRUE,OR(ISBLANK(K12),K12=ROUND(K12,2))), IF(K$1="",TRUE,OR(ISBLANK(L12),L12=ROUND(L12,2))) ))), "Précision supérieure à 2 décimales", MIN(C12:J12)<0,"Nombres positifs attendus !", AND(B12="Dénominateur", NOT(AND( OR(ISBLANK(C12),C12>0), OR(ISBLANK(D12),D12>0), OR(ISBLANK(E12),E12>0), OR(ISBLANK(F12),F12>0), OR(ISBLANK(G12),G12>0), OR(ISBLANK(H12),H12>0), IF(I$1="",TRUE,OR(ISBLANK(I12),I12>0)), IF(I$1="",TRUE,OR(ISBLANK(J12),J12>0)), IF(K$1="",TRUE,OR(ISBLANK(K12),K12>0)), IF(K$1="",TRUE,OR(ISBLANK(L12),L12>0)) ))), "Nombres strictement positifs attendus !", IF(B12="Dénominateur", NOT(AND( OR(ISBLANK(C11),ISBLANK(C12),C12>=C11), OR(ISBLANK(D11),ISBLANK(D12),D12>=D11), OR(ISBLANK(E11),ISBLANK(E12),E12>=E11), OR(ISBLANK(F11),ISBLANK(F12),F12>=F11), OR(ISBLANK(G11),ISBLANK(G12),G12>=G11), OR(ISBLANK(H11),ISBLANK(H12),H12>=H11), IF(I$1="",TRUE,OR(ISBLANK(I11),ISBLANK(I12),I12>=I11)), IF(I$1="",TRUE,OR(ISBLANK(J11),ISBLANK(J12),J12>=J11)), IF(K$1="",TRUE,OR(ISBLANK(K11),ISBLANK(K12),K12>=K11)), IF(K$1="",TRUE,OR(ISBLANK(L11),ISBLANK(L12),L12>=L11)) )),FALSE), "Numérateur supérieur à ce dénominateur !", LEFT( IF(B12="Dénominateur",A11,A12),12) = "(Facultatif)","", IF(I$1="",COUNTBLANK(C12:H12),COUNTBLANK(C12:J12))>0, _xlfn.CONCAT("Encore ",IF(I$1="",COUNTBLANK(C12:H12),COUNTBLANK(C12:J12)), " cellule(s) requise(s)"), TRUE,"" ) -> #NAME?
A13: En cas de réapprovisionnement à froid, délai de communication d’une nouvelle route optique sans lourds travaux de génie civil – 80e centile | B13: 80e centile | C13: =IFERROR(GETPIVOTDATA("valeur",VUE_KPI_FTTH!$A$7,"codeIndicateur","iv","unite","80e centile","maille","Maille OI","type_valeur","Valeurs Nettes","OC","(vide)"),VUE_KPI_FTTH!A1) -> N/A | D13: =IFERROR(GETPIVOTDATA("valeur",VUE_KPI_FTTH!$A$7,"codeIndicateur","iv","unite","80e centile","maille","Maille OI","type_valeur","Valeurs Brutes","OC","(vide)"),VUE_KPI_FTTH!A1) -> 104.7 | E13: =IFERROR(GETPIVOTDATA("valeur",VUE_KPI_FTTH!$A$7,"codeIndicateur","iv","unite","80e centile","maille","Maille OI (offres commercialisées sur le marché de gros activé)","type_valeur","Valeurs Nettes","OC","(vide)"),VUE_KPI_FTTH!A1) -> N/A | F13: =IFERROR(GETPIVOTDATA("valeur",VUE_KPI_FTTH!$A$7,"codeIndicateur","iv","unite","80e centile","maille","Maille OI (offres commercialisées sur le marché de gros activé)","type_valeur","Valeurs Brutes","OC","(vide)"),VUE_KPI_FTTH!A1) -> N/A | G13: =IFERROR(GETPIVOTDATA("valeur",VUE_KPI_FTTH!$A$7,"codeIndicateur","iv","unite","80e centile","maille","Maille OI (offres commercialisées sur le marché de détail - Autofourniture)","type_valeur","Valeurs Nettes","OC","(vide)"),VUE_KPI_FTTH!A1) -> N/A | H13: =IFERROR(GETPIVOTDATA("valeur",VUE_KPI_FTTH!$A$7,"codeIndicateur","iv","unite","80e centile","maille","Maille OI (offres commercialisées sur le marché de détail - Autofourniture)","type_valeur","Valeurs Brutes","OC","(vide)"),VUE_KPI_FTTH!A1) -> 104.7 | I13: =IFERROR(GETPIVOTDATA("valeur",VUE_KPI_FTTH!$A$7,"codeIndicateur","iv","unite","80e centile","maille","Maille d'appréciation","type_valeur","Valeurs Nettes","OC","(vide)"),VUE_KPI_FTTH!A1) -> N/A | J13: =IFERROR(GETPIVOTDATA("valeur",VUE_KPI_FTTH!$A$7,"codeIndicateur","iv","unite","80e centile","maille","Maille d'appréciation","type_valeur","Valeurs Brutes","OC","(vide)"),VUE_KPI_FTTH!A1) -> N/A | K13: =_xlfn.IFS( OR(B13="Taux",B13=""), "", NOT(AND( OR(ISBLANK(C13),ISNUMBER(C13)), OR(ISBLANK(D13),ISNUMBER(D13)), OR(ISBLANK(E13),ISNUMBER(E13)), OR(ISBLANK(F13),ISNUMBER(F13)), OR(ISBLANK(G13),ISNUMBER(G13)), OR(ISBLANK(H13),ISNUMBER(H13)), IF(I$1="",TRUE,OR(ISBLANK(I13),ISNUMBER(I13))), IF(I$1="",TRUE,OR(ISBLANK(J13),ISNUMBER(J13))), IF(K$1="",TRUE,OR(ISBLANK(K13),ISNUMBER(K13))), IF(K$1="",TRUE,OR(ISBLANK(L13),ISNUMBER(L13))) )), "Nombres attendus !", AND( OR(B13="Numérateur",B13="Dénominateur"), NOT(AND( OR(ISBLANK(C13),C13=ROUND(C13,0)), OR(ISBLANK(D13),D13=ROUND(D13,0)), OR(ISBLANK(E13),E13=ROUND(E13,0)), OR(ISBLANK(F13),F13=ROUND(F13,0)), OR(ISBLANK(G13),G13=ROUND(G13,0)), OR(ISBLANK(H13),H13=ROUND(H13,0)), IF(I$1="",TRUE,OR(ISBLANK(I13),I13=ROUND(I13,0))), IF(I$1="",TRUE,OR(ISBLANK(J13),J13=ROUND(J13,0))), IF(K$1="",TRUE,OR(ISBLANK(K13),K13=ROUND(K13,0))), IF(K$1="",TRUE,OR(ISBLANK(L13),L13=ROUND(L13,0))) )) ), "Entiers attendus !", AND(B13<>"Numérateur",B13<>"Dénominateur", NOT(AND( OR(ISBLANK(C13),C13=ROUND(C13,2)), OR(ISBLANK(D13),D13=ROUND(D13,2)), OR(ISBLANK(E13),E13=ROUND(E13,2)), OR(ISBLANK(F13),F13=ROUND(F13,2)), OR(ISBLANK(G13),G13=ROUND(G13,2)), OR(ISBLANK(H13),H13=ROUND(H13,2)), IF(I$1="",TRUE,OR(ISBLANK(I13),I13=ROUND(I13,2))), IF(I$1="",TRUE,OR(ISBLANK(J13),J13=ROUND(J13,2))), IF(K$1="",TRUE,OR(ISBLANK(K13),K13=ROUND(K13,2))), IF(K$1="",TRUE,OR(ISBLANK(L13),L13=ROUND(L13,2))) ))), "Précision supérieure à 2 décimales", MIN(C13:J13)<0,"Nombres positifs attendus !", AND(B13="Dénominateur", NOT(AND( OR(ISBLANK(C13),C13>0), OR(ISBLANK(D13),D13>0), OR(ISBLANK(E13),E13>0), OR(ISBLANK(F13),F13>0), OR(ISBLANK(G13),G13>0), OR(ISBLANK(H13),H13>0), IF(I$1="",TRUE,OR(ISBLANK(I13),I13>0)), IF(I$1="",TRUE,OR(ISBLANK(J13),J13>0)), IF(K$1="",TRUE,OR(ISBLANK(K13),K13>0)), IF(K$1="",TRUE,OR(ISBLANK(L13),L13>0)) ))), "Nombres strictement positifs attendus !", IF(B13="Dénominateur", NOT(AND( OR(ISBLANK(C12),ISBLANK(C13),C13>=C12), OR(ISBLANK(D12),ISBLANK(D13),D13>=D12), OR(ISBLANK(E12),ISBLANK(E13),E13>=E12), OR(ISBLANK(F12),ISBLANK(F13),F13>=F12), OR(ISBLANK(G12),ISBLANK(G13),G13>=G12), OR(ISBLANK(H12),ISBLANK(H13),H13>=H12), IF(I$1="",TRUE,OR(ISBLANK(I12),ISBLANK(I13),I13>=I12)), IF(I$1="",TRUE,OR(ISBLANK(J12),ISBLANK(J13),J13>=J12)), IF(K$1="",TRUE,OR(ISBLANK(K12),ISBLANK(K13),K13>=K12)), IF(K$1="",TRUE,OR(ISBLANK(L12),ISBLANK(L13),L13>=L12)) )),FALSE), "Numérateur supérieur à ce dénominateur !", LEFT( IF(B13="Dénominateur",A12,A13),12) = "(Facultatif)","", IF(I$1="",COUNTBLANK(C13:H13),COUNTBLANK(C13:J13))>0, _xlfn.CONCAT("Encore ",IF(I$1="",COUNTBLANK(C13:H13),COUNTBLANK(C13:J13)), " cellule(s) requise(s)"), TRUE,"" ) -> #NAME?
A14: En cas de réapprovisionnement à froid, délai de communication d’une nouvelle route optique avec lourds travaux de génie civil – 80e centile | B14: 80e centile | C14: =IFERROR(GETPIVOTDATA("valeur",VUE_KPI_FTTH!$A$7,"codeIndicateur","v","unite","80e centile","maille","Maille OI","type_valeur","Valeurs Nettes","OC","(vide)"),VUE_KPI_FTTH!A1) -> N/A | D14: =IFERROR(GETPIVOTDATA("valeur",VUE_KPI_FTTH!$A$7,"codeIndicateur","v","unite","80e centile","maille","Maille OI","type_valeur","Valeurs Brutes","OC","(vide)"),VUE_KPI_FTTH!A1) -> 64.9 | E14: =IFERROR(GETPIVOTDATA("valeur",VUE_KPI_FTTH!$A$7,"codeIndicateur","v","unite","80e centile","maille","Maille OI (offres commercialisées sur le marché de gros activé)","type_valeur","Valeurs Nettes","OC","(vide)"),VUE_KPI_FTTH!A1) -> N/A | F14: =IFERROR(GETPIVOTDATA("valeur",VUE_KPI_FTTH!$A$7,"codeIndicateur","v","unite","80e centile","maille","Maille OI (offres commercialisées sur le marché de gros activé)","type_valeur","Valeurs Brutes","OC","(vide)"),VUE_KPI_FTTH!A1) -> N/A | G14: =IFERROR(GETPIVOTDATA("valeur",VUE_KPI_FTTH!$A$7,"codeIndicateur","v","unite","80e centile","maille","Maille OI (offres commercialisées sur le marché de détail - Autofourniture)","type_valeur","Valeurs Nettes","OC","(vide)"),VUE_KPI_FTTH!A1) -> N/A | H14: =IFERROR(GETPIVOTDATA("valeur",VUE_KPI_FTTH!$A$7,"codeIndicateur","v","unite","80e centile","maille","Maille OI (offres commercialisées sur le marché de détail - Autofourniture)","type_valeur","Valeurs Brutes","OC","(vide)"),VUE_KPI_FTTH!A1) -> 64.9 | I14: =IFERROR(GETPIVOTDATA("valeur",VUE_KPI_FTTH!$A$7,"codeIndicateur","v","unite","80e centile","maille","Maille d'appréciation","type_valeur","Valeurs Nettes","OC","(vide)"),VUE_KPI_FTTH!A1) -> N/A | J14: =IFERROR(GETPIVOTDATA("valeur",VUE_KPI_FTTH!$A$7,"codeIndicateur","v","unite","80e centile","maille","Maille d'appréciation","type_valeur","Valeurs Brutes","OC","(vide)"),VUE_KPI_FTTH!A1) -> N/A | K14: =_xlfn.IFS( OR(B14="Taux",B14=""), "", NOT(AND( OR(ISBLANK(C14),ISNUMBER(C14)), OR(ISBLANK(D14),ISNUMBER(D14)), OR(ISBLANK(E14),ISNUMBER(E14)), OR(ISBLANK(F14),ISNUMBER(F14)), OR(ISBLANK(G14),ISNUMBER(G14)), OR(ISBLANK(H14),ISNUMBER(H14)), IF(I$1="",TRUE,OR(ISBLANK(I14),ISNUMBER(I14))), IF(I$1="",TRUE,OR(ISBLANK(J14),ISNUMBER(J14))), IF(K$1="",TRUE,OR(ISBLANK(K14),ISNUMBER(K14))), IF(K$1="",TRUE,OR(ISBLANK(L14),ISNUMBER(L14))) )), "Nombres attendus !", AND( OR(B14="Numérateur",B14="Dénominateur"), NOT(AND( OR(ISBLANK(C14),C14=ROUND(C14,0)), OR(ISBLANK(D14),D14=ROUND(D14,0)), OR(ISBLANK(E14),E14=ROUND(E14,0)), OR(ISBLANK(F14),F14=ROUND(F14,0)), OR(ISBLANK(G14),G14=ROUND(G14,0)), OR(ISBLANK(H14),H14=ROUND(H14,0)), IF(I$1="",TRUE,OR(ISBLANK(I14),I14=ROUND(I14,0))), IF(I$1="",TRUE,OR(ISBLANK(J14),J14=ROUND(J14,0))), IF(K$1="",TRUE,OR(ISBLANK(K14),K14=ROUND(K14,0))), IF(K$1="",TRUE,OR(ISBLANK(L14),L14=ROUND(L14,0))) )) ), "Entiers attendus !", AND(B14<>"Numérateur",B14<>"Dénominateur", NOT(AND( OR(ISBLANK(C14),C14=ROUND(C14,2)), OR(ISBLANK(D14),D14=ROUND(D14,2)), OR(ISBLANK(E14),E14=ROUND(E14,2)), OR(ISBLANK(F14),F14=ROUND(F14,2)), OR(ISBLANK(G14),G14=ROUND(G14,2)), OR(ISBLANK(H14),H14=ROUND(H14,2)), IF(I$1="",TRUE,OR(ISBLANK(I14),I14=ROUND(I14,2))), IF(I$1="",TRUE,OR(ISBLANK(J14),J14=ROUND(J14,2))), IF(K$1="",TRUE,OR(ISBLANK(K14),K14=ROUND(K14,2))), IF(K$1="",TRUE,OR(ISBLANK(L14),L14=ROUND(L14,2))) ))), "Précision supérieure à 2 décimales", MIN(C14:J14)<0,"Nombres positifs attendus !", AND(B14="Dénominateur", NOT(AND( OR(ISBLANK(C14),C14>0), OR(ISBLANK(D14),D14>0), OR(ISBLANK(E14),E14>0), OR(ISBLANK(F14),F14>0), OR(ISBLANK(G14),G14>0), OR(ISBLANK(H14),H14>0), IF(I$1="",TRUE,OR(ISBLANK(I14),I14>0)), IF(I$1="",TRUE,OR(ISBLANK(J14),J14>0)), IF(K$1="",TRUE,OR(ISBLANK(K14),K14>0)), IF(K$1="",TRUE,OR(ISBLANK(L14),L14>0)) ))), "Nombres strictement positifs attendus !", IF(B14="Dénominateur", NOT(AND( OR(ISBLANK(C13),ISBLANK(C14),C14>=C13), OR(ISBLANK(D13),ISBLANK(D14),D14>=D13), OR(ISBLANK(E13),ISBLANK(E14),E14>=E13), OR(ISBLANK(F13),ISBLANK(F14),F14>=F13), OR(ISBLANK(G13),ISBLANK(G14),G14>=G13), OR(ISBLANK(H13),ISBLANK(H14),H14>=H13), IF(I$1="",TRUE,OR(ISBLANK(I13),ISBLANK(I14),I14>=I13)), IF(I$1="",TRUE,OR(ISBLANK(J13),ISBLANK(J14),J14>=J13)), IF(K$1="",TRUE,OR(ISBLANK(K13),ISBLANK(K14),K14>=K13)), IF(K$1="",TRUE,OR(ISBLANK(L13),ISBLANK(L14),L14>=L13)) )),FALSE), "Numérateur supérieur à ce dénominateur !", LEFT( IF(B14="Dénominateur",A13,A14),12) = "(Facultatif)","", IF(I$1="",COUNTBLANK(C14:H14),COUNTBLANK(C14:J14))>0, _xlfn.CONCAT("Encore ",IF(I$1="",COUNTBLANK(C14:H14),COUNTBLANK(C14:J14)), " cellule(s) requise(s)"), TRUE,"" ) -> #NAME?
A15: Taux de non-respect de la date de livraison du point de branchement optique (PBO) | B15: Numérateur | C15: =IFERROR(GETPIVOTDATA("valeur",VUE_KPI_FTTH!$A$7,"codeIndicateur","vi","unite","Numérateur","maille","Maille OI","type_valeur","Valeurs Nettes","OC","(vide)"),VUE_KPI_FTTH!A2) -> 0 | D15: =IFERROR(GETPIVOTDATA("valeur",VUE_KPI_FTTH!$A$7,"codeIndicateur","vi","unite","Numérateur","maille","Maille OI","type_valeur","Valeurs Brutes","OC","(vide)"),VUE_KPI_FTTH!A2) -> 0 | E15: =IFERROR(GETPIVOTDATA("valeur",VUE_KPI_FTTH!$A$7,"codeIndicateur","vi","unite","Numérateur","maille","Maille OI (offres commercialisées sur le marché de gros activé)","type_valeur","Valeurs Nettes","OC","(vide)"),VUE_KPI_FTTH!A1) -> N/A | F15: =IFERROR(GETPIVOTDATA("valeur",VUE_KPI_FTTH!$A$7,"codeIndicateur","vi","unite","Numérateur","maille","Maille OI (offres commercialisées sur le marché de gros activé)","type_valeur","Valeurs Brutes","OC","(vide)"),VUE_KPI_FTTH!A1) -> N/A | G15: =IFERROR(GETPIVOTDATA("valeur",VUE_KPI_FTTH!$A$7,"codeIndicateur","vi","unite","Numérateur","maille","Maille OI (offres commercialisées sur le marché de détail - Autofourniture)","type_valeur","Valeurs Nettes","OC","(vide)"),VUE_KPI_FTTH!A1) -> N/A | H15: =IFERROR(GETPIVOTDATA("valeur",VUE_KPI_FTTH!$A$7,"codeIndicateur","vi","unite","Numérateur","maille","Maille OI (offres commercialisées sur le marché de détail - Autofourniture)","type_valeur","Valeurs Brutes","OC","(vide)"),VUE_KPI_FTTH!A1) -> N/A | I15: =IFERROR(GETPIVOTDATA("valeur",VUE_KPI_FTTH!$A$7,"codeIndicateur","vi","unite","Numérateur","maille","Maille d'appréciation","type_valeur","Valeurs Nettes","OC","(vide)"),VUE_KPI_FTTH!A1) -> N/A | J15: =IFERROR(GETPIVOTDATA("valeur",VUE_KPI_FTTH!$A$7,"codeIndicateur","vi","unite","Numérateur","maille","Maille d'appréciation","type_valeur","Valeurs Brutes","OC","(vide)"),VUE_KPI_FTTH!A1) -> N/A | K15: =_xlfn.IFS( OR(B15="Taux",B15=""), "", NOT(AND( OR(ISBLANK(C15),ISNUMBER(C15)), OR(ISBLANK(D15),ISNUMBER(D15)), OR(ISBLANK(E15),ISNUMBER(E15)), OR(ISBLANK(F15),ISNUMBER(F15)), OR(ISBLANK(G15),ISNUMBER(G15)), OR(ISBLANK(H15),ISNUMBER(H15)), IF(I$1="",TRUE,OR(ISBLANK(I15),ISNUMBER(I15))), IF(I$1="",TRUE,OR(ISBLANK(J15),ISNUMBER(J15))), IF(K$1="",TRUE,OR(ISBLANK(K15),ISNUMBER(K15))), IF(K$1="",TRUE,OR(ISBLANK(L15),ISNUMBER(L15))) )), "Nombres attendus !", AND( OR(B15="Numérateur",B15="Dénominateur"), NOT(AND( OR(ISBLANK(C15),C15=ROUND(C15,0)), OR(ISBLANK(D15),D15=ROUND(D15,0)), OR(ISBLANK(E15),E15=ROUND(E15,0)), OR(ISBLANK(F15),F15=ROUND(F15,0)), OR(ISBLANK(G15),G15=ROUND(G15,0)), OR(ISBLANK(H15),H15=ROUND(H15,0)), IF(I$1="",TRUE,OR(ISBLANK(I15),I15=ROUND(I15,0))), IF(I$1="",TRUE,OR(ISBLANK(J15),J15=ROUND(J15,0))), IF(K$1="",TRUE,OR(ISBLANK(K15),K15=ROUND(K15,0))), IF(K$1="",TRUE,OR(ISBLANK(L15),L15=ROUND(L15,0))) )) ), "Entiers attendus !", AND(B15<>"Numérateur",B15<>"Dénominateur", NOT(AND( OR(ISBLANK(C15),C15=ROUND(C15,2)), OR(ISBLANK(D15),D15=ROUND(D15,2)), OR(ISBLANK(E15),E15=ROUND(E15,2)), OR(ISBLANK(F15),F15=ROUND(F15,2)), OR(ISBLANK(G15),G15=ROUND(G15,2)), OR(ISBLANK(H15),H15=ROUND(H15,2)), IF(I$1="",TRUE,OR(ISBLANK(I15),I15=ROUND(I15,2))), IF(I$1="",TRUE,OR(ISBLANK(J15),J15=ROUND(J15,2))), IF(K$1="",TRUE,OR(ISBLANK(K15),K15=ROUND(K15,2))), IF(K$1="",TRUE,OR(ISBLANK(L15),L15=ROUND(L15,2))) ))), "Précision supérieure à 2 décimales", MIN(C15:J15)<0,"Nombres positifs attendus !", AND(B15="Dénominateur", NOT(AND( OR(ISBLANK(C15),C15>0), OR(ISBLANK(D15),D15>0), OR(ISBLANK(E15),E15>0), OR(ISBLANK(F15),F15>0), OR(ISBLANK(G15),G15>0), OR(ISBLANK(H15),H15>0), IF(I$1="",TRUE,OR(ISBLANK(I15),I15>0)), IF(I$1="",TRUE,OR(ISBLANK(J15),J15>0)), IF(K$1="",TRUE,OR(ISBLANK(K15),K15>0)), IF(K$1="",TRUE,OR(ISBLANK(L15),L15>0)) ))), "Nombres strictement positifs attendus !", IF(B15="Dénominateur", NOT(AND( OR(ISBLANK(C14),ISBLANK(C15),C15>=C14), OR(ISBLANK(D14),ISBLANK(D15),D15>=D14), OR(ISBLANK(E14),ISBLANK(E15),E15>=E14), OR(ISBLANK(F14),ISBLANK(F15),F15>=F14), OR(ISBLANK(G14),ISBLANK(G15),G15>=G14), OR(ISBLANK(H14),ISBLANK(H15),H15>=H14), IF(I$1="",TRUE,OR(ISBLANK(I14),ISBLANK(I15),I15>=I14)), IF(I$1="",TRUE,OR(ISBLANK(J14),ISBLANK(J15),J15>=J14)), IF(K$1="",TRUE,OR(ISBLANK(K14),ISBLANK(K15),K15>=K14)), IF(K$1="",TRUE,OR(ISBLANK(L14),ISBLANK(L15),L15>=L14)) )),FALSE), "Numérateur supérieur à ce dénominateur !", LEFT( IF(B15="Dénominateur",A14,A15),12) = "(Facultatif)","", IF(I$1="",COUNTBLANK(C15:H15),COUNTBLANK(C15:J15))>0, _xlfn.CONCAT("Encore ",IF(I$1="",COUNTBLANK(C15:H15),COUNTBLANK(C15:J15)), " cellule(s) requise(s)"), TRUE,"" ) -> #NAME?
B16: Dénominateur | C16: =IFERROR(GETPIVOTDATA("valeur",VUE_KPI_FTTH!$A$7,"codeIndicateur","vi","unite","Dénominateur","maille","Maille OI","type_valeur","Valeurs Nettes","OC","(vide)"),VUE_KPI_FTTH!A2) -> 0 | D16: =IFERROR(GETPIVOTDATA("valeur",VUE_KPI_FTTH!$A$7,"codeIndicateur","vi","unite","Dénominateur","maille","Maille OI","type_valeur","Valeurs Brutes","OC","(vide)"),VUE_KPI_FTTH!A2) -> 0 | E16: =IFERROR(GETPIVOTDATA("valeur",VUE_KPI_FTTH!$A$7,"codeIndicateur","vi","unite","Dénominateur","maille","Maille OI (offres commercialisées sur le marché de gros activé)","type_valeur","Valeurs Nettes","OC","(vide)"),VUE_KPI_FTTH!A1) -> N/A | F16: =IFERROR(GETPIVOTDATA("valeur",VUE_KPI_FTTH!$A$7,"codeIndicateur","vi","unite","Dénominateur","maille","Maille OI (offres commercialisées sur le marché de gros activé)","type_valeur","Valeurs Brutes","OC","(vide)"),VUE_KPI_FTTH!A1) -> N/A | G16: =IFERROR(GETPIVOTDATA("valeur",VUE_KPI_FTTH!$A$7,"codeIndicateur","vi","unite","Dénominateur","maille","Maille OI (offres commercialisées sur le marché de détail - Autofourniture)","type_valeur","Valeurs Nettes","OC","(vide)"),VUE_KPI_FTTH!A1) -> N/A | H16: =IFERROR(GETPIVOTDATA("valeur",VUE_KPI_FTTH!$A$7,"codeIndicateur","vi","unite","Dénominateur","maille","Maille OI (offres commercialisées sur le marché de détail - Autofourniture)","type_valeur","Valeurs Brutes","OC","(vide)"),VUE_KPI_FTTH!A1) -> N/A | I16: =IFERROR(GETPIVOTDATA("valeur",VUE_KPI_FTTH!$A$7,"codeIndicateur","vi","unite","Dénominateur","maille","Maille d'appréciation","type_valeur","Valeurs Nettes","OC","(vide)"),VUE_KPI_FTTH!A1) -> N/A | J16: =IFERROR(GETPIVOTDATA("valeur",VUE_KPI_FTTH!$A$7,"codeIndicateur","vi","unite","Dénominateur","maille","Maille d'appréciation","type_valeur","Valeurs Brutes","OC","(vide)"),VUE_KPI_FTTH!A1) -> N/A | K16: =_xlfn.IFS( OR(B16="Taux",B16=""), "", NOT(AND( OR(ISBLANK(C16),ISNUMBER(C16)), OR(ISBLANK(D16),ISNUMBER(D16)), OR(ISBLANK(E16),ISNUMBER(E16)), OR(ISBLANK(F16),ISNUMBER(F16)), OR(ISBLANK(G16),ISNUMBER(G16)), OR(ISBLANK(H16),ISNUMBER(H16)), IF(I$1="",TRUE,OR(ISBLANK(I16),ISNUMBER(I16))), IF(I$1="",TRUE,OR(ISBLANK(J16),ISNUMBER(J16))), IF(K$1="",TRUE,OR(ISBLANK(K16),ISNUMBER(K16))), IF(K$1="",TRUE,OR(ISBLANK(L16),ISNUMBER(L16))) )), "Nombres attendus !", AND( OR(B16="Numérateur",B16="Dénominateur"), NOT(AND( OR(ISBLANK(C16),C16=ROUND(C16,0)), OR(ISBLANK(D16),D16=ROUND(D16,0)), OR(ISBLANK(E16),E16=ROUND(E16,0)), OR(ISBLANK(F16),F16=ROUND(F16,0)), OR(ISBLANK(G16),G16=ROUND(G16,0)), OR(ISBLANK(H16),H16=ROUND(H16,0)), IF(I$1="",TRUE,OR(ISBLANK(I16),I16=ROUND(I16,0))), IF(I$1="",TRUE,OR(ISBLANK(J16),J16=ROUND(J16,0))), IF(K$1="",TRUE,OR(ISBLANK(K16),K16=ROUND(K16,0))), IF(K$1="",TRUE,OR(ISBLANK(L16),L16=ROUND(L16,0))) )) ), "Entiers attendus !", AND(B16<>"Numérateur",B16<>"Dénominateur", NOT(AND( OR(ISBLANK(C16),C16=ROUND(C16,2)), OR(ISBLANK(D16),D16=ROUND(D16,2)), OR(ISBLANK(E16),E16=ROUND(E16,2)), OR(ISBLANK(F16),F16=ROUND(F16,2)), OR(ISBLANK(G16),G16=ROUND(G16,2)), OR(ISBLANK(H16),H16=ROUND(H16,2)), IF(I$1="",TRUE,OR(ISBLANK(I16),I16=ROUND(I16,2))), IF(I$1="",TRUE,OR(ISBLANK(J16),J16=ROUND(J16,2))), IF(K$1="",TRUE,OR(ISBLANK(K16),K16=ROUND(K16,2))), IF(K$1="",TRUE,OR(ISBLANK(L16),L16=ROUND(L16,2))) ))), "Précision supérieure à 2 décimales", MIN(C16:J16)<0,"Nombres positifs attendus !", AND(B16="Dénominateur", NOT(AND( OR(ISBLANK(C16),C16>0), OR(ISBLANK(D16),D16>0), OR(ISBLANK(E16),E16>0), OR(ISBLANK(F16),F16>0), OR(ISBLANK(G16),G16>0), OR(ISBLANK(H16),H16>0), IF(I$1="",TRUE,OR(ISBLANK(I16),I16>0)), IF(I$1="",TRUE,OR(ISBLANK(J16),J16>0)), IF(K$1="",TRUE,OR(ISBLANK(K16),K16>0)), IF(K$1="",TRUE,OR(ISBLANK(L16),L16>0)) ))), "Nombres strictement positifs attendus !", IF(B16="Dénominateur", NOT(AND( OR(ISBLANK(C15),ISBLANK(C16),C16>=C15), OR(ISBLANK(D15),ISBLANK(D16),D16>=D15), OR(ISBLANK(E15),ISBLANK(E16),E16>=E15), OR(ISBLANK(F15),ISBLANK(F16),F16>=F15), OR(ISBLANK(G15),ISBLANK(G16),G16>=G15), OR(ISBLANK(H15),ISBLANK(H16),H16>=H15), IF(I$1="",TRUE,OR(ISBLANK(I15),ISBLANK(I16),I16>=I15)), IF(I$1="",TRUE,OR(ISBLANK(J15),ISBLANK(J16),J16>=J15)), IF(K$1="",TRUE,OR(ISBLANK(K15),ISBLANK(K16),K16>=K15)), IF(K$1="",TRUE,OR(ISBLANK(L15),ISBLANK(L16),L16>=L15)) )),FALSE), "Numérateur supérieur à ce dénominateur !", LEFT( IF(B16="Dénominateur",A15,A16),12) = "(Facultatif)","", IF(I$1="",COUNTBLANK(C16:H16),COUNTBLANK(C16:J16))>0, _xlfn.CONCAT("Encore ",IF(I$1="",COUNTBLANK(C16:H16),COUNTBLANK(C16:J16)), " cellule(s) requise(s)"), TRUE,"" ) -> #NAME?
B17: Taux | C17: =IF(OR(C16="",C16="N/A",C16="NC",C16="ND"),"",C15/C16) -> #DIV/0! | D17: =IF(OR(D16="",D16="N/A",D16="NC",D16="ND"),"",D15/D16) -> #DIV/0! | E17: =IF(OR(E16="",E16="N/A",E16="NC",E16="ND"),"",E15/E16) | F17: =IF(OR(F16="",F16="N/A",F16="NC",F16="ND"),"",F15/F16) | G17: =IF(OR(G16="",G16="N/A",G16="NC",G16="ND"),"",G15/G16) | H17: =IF(OR(H16="",H16="N/A",H16="NC",H16="ND"),"",H15/H16) | I17: =IF(OR(I16="",I16="N/A",I16="NC",I16="ND"),"",I15/I16) | J17: =IF(OR(J16="",J16="N/A",J16="NC",J16="ND"),"",J15/J16) | K17: =_xlfn.IFS( OR(B17="Taux",B17=""), "", NOT(AND( OR(ISBLANK(C17),ISNUMBER(C17)), OR(ISBLANK(D17),ISNUMBER(D17)), OR(ISBLANK(E17),ISNUMBER(E17)), OR(ISBLANK(F17),ISNUMBER(F17)), OR(ISBLANK(G17),ISNUMBER(G17)), OR(ISBLANK(H17),ISNUMBER(H17)), IF(I$1="",TRUE,OR(ISBLANK(I17),ISNUMBER(I17))), IF(I$1="",TRUE,OR(ISBLANK(J17),ISNUMBER(J17))), IF(K$1="",TRUE,OR(ISBLANK(K17),ISNUMBER(K17))), IF(K$1="",TRUE,OR(ISBLANK(L17),ISNUMBER(L17))) )), "Nombres attendus !", AND( OR(B17="Numérateur",B17="Dénominateur"), NOT(AND( OR(ISBLANK(C17),C17=ROUND(C17,0)), OR(ISBLANK(D17),D17=ROUND(D17,0)), OR(ISBLANK(E17),E17=ROUND(E17,0)), OR(ISBLANK(F17),F17=ROUND(F17,0)), OR(ISBLANK(G17),G17=ROUND(G17,0)), OR(ISBLANK(H17),H17=ROUND(H17,0)), IF(I$1="",TRUE,OR(ISBLANK(I17),I17=ROUND(I17,0))), IF(I$1="",TRUE,OR(ISBLANK(J17),J17=ROUND(J17,0))), IF(K$1="",TRUE,OR(ISBLANK(K17),K17=ROUND(K17,0))), IF(K$1="",TRUE,OR(ISBLANK(L17),L17=ROUND(L17,0))) )) ), "Entiers attendus !", AND(B17<>"Numérateur",B17<>"Dénominateur", NOT(AND( OR(ISBLANK(C17),C17=ROUND(C17,2)), OR(ISBLANK(D17),D17=ROUND(D17,2)), OR(ISBLANK(E17),E17=ROUND(E17,2)), OR(ISBLANK(F17),F17=ROUND(F17,2)), OR(ISBLANK(G17),G17=ROUND(G17,2)), OR(ISBLANK(H17),H17=ROUND(H17,2)), IF(I$1="",TRUE,OR(ISBLANK(I17),I17=ROUND(I17,2))), IF(I$1="",TRUE,OR(ISBLANK(J17),J17=ROUND(J17,2))), IF(K$1="",TRUE,OR(ISBLANK(K17),K17=ROUND(K17,2))), IF(K$1="",TRUE,OR(ISBLANK(L17),L17=ROUND(L17,2))) ))), "Précision supérieure à 2 décimales", MIN(C17:J17)<0,"Nombres positifs attendus !", AND(B17="Dénominateur", NOT(AND( OR(ISBLANK(C17),C17>0), OR(ISBLANK(D17),D17>0), OR(ISBLANK(E17),E17>0), OR(ISBLANK(F17),F17>0), OR(ISBLANK(G17),G17>0), OR(ISBLANK(H17),H17>0), IF(I$1="",TRUE,OR(ISBLANK(I17),I17>0)), IF(I$1="",TRUE,OR(ISBLANK(J17),J17>0)), IF(K$1="",TRUE,OR(ISBLANK(K17),K17>0)), IF(K$1="",TRUE,OR(ISBLANK(L17),L17>0)) ))), "Nombres strictement positifs attendus !", IF(B17="Dénominateur", NOT(AND( OR(ISBLANK(C16),ISBLANK(C17),C17>=C16), OR(ISBLANK(D16),ISBLANK(D17),D17>=D16), OR(ISBLANK(E16),ISBLANK(E17),E17>=E16), OR(ISBLANK(F16),ISBLANK(F17),F17>=F16), OR(ISBLANK(G16),ISBLANK(G17),G17>=G16), OR(ISBLANK(H16),ISBLANK(H17),H17>=H16), IF(I$1="",TRUE,OR(ISBLANK(I16),ISBLANK(I17),I17>=I16)), IF(I$1="",TRUE,OR(ISBLANK(J16),ISBLANK(J17),J17>=J16)), IF(K$1="",TRUE,OR(ISBLANK(K16),ISBLANK(K17),K17>=K16)), IF(K$1="",TRUE,OR(ISBLANK(L16),ISBLANK(L17),L17>=L16)) )),FALSE), "Numérateur supérieur à ce dénominateur !", LEFT( IF(B17="Dénominateur",A16,A17),12) = "(Facultatif)","", IF(I$1="",COUNTBLANK(C17:H17),COUNTBLANK(C17:J17))>0, _xlfn.CONCAT("Encore ",IF(I$1="",COUNTBLANK(C17:H17),COUNTBLANK(C17:J17)), " cellule(s) requise(s)"), TRUE,"" ) -> #NAME?
A18: Délai de livraison d’un lien PRDM-PM (première commande) – 95e centile* | B18: 95e centile | C18: =IFERROR(GETPIVOTDATA("valeur",VUE_KPI_FTTH!$A$7,"codeIndicateur","vii","unite","95e centile","maille","Maille OI","type_valeur","Valeurs Nettes","OC","(vide)"),VUE_KPI_FTTH!A1) -> N/A | D18: =IFERROR(GETPIVOTDATA("valeur",VUE_KPI_FTTH!$A$7,"codeIndicateur","vii","unite","95e centile","maille","Maille OI","type_valeur","Valeurs Brutes","OC","(vide)"),VUE_KPI_FTTH!A1) -> N/A | E18: =IFERROR(GETPIVOTDATA("valeur",VUE_KPI_FTTH!$A$7,"codeIndicateur","vii","unite","95e centile","maille","Maille OI (offres commercialisées sur le marché de gros activé)","type_valeur","Valeurs Nettes","OC","(vide)"),VUE_KPI_FTTH!A1) -> N/A | F18: =IFERROR(GETPIVOTDATA("valeur",VUE_KPI_FTTH!$A$7,"codeIndicateur","vii","unite","95e centile","maille","Maille OI (offres commercialisées sur le marché de gros activé)","type_valeur","Valeurs Brutes","OC","(vide)"),VUE_KPI_FTTH!A1) -> N/A | G18: =IFERROR(GETPIVOTDATA("valeur",VUE_KPI_FTTH!$A$7,"codeIndicateur","vii","unite","95e centile","maille","Maille OI (offres commercialisées sur le marché de détail - Autofourniture)","type_valeur","Valeurs Nettes","OC","(vide)"),VUE_KPI_FTTH!A1) -> N/A | H18: =IFERROR(GETPIVOTDATA("valeur",VUE_KPI_FTTH!$A$7,"codeIndicateur","vii","unite","95e centile","maille","Maille OI (offres commercialisées sur le marché de détail - Autofourniture)","type_valeur","Valeurs Brutes","OC","(vide)"),VUE_KPI_FTTH!A1) -> N/A | I18: =IFERROR(GETPIVOTDATA("valeur",VUE_KPI_FTTH!$A$7,"codeIndicateur","vii","unite","95e centile","maille","Maille d'appréciation","type_valeur","Valeurs Nettes","OC","(vide)"),VUE_KPI_FTTH!A1) -> N/A | J18: =IFERROR(GETPIVOTDATA("valeur",VUE_KPI_FTTH!$A$7,"codeIndicateur","vii","unite","95e centile","maille","Maille d'appréciation","type_valeur","Valeurs Brutes","OC","(vide)"),VUE_KPI_FTTH!A1) -> N/A | K18: =_xlfn.IFS( OR(B18="Taux",B18=""), "", NOT(AND( OR(ISBLANK(C18),ISNUMBER(C18)), OR(ISBLANK(D18),ISNUMBER(D18)), OR(ISBLANK(E18),ISNUMBER(E18)), OR(ISBLANK(F18),ISNUMBER(F18)), OR(ISBLANK(G18),ISNUMBER(G18)), OR(ISBLANK(H18),ISNUMBER(H18)), IF(I$1="",TRUE,OR(ISBLANK(I18),ISNUMBER(I18))), IF(I$1="",TRUE,OR(ISBLANK(J18),ISNUMBER(J18))), IF(K$1="",TRUE,OR(ISBLANK(K18),ISNUMBER(K18))), IF(K$1="",TRUE,OR(ISBLANK(L18),ISNUMBER(L18))) )), "Nombres attendus !", AND( OR(B18="Numérateur",B18="Dénominateur"), NOT(AND( OR(ISBLANK(C18),C18=ROUND(C18,0)), OR(ISBLANK(D18),D18=ROUND(D18,0)), OR(ISBLANK(E18),E18=ROUND(E18,0)), OR(ISBLANK(F18),F18=ROUND(F18,0)), OR(ISBLANK(G18),G18=ROUND(G18,0)), OR(ISBLANK(H18),H18=ROUND(H18,0)), IF(I$1="",TRUE,OR(ISBLANK(I18),I18=ROUND(I18,0))), IF(I$1="",TRUE,OR(ISBLANK(J18),J18=ROUND(J18,0))), IF(K$1="",TRUE,OR(ISBLANK(K18),K18=ROUND(K18,0))), IF(K$1="",TRUE,OR(ISBLANK(L18),L18=ROUND(L18,0))) )) ), "Entiers attendus !", AND(B18<>"Numérateur",B18<>"Dénominateur", NOT(AND( OR(ISBLANK(C18),C18=ROUND(C18,2)), OR(ISBLANK(D18),D18=ROUND(D18,2)), OR(ISBLANK(E18),E18=ROUND(E18,2)), OR(ISBLANK(F18),F18=ROUND(F18,2)), OR(ISBLANK(G18),G18=ROUND(G18,2)), OR(ISBLANK(H18),H18=ROUND(H18,2)), IF(I$1="",TRUE,OR(ISBLANK(I18),I18=ROUND(I18,2))), IF(I$1="",TRUE,OR(ISBLANK(J18),J18=ROUND(J18,2))), IF(K$1="",TRUE,OR(ISBLANK(K18),K18=ROUND(K18,2))), IF(K$1="",TRUE,OR(ISBLANK(L18),L18=ROUND(L18,2))) ))), "Précision supérieure à 2 décimales", MIN(C18:J18)<0,"Nombres positifs attendus !", AND(B18="Dénominateur", NOT(AND( OR(ISBLANK(C18),C18>0), OR(ISBLANK(D18),D18>0), OR(ISBLANK(E18),E18>0), OR(ISBLANK(F18),F18>0), OR(ISBLANK(G18),G18>0), OR(ISBLANK(H18),H18>0), IF(I$1="",TRUE,OR(ISBLANK(I18),I18>0)), IF(I$1="",TRUE,OR(ISBLANK(J18),J18>0)), IF(K$1="",TRUE,OR(ISBLANK(K18),K18>0)), IF(K$1="",TRUE,OR(ISBLANK(L18),L18>0)) ))), "Nombres strictement positifs attendus !", IF(B18="Dénominateur", NOT(AND( OR(ISBLANK(C17),ISBLANK(C18),C18>=C17), OR(ISBLANK(D17),ISBLANK(D18),D18>=D17), OR(ISBLANK(E17),ISBLANK(E18),E18>=E17), OR(ISBLANK(F17),ISBLANK(F18),F18>=F17), OR(ISBLANK(G17),ISBLANK(G18),G18>=G17), OR(ISBLANK(H17),ISBLANK(H18),H18>=H17), IF(I$1="",TRUE,OR(ISBLANK(I17),ISBLANK(I18),I18>=I17)), IF(I$1="",TRUE,OR(ISBLANK(J17),ISBLANK(J18),J18>=J17)), IF(K$1="",TRUE,OR(ISBLANK(K17),ISBLANK(K18),K18>=K17)), IF(K$1="",TRUE,OR(ISBLANK(L17),ISBLANK(L18),L18>=L17)) )),FALSE), "Numérateur supérieur à ce dénominateur !", LEFT( IF(B18="Dénominateur",A17,A18),12) = "(Facultatif)","", IF(I$1="",COUNTBLANK(C18:H18),COUNTBLANK(C18:J18))>0, _xlfn.CONCAT("Encore ",IF(I$1="",COUNTBLANK(C18:H18),COUNTBLANK(C18:J18)), " cellule(s) requise(s)"), TRUE,"" ) -> #NAME?
A19: Délai de livraison d’un lien PRDM-PM (commandes suivantes) – 95e centile* | B19: 95e centile | C19: =IFERROR(GETPIVOTDATA("valeur",VUE_KPI_FTTH!$A$7,"codeIndicateur","viii","unite","95e centile","maille","Maille OI","type_valeur","Valeurs Nettes","OC","(vide)"),VUE_KPI_FTTH!A1) -> N/A | D19: =IFERROR(GETPIVOTDATA("valeur",VUE_KPI_FTTH!$A$7,"codeIndicateur","viii","unite","95e centile","maille","Maille OI","type_valeur","Valeurs Brutes","OC","(vide)"),VUE_KPI_FTTH!A1) -> N/A | E19: =IFERROR(GETPIVOTDATA("valeur",VUE_KPI_FTTH!$A$7,"codeIndicateur","viii","unite","95e centile","maille","Maille OI (offres commercialisées sur le marché de gros activé)","type_valeur","Valeurs Nettes","OC","(vide)"),VUE_KPI_FTTH!A1) -> N/A | F19: =IFERROR(GETPIVOTDATA("valeur",VUE_KPI_FTTH!$A$7,"codeIndicateur","viii","unite","95e centile","maille","Maille OI (offres commercialisées sur le marché de gros activé)","type_valeur","Valeurs Brutes","OC","(vide)"),VUE_KPI_FTTH!A1) -> N/A | G19: =IFERROR(GETPIVOTDATA("valeur",VUE_KPI_FTTH!$A$7,"codeIndicateur","viii","unite","95e centile","maille","Maille OI (offres commercialisées sur le marché de détail - Autofourniture)","type_valeur","Valeurs Nettes","OC","(vide)"),VUE_KPI_FTTH!A1) -> N/A | H19: =IFERROR(GETPIVOTDATA("valeur",VUE_KPI_FTTH!$A$7,"codeIndicateur","viii","unite","95e centile","maille","Maille OI (offres commercialisées sur le marché de détail - Autofourniture)","type_valeur","Valeurs Brutes","OC","(vide)"),VUE_KPI_FTTH!A1) -> 42 | I19: =IFERROR(GETPIVOTDATA("valeur",VUE_KPI_FTTH!$A$7,"codeIndicateur","viii","unite","95e centile","maille","Maille d'appréciation","type_valeur","Valeurs Nettes","OC","(vide)"),VUE_KPI_FTTH!A1) -> N/A | J19: =IFERROR(GETPIVOTDATA("valeur",VUE_KPI_FTTH!$A$7,"codeIndicateur","viii","unite","95e centile","maille","Maille d'appréciation","type_valeur","Valeurs Brutes","OC","(vide)"),VUE_KPI_FTTH!A1) -> N/A | K19: =_xlfn.IFS( OR(B19="Taux",B19=""), "", NOT(AND( OR(ISBLANK(C19),ISNUMBER(C19)), OR(ISBLANK(D19),ISNUMBER(D19)), OR(ISBLANK(E19),ISNUMBER(E19)), OR(ISBLANK(F19),ISNUMBER(F19)), OR(ISBLANK(G19),ISNUMBER(G19)), OR(ISBLANK(H19),ISNUMBER(H19)), IF(I$1="",TRUE,OR(ISBLANK(I19),ISNUMBER(I19))), IF(I$1="",TRUE,OR(ISBLANK(J19),ISNUMBER(J19))), IF(K$1="",TRUE,OR(ISBLANK(K19),ISNUMBER(K19))), IF(K$1="",TRUE,OR(ISBLANK(L19),ISNUMBER(L19))) )), "Nombres attendus !", AND( OR(B19="Numérateur",B19="Dénominateur"), NOT(AND( OR(ISBLANK(C19),C19=ROUND(C19,0)), OR(ISBLANK(D19),D19=ROUND(D19,0)), OR(ISBLANK(E19),E19=ROUND(E19,0)), OR(ISBLANK(F19),F19=ROUND(F19,0)), OR(ISBLANK(G19),G19=ROUND(G19,0)), OR(ISBLANK(H19),H19=ROUND(H19,0)), IF(I$1="",TRUE,OR(ISBLANK(I19),I19=ROUND(I19,0))), IF(I$1="",TRUE,OR(ISBLANK(J19),J19=ROUND(J19,0))), IF(K$1="",TRUE,OR(ISBLANK(K19),K19=ROUND(K19,0))), IF(K$1="",TRUE,OR(ISBLANK(L19),L19=ROUND(L19,0))) )) ), "Entiers attendus !", AND(B19<>"Numérateur",B19<>"Dénominateur", NOT(AND( OR(ISBLANK(C19),C19=ROUND(C19,2)), OR(ISBLANK(D19),D19=ROUND(D19,2)), OR(ISBLANK(E19),E19=ROUND(E19,2)), OR(ISBLANK(F19),F19=ROUND(F19,2)), OR(ISBLANK(G19),G19=ROUND(G19,2)), OR(ISBLANK(H19),H19=ROUND(H19,2)), IF(I$1="",TRUE,OR(ISBLANK(I19),I19=ROUND(I19,2))), IF(I$1="",TRUE,OR(ISBLANK(J19),J19=ROUND(J19,2))), IF(K$1="",TRUE,OR(ISBLANK(K19),K19=ROUND(K19,2))), IF(K$1="",TRUE,OR(ISBLANK(L19),L19=ROUND(L19,2))) ))), "Précision supérieure à 2 décimales", MIN(C19:J19)<0,"Nombres positifs attendus !", AND(B19="Dénominateur", NOT(AND( OR(ISBLANK(C19),C19>0), OR(ISBLANK(D19),D19>0), OR(ISBLANK(E19),E19>0), OR(ISBLANK(F19),F19>0), OR(ISBLANK(G19),G19>0), OR(ISBLANK(H19),H19>0), IF(I$1="",TRUE,OR(ISBLANK(I19),I19>0)), IF(I$1="",TRUE,OR(ISBLANK(J19),J19>0)), IF(K$1="",TRUE,OR(ISBLANK(K19),K19>0)), IF(K$1="",TRUE,OR(ISBLANK(L19),L19>0)) ))), "Nombres strictement positifs attendus !", IF(B19="Dénominateur", NOT(AND( OR(ISBLANK(C18),ISBLANK(C19),C19>=C18), OR(ISBLANK(D18),ISBLANK(D19),D19>=D18), OR(ISBLANK(E18),ISBLANK(E19),E19>=E18), OR(ISBLANK(F18),ISBLANK(F19),F19>=F18), OR(ISBLANK(G18),ISBLANK(G19),G19>=G18), OR(ISBLANK(H18),ISBLANK(H19),H19>=H18), IF(I$1="",TRUE,OR(ISBLANK(I18),ISBLANK(I19),I19>=I18)), IF(I$1="",TRUE,OR(ISBLANK(J18),ISBLANK(J19),J19>=J18)), IF(K$1="",TRUE,OR(ISBLANK(K18),ISBLANK(K19),K19>=K18)), IF(K$1="",TRUE,OR(ISBLANK(L18),ISBLANK(L19),L19>=L18)) )),FALSE), "Numérateur supérieur à ce dénominateur !", LEFT( IF(B19="Dénominateur",A18,A19),12) = "(Facultatif)","", IF(I$1="",COUNTBLANK(C19:H19),COUNTBLANK(C19:J19))>0, _xlfn.CONCAT("Encore ",IF(I$1="",COUNTBLANK(C19:H19),COUNTBLANK(C19:J19)), " cellule(s) requise(s)"), TRUE,"" ) -> #NAME?
A20: Délai de livraison d’un lien PRDM-PM (toute commande) – 95e centile | B20: 95e centile | C20: =IFERROR(GETPIVOTDATA("valeur",VUE_KPI_FTTH!$A$7,"codeIndicateur","ix","unite","95e centile","maille","Maille OI","type_valeur","Valeurs Nettes","OC","(vide)"),VUE_KPI_FTTH!A1) -> N/A | D20: =IFERROR(GETPIVOTDATA("valeur",VUE_KPI_FTTH!$A$7,"codeIndicateur","ix","unite","95e centile","maille","Maille OI","type_valeur","Valeurs Brutes","OC","(vide)"),VUE_KPI_FTTH!A1) -> N/A | E20: =IFERROR(GETPIVOTDATA("valeur",VUE_KPI_FTTH!$A$7,"codeIndicateur","ix","unite","95e centile","maille","Maille OI (offres commercialisées sur le marché de gros activé)","type_valeur","Valeurs Nettes","OC","(vide)"),VUE_KPI_FTTH!A1) -> N/A | F20: =IFERROR(GETPIVOTDATA("valeur",VUE_KPI_FTTH!$A$7,"codeIndicateur","ix","unite","95e centile","maille","Maille OI (offres commercialisées sur le marché de gros activé)","type_valeur","Valeurs Brutes","OC","(vide)"),VUE_KPI_FTTH!A1) -> N/A | G20: =IFERROR(GETPIVOTDATA("valeur",VUE_KPI_FTTH!$A$7,"codeIndicateur","ix","unite","95e centile","maille","Maille OI (offres commercialisées sur le marché de détail - Autofourniture)","type_valeur","Valeurs Nettes","OC","(vide)"),VUE_KPI_FTTH!A1) -> N/A | H20: =IFERROR(GETPIVOTDATA("valeur",VUE_KPI_FTTH!$A$7,"codeIndicateur","ix","unite","95e centile","maille","Maille OI (offres commercialisées sur le marché de détail - Autofourniture)","type_valeur","Valeurs Brutes","OC","(vide)"),VUE_KPI_FTTH!A1) -> N/A | I20: =IFERROR(GETPIVOTDATA("valeur",VUE_KPI_FTTH!$A$7,"codeIndicateur","ix","unite","95e centile","maille","Maille d'appréciation","type_valeur","Valeurs Nettes","OC","(vide)"),VUE_KPI_FTTH!A1) -> N/A | J20: =IFERROR(GETPIVOTDATA("valeur",VUE_KPI_FTTH!$A$7,"codeIndicateur","ix","unite","95e centile","maille","Maille d'appréciation","type_valeur","Valeurs Brutes","OC","(vide)"),VUE_KPI_FTTH!A1) -> N/A | K20: =_xlfn.IFS( OR(B20="Taux",B20=""), "", NOT(AND( OR(ISBLANK(C20),ISNUMBER(C20)), OR(ISBLANK(D20),ISNUMBER(D20)), OR(ISBLANK(E20),ISNUMBER(E20)), OR(ISBLANK(F20),ISNUMBER(F20)), OR(ISBLANK(G20),ISNUMBER(G20)), OR(ISBLANK(H20),ISNUMBER(H20)), IF(I$1="",TRUE,OR(ISBLANK(I20),ISNUMBER(I20))), IF(I$1="",TRUE,OR(ISBLANK(J20),ISNUMBER(J20))), IF(K$1="",TRUE,OR(ISBLANK(K20),ISNUMBER(K20))), IF(K$1="",TRUE,OR(ISBLANK(L20),ISNUMBER(L20))) )), "Nombres attendus !", AND( OR(B20="Numérateur",B20="Dénominateur"), NOT(AND( OR(ISBLANK(C20),C20=ROUND(C20,0)), OR(ISBLANK(D20),D20=ROUND(D20,0)), OR(ISBLANK(E20),E20=ROUND(E20,0)), OR(ISBLANK(F20),F20=ROUND(F20,0)), OR(ISBLANK(G20),G20=ROUND(G20,0)), OR(ISBLANK(H20),H20=ROUND(H20,0)), IF(I$1="",TRUE,OR(ISBLANK(I20),I20=ROUND(I20,0))), IF(I$1="",TRUE,OR(ISBLANK(J20),J20=ROUND(J20,0))), IF(K$1="",TRUE,OR(ISBLANK(K20),K20=ROUND(K20,0))), IF(K$1="",TRUE,OR(ISBLANK(L20),L20=ROUND(L20,0))) )) ), "Entiers attendus !", AND(B20<>"Numérateur",B20<>"Dénominateur", NOT(AND( OR(ISBLANK(C20),C20=ROUND(C20,2)), OR(ISBLANK(D20),D20=ROUND(D20,2)), OR(ISBLANK(E20),E20=ROUND(E20,2)), OR(ISBLANK(F20),F20=ROUND(F20,2)), OR(ISBLANK(G20),G20=ROUND(G20,2)), OR(ISBLANK(H20),H20=ROUND(H20,2)), IF(I$1="",TRUE,OR(ISBLANK(I20),I20=ROUND(I20,2))), IF(I$1="",TRUE,OR(ISBLANK(J20),J20=ROUND(J20,2))), IF(K$1="",TRUE,OR(ISBLANK(K20),K20=ROUND(K20,2))), IF(K$1="",TRUE,OR(ISBLANK(L20),L20=ROUND(L20,2))) ))), "Précision supérieure à 2 décimales", MIN(C20:J20)<0,"Nombres positifs attendus !", AND(B20="Dénominateur", NOT(AND( OR(ISBLANK(C20),C20>0), OR(ISBLANK(D20),D20>0), OR(ISBLANK(E20),E20>0), OR(ISBLANK(F20),F20>0), OR(ISBLANK(G20),G20>0), OR(ISBLANK(H20),H20>0), IF(I$1="",TRUE,OR(ISBLANK(I20),I20>0)), IF(I$1="",TRUE,OR(ISBLANK(J20),J20>0)), IF(K$1="",TRUE,OR(ISBLANK(K20),K20>0)), IF(K$1="",TRUE,OR(ISBLANK(L20),L20>0)) ))), "Nombres strictement positifs attendus !", IF(B20="Dénominateur", NOT(AND( OR(ISBLANK(C19),ISBLANK(C20),C20>=C19), OR(ISBLANK(D19),ISBLANK(D20),D20>=D19), OR(ISBLANK(E19),ISBLANK(E20),E20>=E19), OR(ISBLANK(F19),ISBLANK(F20),F20>=F19), OR(ISBLANK(G19),ISBLANK(G20),G20>=G19), OR(ISBLANK(H19),ISBLANK(H20),H20>=H19), IF(I$1="",TRUE,OR(ISBLANK(I19),ISBLANK(I20),I20>=I19)), IF(I$1="",TRUE,OR(ISBLANK(J19),ISBLANK(J20),J20>=J19)), IF(K$1="",TRUE,OR(ISBLANK(K19),ISBLANK(K20),K20>=K19)), IF(K$1="",TRUE,OR(ISBLANK(L19),ISBLANK(L20),L20>=L19)) )),FALSE), "Numérateur supérieur à ce dénominateur !", LEFT( IF(B20="Dénominateur",A19,A20),12) = "(Facultatif)","", IF(I$1="",COUNTBLANK(C20:H20),COUNTBLANK(C20:J20))>0, _xlfn.CONCAT("Encore ",IF(I$1="",COUNTBLANK(C20:H20),COUNTBLANK(C20:J20)), " cellule(s) requise(s)"), TRUE,"" ) -> #NAME?
A21: Taux de non-respect du délai contractuel de livraison des liens PRDM-PM | B21: Numérateur | C21: =IFERROR(GETPIVOTDATA("valeur",VUE_KPI_FTTH!$A$7,"codeIndicateur","x","unite","Numérateur","maille","Maille OI","type_valeur","Valeurs Nettes","OC","(vide)"),VUE_KPI_FTTH!A2) -> 0 | D21: =IFERROR(GETPIVOTDATA("valeur",VUE_KPI_FTTH!$A$7,"codeIndicateur","x","unite","Numérateur","maille","Maille OI","type_valeur","Valeurs Brutes","OC","(vide)"),VUE_KPI_FTTH!A2) -> 0 | E21: =IFERROR(GETPIVOTDATA("valeur",VUE_KPI_FTTH!$A$7,"codeIndicateur","x","unite","Numérateur","maille","Maille OI (offres commercialisées sur le marché de gros activé)","type_valeur","Valeurs Nettes","OC","(vide)"),VUE_KPI_FTTH!A1) -> N/A | F21: =IFERROR(GETPIVOTDATA("valeur",VUE_KPI_FTTH!$A$7,"codeIndicateur","x","unite","Numérateur","maille","Maille OI (offres commercialisées sur le marché de gros activé)","type_valeur","Valeurs Brutes","OC","(vide)"),VUE_KPI_FTTH!A1) -> N/A | G21: =IFERROR(GETPIVOTDATA("valeur",VUE_KPI_FTTH!$A$7,"codeIndicateur","x","unite","Numérateur","maille","Maille OI (offres commercialisées sur le marché de détail - Autofourniture)","type_valeur","Valeurs Nettes","OC","(vide)"),VUE_KPI_FTTH!A1) -> 0 | H21: =IFERROR(GETPIVOTDATA("valeur",VUE_KPI_FTTH!$A$7,"codeIndicateur","x","unite","Numérateur","maille","Maille OI (offres commercialisées sur le marché de détail - Autofourniture)","type_valeur","Valeurs Brutes","OC","(vide)"),VUE_KPI_FTTH!A1) -> 5 | I21: =IFERROR(GETPIVOTDATA("valeur",VUE_KPI_FTTH!$A$7,"codeIndicateur","x","unite","Numérateur","maille","Maille d'appréciation","type_valeur","Valeurs Nettes","OC","(vide)"),VUE_KPI_FTTH!A1) -> N/A | J21: =IFERROR(GETPIVOTDATA("valeur",VUE_KPI_FTTH!$A$7,"codeIndicateur","x","unite","Numérateur","maille","Maille d'appréciation","type_valeur","Valeurs Brutes","OC","(vide)"),VUE_KPI_FTTH!A1) -> N/A | K21: =_xlfn.IFS( OR(B21="Taux",B21=""), "", NOT(AND( OR(ISBLANK(C21),ISNUMBER(C21)), OR(ISBLANK(D21),ISNUMBER(D21)), OR(ISBLANK(E21),ISNUMBER(E21)), OR(ISBLANK(F21),ISNUMBER(F21)), OR(ISBLANK(G21),ISNUMBER(G21)), OR(ISBLANK(H21),ISNUMBER(H21)), IF(I$1="",TRUE,OR(ISBLANK(I21),ISNUMBER(I21))), IF(I$1="",TRUE,OR(ISBLANK(J21),ISNUMBER(J21))), IF(K$1="",TRUE,OR(ISBLANK(K21),ISNUMBER(K21))), IF(K$1="",TRUE,OR(ISBLANK(L21),ISNUMBER(L21))) )), "Nombres attendus !", AND( OR(B21="Numérateur",B21="Dénominateur"), NOT(AND( OR(ISBLANK(C21),C21=ROUND(C21,0)), OR(ISBLANK(D21),D21=ROUND(D21,0)), OR(ISBLANK(E21),E21=ROUND(E21,0)), OR(ISBLANK(F21),F21=ROUND(F21,0)), OR(ISBLANK(G21),G21=ROUND(G21,0)), OR(ISBLANK(H21),H21=ROUND(H21,0)), IF(I$1="",TRUE,OR(ISBLANK(I21),I21=ROUND(I21,0))), IF(I$1="",TRUE,OR(ISBLANK(J21),J21=ROUND(J21,0))), IF(K$1="",TRUE,OR(ISBLANK(K21),K21=ROUND(K21,0))), IF(K$1="",TRUE,OR(ISBLANK(L21),L21=ROUND(L21,0))) )) ), "Entiers attendus !", AND(B21<>"Numérateur",B21<>"Dénominateur", NOT(AND( OR(ISBLANK(C21),C21=ROUND(C21,2)), OR(ISBLANK(D21),D21=ROUND(D21,2)), OR(ISBLANK(E21),E21=ROUND(E21,2)), OR(ISBLANK(F21),F21=ROUND(F21,2)), OR(ISBLANK(G21),G21=ROUND(G21,2)), OR(ISBLANK(H21),H21=ROUND(H21,2)), IF(I$1="",TRUE,OR(ISBLANK(I21),I21=ROUND(I21,2))), IF(I$1="",TRUE,OR(ISBLANK(J21),J21=ROUND(J21,2))), IF(K$1="",TRUE,OR(ISBLANK(K21),K21=ROUND(K21,2))), IF(K$1="",TRUE,OR(ISBLANK(L21),L21=ROUND(L21,2))) ))), "Précision supérieure à 2 décimales", MIN(C21:J21)<0,"Nombres positifs attendus !", AND(B21="Dénominateur", NOT(AND( OR(ISBLANK(C21),C21>0), OR(ISBLANK(D21),D21>0), OR(ISBLANK(E21),E21>0), OR(ISBLANK(F21),F21>0), OR(ISBLANK(G21),G21>0), OR(ISBLANK(H21),H21>0), IF(I$1="",TRUE,OR(ISBLANK(I21),I21>0)), IF(I$1="",TRUE,OR(ISBLANK(J21),J21>0)), IF(K$1="",TRUE,OR(ISBLANK(K21),K21>0)), IF(K$1="",TRUE,OR(ISBLANK(L21),L21>0)) ))), "Nombres strictement positifs attendus !", IF(B21="Dénominateur", NOT(AND( OR(ISBLANK(C20),ISBLANK(C21),C21>=C20), OR(ISBLANK(D20),ISBLANK(D21),D21>=D20), OR(ISBLANK(E20),ISBLANK(E21),E21>=E20), OR(ISBLANK(F20),ISBLANK(F21),F21>=F20), OR(ISBLANK(G20),ISBLANK(G21),G21>=G20), OR(ISBLANK(H20),ISBLANK(H21),H21>=H20), IF(I$1="",TRUE,OR(ISBLANK(I20),ISBLANK(I21),I21>=I20)), IF(I$1="",TRUE,OR(ISBLANK(J20),ISBLANK(J21),J21>=J20)), IF(K$1="",TRUE,OR(ISBLANK(K20),ISBLANK(K21),K21>=K20)), IF(K$1="",TRUE,OR(ISBLANK(L20),ISBLANK(L21),L21>=L20)) )),FALSE), "Numérateur supérieur à ce dénominateur !", LEFT( IF(B21="Dénominateur",A20,A21),12) = "(Facultatif)","", IF(I$1="",COUNTBLANK(C21:H21),COUNTBLANK(C21:J21))>0, _xlfn.CONCAT("Encore ",IF(I$1="",COUNTBLANK(C21:H21),COUNTBLANK(C21:J21)), " cellule(s) requise(s)"), TRUE,"" ) -> #NAME?
B22: Dénominateur | C22: =IFERROR(GETPIVOTDATA("valeur",VUE_KPI_FTTH!$A$7,"codeIndicateur","x","unite","Dénominateur","maille","Maille OI","type_valeur","Valeurs Nettes","OC","(vide)"),VUE_KPI_FTTH!A2) -> 0 | D22: =IFERROR(GETPIVOTDATA("valeur",VUE_KPI_FTTH!$A$7,"codeIndicateur","x","unite","Dénominateur","maille","Maille OI","type_valeur","Valeurs Brutes","OC","(vide)"),VUE_KPI_FTTH!A2) -> 0 | E22: =IFERROR(GETPIVOTDATA("valeur",VUE_KPI_FTTH!$A$7,"codeIndicateur","x","unite","Dénominateur","maille","Maille OI (offres commercialisées sur le marché de gros activé)","type_valeur","Valeurs Nettes","OC","(vide)"),VUE_KPI_FTTH!A1) -> N/A | F22: =IFERROR(GETPIVOTDATA("valeur",VUE_KPI_FTTH!$A$7,"codeIndicateur","x","unite","Dénominateur","maille","Maille OI (offres commercialisées sur le marché de gros activé)","type_valeur","Valeurs Brutes","OC","(vide)"),VUE_KPI_FTTH!A1) -> N/A | G22: =IFERROR(GETPIVOTDATA("valeur",VUE_KPI_FTTH!$A$7,"codeIndicateur","x","unite","Dénominateur","maille","Maille OI (offres commercialisées sur le marché de détail - Autofourniture)","type_valeur","Valeurs Nettes","OC","(vide)"),VUE_KPI_FTTH!A1) -> 0 | H22: =IFERROR(GETPIVOTDATA("valeur",VUE_KPI_FTTH!$A$7,"codeIndicateur","x","unite","Dénominateur","maille","Maille OI (offres commercialisées sur le marché de détail - Autofourniture)","type_valeur","Valeurs Brutes","OC","(vide)"),VUE_KPI_FTTH!A1) -> 5 | I22: =IFERROR(GETPIVOTDATA("valeur",VUE_KPI_FTTH!$A$7,"codeIndicateur","x","unite","Dénominateur","maille","Maille d'appréciation","type_valeur","Valeurs Nettes","OC","(vide)"),VUE_KPI_FTTH!A1) -> N/A | J22: =IFERROR(GETPIVOTDATA("valeur",VUE_KPI_FTTH!$A$7,"codeIndicateur","x","unite","Dénominateur","maille","Maille d'appréciation","type_valeur","Valeurs Brutes","OC","(vide)"),VUE_KPI_FTTH!A1) -> N/A | K22: =_xlfn.IFS( OR(B22="Taux",B22=""), "", NOT(AND( OR(ISBLANK(C22),ISNUMBER(C22)), OR(ISBLANK(D22),ISNUMBER(D22)), OR(ISBLANK(E22),ISNUMBER(E22)), OR(ISBLANK(F22),ISNUMBER(F22)), OR(ISBLANK(G22),ISNUMBER(G22)), OR(ISBLANK(H22),ISNUMBER(H22)), IF(I$1="",TRUE,OR(ISBLANK(I22),ISNUMBER(I22))), IF(I$1="",TRUE,OR(ISBLANK(J22),ISNUMBER(J22))), IF(K$1="",TRUE,OR(ISBLANK(K22),ISNUMBER(K22))), IF(K$1="",TRUE,OR(ISBLANK(L22),ISNUMBER(L22))) )), "Nombres attendus !", AND( OR(B22="Numérateur",B22="Dénominateur"), NOT(AND( OR(ISBLANK(C22),C22=ROUND(C22,0)), OR(ISBLANK(D22),D22=ROUND(D22,0)), OR(ISBLANK(E22),E22=ROUND(E22,0)), OR(ISBLANK(F22),F22=ROUND(F22,0)), OR(ISBLANK(G22),G22=ROUND(G22,0)), OR(ISBLANK(H22),H22=ROUND(H22,0)), IF(I$1="",TRUE,OR(ISBLANK(I22),I22=ROUND(I22,0))), IF(I$1="",TRUE,OR(ISBLANK(J22),J22=ROUND(J22,0))), IF(K$1="",TRUE,OR(ISBLANK(K22),K22=ROUND(K22,0))), IF(K$1="",TRUE,OR(ISBLANK(L22),L22=ROUND(L22,0))) )) ), "Entiers attendus !", AND(B22<>"Numérateur",B22<>"Dénominateur", NOT(AND( OR(ISBLANK(C22),C22=ROUND(C22,2)), OR(ISBLANK(D22),D22=ROUND(D22,2)), OR(ISBLANK(E22),E22=ROUND(E22,2)), OR(ISBLANK(F22),F22=ROUND(F22,2)), OR(ISBLANK(G22),G22=ROUND(G22,2)), OR(ISBLANK(H22),H22=ROUND(H22,2)), IF(I$1="",TRUE,OR(ISBLANK(I22),I22=ROUND(I22,2))), IF(I$1="",TRUE,OR(ISBLANK(J22),J22=ROUND(J22,2))), IF(K$1="",TRUE,OR(ISBLANK(K22),K22=ROUND(K22,2))), IF(K$1="",TRUE,OR(ISBLANK(L22),L22=ROUND(L22,2))) ))), "Précision supérieure à 2 décimales", MIN(C22:J22)<0,"Nombres positifs attendus !", AND(B22="Dénominateur", NOT(AND( OR(ISBLANK(C22),C22>0), OR(ISBLANK(D22),D22>0), OR(ISBLANK(E22),E22>0), OR(ISBLANK(F22),F22>0), OR(ISBLANK(G22),G22>0), OR(ISBLANK(H22),H22>0), IF(I$1="",TRUE,OR(ISBLANK(I22),I22>0)), IF(I$1="",TRUE,OR(ISBLANK(J22),J22>0)), IF(K$1="",TRUE,OR(ISBLANK(K22),K22>0)), IF(K$1="",TRUE,OR(ISBLANK(L22),L22>0)) ))), "Nombres strictement positifs attendus !", IF(B22="Dénominateur", NOT(AND( OR(ISBLANK(C21),ISBLANK(C22),C22>=C21), OR(ISBLANK(D21),ISBLANK(D22),D22>=D21), OR(ISBLANK(E21),ISBLANK(E22),E22>=E21), OR(ISBLANK(F21),ISBLANK(F22),F22>=F21), OR(ISBLANK(G21),ISBLANK(G22),G22>=G21), OR(ISBLANK(H21),ISBLANK(H22),H22>=H21), IF(I$1="",TRUE,OR(ISBLANK(I21),ISBLANK(I22),I22>=I21)), IF(I$1="",TRUE,OR(ISBLANK(J21),ISBLANK(J22),J22>=J21)), IF(K$1="",TRUE,OR(ISBLANK(K21),ISBLANK(K22),K22>=K21)), IF(K$1="",TRUE,OR(ISBLANK(L21),ISBLANK(L22),L22>=L21)) )),FALSE), "Numérateur supérieur à ce dénominateur !", LEFT( IF(B22="Dénominateur",A21,A22),12) = "(Facultatif)","", IF(I$1="",COUNTBLANK(C22:H22),COUNTBLANK(C22:J22))>0, _xlfn.CONCAT("Encore ",IF(I$1="",COUNTBLANK(C22:H22),COUNTBLANK(C22:J22)), " cellule(s) requise(s)"), TRUE,"" ) -> #NAME?
B23: Taux | C23: =IF(OR(C22="",C22="N/A",C22="NC",C22="ND"),"",C21/C22) -> #DIV/0! | D23: =IF(OR(D22="",D22="N/A",D22="NC",D22="ND"),"",D21/D22) -> #DIV/0! | E23: =IF(OR(E22="",E22="N/A",E22="NC",E22="ND"),"",E21/E22) | F23: =IF(OR(F22="",F22="N/A",F22="NC",F22="ND"),"",F21/F22) | G23: =IF(OR(G22="",G22="N/A",G22="NC",G22="ND"),"",G21/G22) -> #DIV/0! | H23: =IF(OR(H22="",H22="N/A",H22="NC",H22="ND"),"",H21/H22) -> 1 | I23: =IF(OR(I22="",I22="N/A",I22="NC",I22="ND"),"",I21/I22) | J23: =IF(OR(J22="",J22="N/A",J22="NC",J22="ND"),"",J21/J22) | K23: =_xlfn.IFS( OR(B23="Taux",B23=""), "", NOT(AND( OR(ISBLANK(C23),ISNUMBER(C23)), OR(ISBLANK(D23),ISNUMBER(D23)), OR(ISBLANK(E23),ISNUMBER(E23)), OR(ISBLANK(F23),ISNUMBER(F23)), OR(ISBLANK(G23),ISNUMBER(G23)), OR(ISBLANK(H23),ISNUMBER(H23)), IF(I$1="",TRUE,OR(ISBLANK(I23),ISNUMBER(I23))), IF(I$1="",TRUE,OR(ISBLANK(J23),ISNUMBER(J23))), IF(K$1="",TRUE,OR(ISBLANK(K23),ISNUMBER(K23))), IF(K$1="",TRUE,OR(ISBLANK(L23),ISNUMBER(L23))) )), "Nombres attendus !", AND( OR(B23="Numérateur",B23="Dénominateur"), NOT(AND( OR(ISBLANK(C23),C23=ROUND(C23,0)), OR(ISBLANK(D23),D23=ROUND(D23,0)), OR(ISBLANK(E23),E23=ROUND(E23,0)), OR(ISBLANK(F23),F23=ROUND(F23,0)), OR(ISBLANK(G23),G23=ROUND(G23,0)), OR(ISBLANK(H23),H23=ROUND(H23,0)), IF(I$1="",TRUE,OR(ISBLANK(I23),I23=ROUND(I23,0))), IF(I$1="",TRUE,OR(ISBLANK(J23),J23=ROUND(J23,0))), IF(K$1="",TRUE,OR(ISBLANK(K23),K23=ROUND(K23,0))), IF(K$1="",TRUE,OR(ISBLANK(L23),L23=ROUND(L23,0))) )) ), "Entiers attendus !", AND(B23<>"Numérateur",B23<>"Dénominateur", NOT(AND( OR(ISBLANK(C23),C23=ROUND(C23,2)), OR(ISBLANK(D23),D23=ROUND(D23,2)), OR(ISBLANK(E23),E23=ROUND(E23,2)), OR(ISBLANK(F23),F23=ROUND(F23,2)), OR(ISBLANK(G23),G23=ROUND(G23,2)), OR(ISBLANK(H23),H23=ROUND(H23,2)), IF(I$1="",TRUE,OR(ISBLANK(I23),I23=ROUND(I23,2))), IF(I$1="",TRUE,OR(ISBLANK(J23),J23=ROUND(J23,2))), IF(K$1="",TRUE,OR(ISBLANK(K23),K23=ROUND(K23,2))), IF(K$1="",TRUE,OR(ISBLANK(L23),L23=ROUND(L23,2))) ))), "Précision supérieure à 2 décimales", MIN(C23:J23)<0,"Nombres positifs attendus !", AND(B23="Dénominateur", NOT(AND( OR(ISBLANK(C23),C23>0), OR(ISBLANK(D23),D23>0), OR(ISBLANK(E23),E23>0), OR(ISBLANK(F23),F23>0), OR(ISBLANK(G23),G23>0), OR(ISBLANK(H23),H23>0), IF(I$1="",TRUE,OR(ISBLANK(I23),I23>0)), IF(I$1="",TRUE,OR(ISBLANK(J23),J23>0)), IF(K$1="",TRUE,OR(ISBLANK(K23),K23>0)), IF(K$1="",TRUE,OR(ISBLANK(L23),L23>0)) ))), "Nombres strictement positifs attendus !", IF(B23="Dénominateur", NOT(AND( OR(ISBLANK(C22),ISBLANK(C23),C23>=C22), OR(ISBLANK(D22),ISBLANK(D23),D23>=D22), OR(ISBLANK(E22),ISBLANK(E23),E23>=E22), OR(ISBLANK(F22),ISBLANK(F23),F23>=F22), OR(ISBLANK(G22),ISBLANK(G23),G23>=G22), OR(ISBLANK(H22),ISBLANK(H23),H23>=H22), IF(I$1="",TRUE,OR(ISBLANK(I22),ISBLANK(I23),I23>=I22)), IF(I$1="",TRUE,OR(ISBLANK(J22),ISBLANK(J23),J23>=J22)), IF(K$1="",TRUE,OR(ISBLANK(K22),ISBLANK(K23),K23>=K22)), IF(K$1="",TRUE,OR(ISBLANK(L22),ISBLANK(L23),L23>=L22)) )),FALSE), "Numérateur supérieur à ce dénominateur !", LEFT( IF(B23="Dénominateur",A22,A23),12) = "(Facultatif)","", IF(I$1="",COUNTBLANK(C23:H23),COUNTBLANK(C23:J23))>0, _xlfn.CONCAT("Encore ",IF(I$1="",COUNTBLANK(C23:H23),COUNTBLANK(C23:J23)), " cellule(s) requise(s)"), TRUE,"" ) -> #NAME?
A24: SERVICE APRES-VENTE | K24: =_xlfn.IFS( OR(B24="Taux",B24=""), "", NOT(AND( OR(ISBLANK(C24),ISNUMBER(C24)), OR(ISBLANK(D24),ISNUMBER(D24)), OR(ISBLANK(E24),ISNUMBER(E24)), OR(ISBLANK(F24),ISNUMBER(F24)), OR(ISBLANK(G24),ISNUMBER(G24)), OR(ISBLANK(H24),ISNUMBER(H24)), IF(I$1="",TRUE,OR(ISBLANK(I24),ISNUMBER(I24))), IF(I$1="",TRUE,OR(ISBLANK(J24),ISNUMBER(J24))), IF(K$1="",TRUE,OR(ISBLANK(K24),ISNUMBER(K24))), IF(K$1="",TRUE,OR(ISBLANK(L24),ISNUMBER(L24))) )), "Nombres attendus !", AND( OR(B24="Numérateur",B24="Dénominateur"), NOT(AND( OR(ISBLANK(C24),C24=ROUND(C24,0)), OR(ISBLANK(D24),D24=ROUND(D24,0)), OR(ISBLANK(E24),E24=ROUND(E24,0)), OR(ISBLANK(F24),F24=ROUND(F24,0)), OR(ISBLANK(G24),G24=ROUND(G24,0)), OR(ISBLANK(H24),H24=ROUND(H24,0)), IF(I$1="",TRUE,OR(ISBLANK(I24),I24=ROUND(I24,0))), IF(I$1="",TRUE,OR(ISBLANK(J24),J24=ROUND(J24,0))), IF(K$1="",TRUE,OR(ISBLANK(K24),K24=ROUND(K24,0))), IF(K$1="",TRUE,OR(ISBLANK(L24),L24=ROUND(L24,0))) )) ), "Entiers attendus !", AND(B24<>"Numérateur",B24<>"Dénominateur", NOT(AND( OR(ISBLANK(C24),C24=ROUND(C24,2)), OR(ISBLANK(D24),D24=ROUND(D24,2)), OR(ISBLANK(E24),E24=ROUND(E24,2)), OR(ISBLANK(F24),F24=ROUND(F24,2)), OR(ISBLANK(G24),G24=ROUND(G24,2)), OR(ISBLANK(H24),H24=ROUND(H24,2)), IF(I$1="",TRUE,OR(ISBLANK(I24),I24=ROUND(I24,2))), IF(I$1="",TRUE,OR(ISBLANK(J24),J24=ROUND(J24,2))), IF(K$1="",TRUE,OR(ISBLANK(K24),K24=ROUND(K24,2))), IF(K$1="",TRUE,OR(ISBLANK(L24),L24=ROUND(L24,2))) ))), "Précision supérieure à 2 décimales", MIN(C24:J24)<0,"Nombres positifs attendus !", AND(B24="Dénominateur", NOT(AND( OR(ISBLANK(C24),C24>0), OR(ISBLANK(D24),D24>0), OR(ISBLANK(E24),E24>0), OR(ISBLANK(F24),F24>0), OR(ISBLANK(G24),G24>0), OR(ISBLANK(H24),H24>0), IF(I$1="",TRUE,OR(ISBLANK(I24),I24>0)), IF(I$1="",TRUE,OR(ISBLANK(J24),J24>0)), IF(K$1="",TRUE,OR(ISBLANK(K24),K24>0)), IF(K$1="",TRUE,OR(ISBLANK(L24),L24>0)) ))), "Nombres strictement positifs attendus !", IF(B24="Dénominateur", NOT(AND( OR(ISBLANK(C23),ISBLANK(C24),C24>=C23), OR(ISBLANK(D23),ISBLANK(D24),D24>=D23), OR(ISBLANK(E23),ISBLANK(E24),E24>=E23), OR(ISBLANK(F23),ISBLANK(F24),F24>=F23), OR(ISBLANK(G23),ISBLANK(G24),G24>=G23), OR(ISBLANK(H23),ISBLANK(H24),H24>=H23), IF(I$1="",TRUE,OR(ISBLANK(I23),ISBLANK(I24),I24>=I23)), IF(I$1="",TRUE,OR(ISBLANK(J23),ISBLANK(J24),J24>=J23)), IF(K$1="",TRUE,OR(ISBLANK(K23),ISBLANK(K24),K24>=K23)), IF(K$1="",TRUE,OR(ISBLANK(L23),ISBLANK(L24),L24>=L23)) )),FALSE), "Numérateur supérieur à ce dénominateur !", LEFT( IF(B24="Dénominateur",A23,A24),12) = "(Facultatif)","", IF(I$1="",COUNTBLANK(C24:H24),COUNTBLANK(C24:J24))>0, _xlfn.CONCAT("Encore ",IF(I$1="",COUNTBLANK(C24:H24),COUNTBLANK(C24:J24)), " cellule(s) requise(s)"), TRUE,"" ) -> #NAME?
A25: Taux de non-respect du délai de rétablissement sur le segment PBO-DTIo | B25: Numérateur | C25: =IFERROR(GETPIVOTDATA("valeur",VUE_KPI_FTTH!$A$7,"codeIndicateur","xi","unite","Numérateur","maille","Maille OI","type_valeur","Valeurs Nettes","OC","(vide)"),VUE_KPI_FTTH!A1) -> N/A | D25: =IFERROR(GETPIVOTDATA("valeur",VUE_KPI_FTTH!$A$7,"codeIndicateur","xi","unite","Numérateur","maille","Maille OI","type_valeur","Valeurs Brutes","OC","(vide)"),VUE_KPI_FTTH!A1) -> N/A | E25: =IFERROR(GETPIVOTDATA("valeur",VUE_KPI_FTTH!$A$7,"codeIndicateur","xi","unite","Numérateur","maille","Maille OI (offres commercialisées sur le marché de gros activé)","type_valeur","Valeurs Nettes","OC","(vide)"),VUE_KPI_FTTH!A1) -> N/A | F25: =IFERROR(GETPIVOTDATA("valeur",VUE_KPI_FTTH!$A$7,"codeIndicateur","xi","unite","Numérateur","maille","Maille OI (offres commercialisées sur le marché de gros activé)","type_valeur","Valeurs Brutes","OC","(vide)"),VUE_KPI_FTTH!A1) -> N/A | G25: =IFERROR(GETPIVOTDATA("valeur",VUE_KPI_FTTH!$A$7,"codeIndicateur","xi","unite","Numérateur","maille","Maille OI (offres commercialisées sur le marché de détail - Autofourniture)","type_valeur","Valeurs Nettes","OC","(vide)"),VUE_KPI_FTTH!A1) -> N/A | H25: =IFERROR(GETPIVOTDATA("valeur",VUE_KPI_FTTH!$A$7,"codeIndicateur","xi","unite","Numérateur","maille","Maille OI (offres commercialisées sur le marché de détail - Autofourniture)","type_valeur","Valeurs Brutes","OC","(vide)"),VUE_KPI_FTTH!A1) -> N/A | I25: =IFERROR(GETPIVOTDATA("valeur",VUE_KPI_FTTH!$A$7,"codeIndicateur","xi","unite","Numérateur","maille","Maille d'appréciation","type_valeur","Valeurs Nettes","OC","(vide)"),VUE_KPI_FTTH!A1) -> N/A | J25: =IFERROR(GETPIVOTDATA("valeur",VUE_KPI_FTTH!$A$7,"codeIndicateur","xi","unite","Numérateur","maille","Maille d'appréciation","type_valeur","Valeurs Brutes","OC","(vide)"),VUE_KPI_FTTH!A1) -> N/A | K25: =_xlfn.IFS( OR(B25="Taux",B25=""), "", NOT(AND( OR(ISBLANK(C25),ISNUMBER(C25)), OR(ISBLANK(D25),ISNUMBER(D25)), OR(ISBLANK(E25),ISNUMBER(E25)), OR(ISBLANK(F25),ISNUMBER(F25)), OR(ISBLANK(G25),ISNUMBER(G25)), OR(ISBLANK(H25),ISNUMBER(H25)), IF(I$1="",TRUE,OR(ISBLANK(I25),ISNUMBER(I25))), IF(I$1="",TRUE,OR(ISBLANK(J25),ISNUMBER(J25))), IF(K$1="",TRUE,OR(ISBLANK(K25),ISNUMBER(K25))), IF(K$1="",TRUE,OR(ISBLANK(L25),ISNUMBER(L25))) )), "Nombres attendus !", AND( OR(B25="Numérateur",B25="Dénominateur"), NOT(AND( OR(ISBLANK(C25),C25=ROUND(C25,0)), OR(ISBLANK(D25),D25=ROUND(D25,0)), OR(ISBLANK(E25),E25=ROUND(E25,0)), OR(ISBLANK(F25),F25=ROUND(F25,0)), OR(ISBLANK(G25),G25=ROUND(G25,0)), OR(ISBLANK(H25),H25=ROUND(H25,0)), IF(I$1="",TRUE,OR(ISBLANK(I25),I25=ROUND(I25,0))), IF(I$1="",TRUE,OR(ISBLANK(J25),J25=ROUND(J25,0))), IF(K$1="",TRUE,OR(ISBLANK(K25),K25=ROUND(K25,0))), IF(K$1="",TRUE,OR(ISBLANK(L25),L25=ROUND(L25,0))) )) ), "Entiers attendus !", AND(B25<>"Numérateur",B25<>"Dénominateur", NOT(AND( OR(ISBLANK(C25),C25=ROUND(C25,2)), OR(ISBLANK(D25),D25=ROUND(D25,2)), OR(ISBLANK(E25),E25=ROUND(E25,2)), OR(ISBLANK(F25),F25=ROUND(F25,2)), OR(ISBLANK(G25),G25=ROUND(G25,2)), OR(ISBLANK(H25),H25=ROUND(H25,2)), IF(I$1="",TRUE,OR(ISBLANK(I25),I25=ROUND(I25,2))), IF(I$1="",TRUE,OR(ISBLANK(J25),J25=ROUND(J25,2))), IF(K$1="",TRUE,OR(ISBLANK(K25),K25=ROUND(K25,2))), IF(K$1="",TRUE,OR(ISBLANK(L25),L25=ROUND(L25,2))) ))), "Précision supérieure à 2 décimales", MIN(C25:J25)<0,"Nombres positifs attendus !", AND(B25="Dénominateur", NOT(AND( OR(ISBLANK(C25),C25>0), OR(ISBLANK(D25),D25>0), OR(ISBLANK(E25),E25>0), OR(ISBLANK(F25),F25>0), OR(ISBLANK(G25),G25>0), OR(ISBLANK(H25),H25>0), IF(I$1="",TRUE,OR(ISBLANK(I25),I25>0)), IF(I$1="",TRUE,OR(ISBLANK(J25),J25>0)), IF(K$1="",TRUE,OR(ISBLANK(K25),K25>0)), IF(K$1="",TRUE,OR(ISBLANK(L25),L25>0)) ))), "Nombres strictement positifs attendus !", IF(B25="Dénominateur", NOT(AND( OR(ISBLANK(C24),ISBLANK(C25),C25>=C24), OR(ISBLANK(D24),ISBLANK(D25),D25>=D24), OR(ISBLANK(E24),ISBLANK(E25),E25>=E24), OR(ISBLANK(F24),ISBLANK(F25),F25>=F24), OR(ISBLANK(G24),ISBLANK(G25),G25>=G24), OR(ISBLANK(H24),ISBLANK(H25),H25>=H24), IF(I$1="",TRUE,OR(ISBLANK(I24),ISBLANK(I25),I25>=I24)), IF(I$1="",TRUE,OR(ISBLANK(J24),ISBLANK(J25),J25>=J24)), IF(K$1="",TRUE,OR(ISBLANK(K24),ISBLANK(K25),K25>=K24)), IF(K$1="",TRUE,OR(ISBLANK(L24),ISBLANK(L25),L25>=L24)) )),FALSE), "Numérateur supérieur à ce dénominateur !", LEFT( IF(B25="Dénominateur",A24,A25),12) = "(Facultatif)","", IF(I$1="",COUNTBLANK(C25:H25),COUNTBLANK(C25:J25))>0, _xlfn.CONCAT("Encore ",IF(I$1="",COUNTBLANK(C25:H25),COUNTBLANK(C25:J25)), " cellule(s) requise(s)"), TRUE,"" ) -> #NAME?
B26: Dénominateur | C26: =IFERROR(GETPIVOTDATA("valeur",VUE_KPI_FTTH!$A$7,"codeIndicateur","xi","unite","Dénominateur","maille","Maille OI","type_valeur","Valeurs Nettes","OC","(vide)"),VUE_KPI_FTTH!A1) -> N/A | D26: =IFERROR(GETPIVOTDATA("valeur",VUE_KPI_FTTH!$A$7,"codeIndicateur","xi","unite","Dénominateur","maille","Maille OI","type_valeur","Valeurs Brutes","OC","(vide)"),VUE_KPI_FTTH!A1) -> N/A | E26: =IFERROR(GETPIVOTDATA("valeur",VUE_KPI_FTTH!$A$7,"codeIndicateur","xi","unite","Dénominateur","maille","Maille OI (offres commercialisées sur le marché de gros activé)","type_valeur","Valeurs Nettes","OC","(vide)"),VUE_KPI_FTTH!A1) -> N/A | F26: =IFERROR(GETPIVOTDATA("valeur",VUE_KPI_FTTH!$A$7,"codeIndicateur","xi","unite","Dénominateur","maille","Maille OI (offres commercialisées sur le marché de gros activé)","type_valeur","Valeurs Brutes","OC","(vide)"),VUE_KPI_FTTH!A1) -> N/A | G26: =IFERROR(GETPIVOTDATA("valeur",VUE_KPI_FTTH!$A$7,"codeIndicateur","xi","unite","Dénominateur","maille","Maille OI (offres commercialisées sur le marché de détail - Autofourniture)","type_valeur","Valeurs Nettes","OC","(vide)"),VUE_KPI_FTTH!A1) -> N/A | H26: =IFERROR(GETPIVOTDATA("valeur",VUE_KPI_FTTH!$A$7,"codeIndicateur","xi","unite","Dénominateur","maille","Maille OI (offres commercialisées sur le marché de détail - Autofourniture)","type_valeur","Valeurs Brutes","OC","(vide)"),VUE_KPI_FTTH!A1) -> N/A | I26: =IFERROR(GETPIVOTDATA("valeur",VUE_KPI_FTTH!$A$7,"codeIndicateur","xi","unite","Dénominateur","maille","Maille d'appréciation","type_valeur","Valeurs Nettes","OC","(vide)"),VUE_KPI_FTTH!A1) -> N/A | J26: =IFERROR(GETPIVOTDATA("valeur",VUE_KPI_FTTH!$A$7,"codeIndicateur","xi","unite","Dénominateur","maille","Maille d'appréciation","type_valeur","Valeurs Brutes","OC","(vide)"),VUE_KPI_FTTH!A1) -> N/A | K26: =_xlfn.IFS( OR(B26="Taux",B26=""), "", NOT(AND( OR(ISBLANK(C26),ISNUMBER(C26)), OR(ISBLANK(D26),ISNUMBER(D26)), OR(ISBLANK(E26),ISNUMBER(E26)), OR(ISBLANK(F26),ISNUMBER(F26)), OR(ISBLANK(G26),ISNUMBER(G26)), OR(ISBLANK(H26),ISNUMBER(H26)), IF(I$1="",TRUE,OR(ISBLANK(I26),ISNUMBER(I26))), IF(I$1="",TRUE,OR(ISBLANK(J26),ISNUMBER(J26))), IF(K$1="",TRUE,OR(ISBLANK(K26),ISNUMBER(K26))), IF(K$1="",TRUE,OR(ISBLANK(L26),ISNUMBER(L26))) )), "Nombres attendus !", AND( OR(B26="Numérateur",B26="Dénominateur"), NOT(AND( OR(ISBLANK(C26),C26=ROUND(C26,0)), OR(ISBLANK(D26),D26=ROUND(D26,0)), OR(ISBLANK(E26),E26=ROUND(E26,0)), OR(ISBLANK(F26),F26=ROUND(F26,0)), OR(ISBLANK(G26),G26=ROUND(G26,0)), OR(ISBLANK(H26),H26=ROUND(H26,0)), IF(I$1="",TRUE,OR(ISBLANK(I26),I26=ROUND(I26,0))), IF(I$1="",TRUE,OR(ISBLANK(J26),J26=ROUND(J26,0))), IF(K$1="",TRUE,OR(ISBLANK(K26),K26=ROUND(K26,0))), IF(K$1="",TRUE,OR(ISBLANK(L26),L26=ROUND(L26,0))) )) ), "Entiers attendus !", AND(B26<>"Numérateur",B26<>"Dénominateur", NOT(AND( OR(ISBLANK(C26),C26=ROUND(C26,2)), OR(ISBLANK(D26),D26=ROUND(D26,2)), OR(ISBLANK(E26),E26=ROUND(E26,2)), OR(ISBLANK(F26),F26=ROUND(F26,2)), OR(ISBLANK(G26),G26=ROUND(G26,2)), OR(ISBLANK(H26),H26=ROUND(H26,2)), IF(I$1="",TRUE,OR(ISBLANK(I26),I26=ROUND(I26,2))), IF(I$1="",TRUE,OR(ISBLANK(J26),J26=ROUND(J26,2))), IF(K$1="",TRUE,OR(ISBLANK(K26),K26=ROUND(K26,2))), IF(K$1="",TRUE,OR(ISBLANK(L26),L26=ROUND(L26,2))) ))), "Précision supérieure à 2 décimales", MIN(C26:J26)<0,"Nombres positifs attendus !", AND(B26="Dénominateur", NOT(AND( OR(ISBLANK(C26),C26>0), OR(ISBLANK(D26),D26>0), OR(ISBLANK(E26),E26>0), OR(ISBLANK(F26),F26>0), OR(ISBLANK(G26),G26>0), OR(ISBLANK(H26),H26>0), IF(I$1="",TRUE,OR(ISBLANK(I26),I26>0)), IF(I$1="",TRUE,OR(ISBLANK(J26),J26>0)), IF(K$1="",TRUE,OR(ISBLANK(K26),K26>0)), IF(K$1="",TRUE,OR(ISBLANK(L26),L26>0)) ))), "Nombres strictement positifs attendus !", IF(B26="Dénominateur", NOT(AND( OR(ISBLANK(C25),ISBLANK(C26),C26>=C25), OR(ISBLANK(D25),ISBLANK(D26),D26>=D25), OR(ISBLANK(E25),ISBLANK(E26),E26>=E25), OR(ISBLANK(F25),ISBLANK(F26),F26>=F25), OR(ISBLANK(G25),ISBLANK(G26),G26>=G25), OR(ISBLANK(H25),ISBLANK(H26),H26>=H25), IF(I$1="",TRUE,OR(ISBLANK(I25),ISBLANK(I26),I26>=I25)), IF(I$1="",TRUE,OR(ISBLANK(J25),ISBLANK(J26),J26>=J25)), IF(K$1="",TRUE,OR(ISBLANK(K25),ISBLANK(K26),K26>=K25)), IF(K$1="",TRUE,OR(ISBLANK(L25),ISBLANK(L26),L26>=L25)) )),FALSE), "Numérateur supérieur à ce dénominateur !", LEFT( IF(B26="Dénominateur",A25,A26),12) = "(Facultatif)","", IF(I$1="",COUNTBLANK(C26:H26),COUNTBLANK(C26:J26))>0, _xlfn.CONCAT("Encore ",IF(I$1="",COUNTBLANK(C26:H26),COUNTBLANK(C26:J26)), " cellule(s) requise(s)"), TRUE,"" ) -> #NAME?
B27: Taux | C27: =IF(OR(C26="",C26="N/A",C26="NC",C26="ND"),"",C25/C26) | D27: =IF(OR(D26="",D26="N/A",D26="NC",D26="ND"),"",D25/D26) | E27: =IF(OR(E26="",E26="N/A",E26="NC",E26="ND"),"",E25/E26) | F27: =IF(OR(F26="",F26="N/A",F26="NC",F26="ND"),"",F25/F26) | G27: =IF(OR(G26="",G26="N/A",G26="NC",G26="ND"),"",G25/G26) | H27: =IF(OR(H26="",H26="N/A",H26="NC",H26="ND"),"",H25/H26) | I27: =IF(OR(I26="",I26="N/A",I26="NC",I26="ND"),"",I25/I26) | J27: =IF(OR(J26="",J26="N/A",J26="NC",J26="ND"),"",J25/J26) | K27: =_xlfn.IFS( OR(B27="Taux",B27=""), "", NOT(AND( OR(ISBLANK(C27),ISNUMBER(C27)), OR(ISBLANK(D27),ISNUMBER(D27)), OR(ISBLANK(E27),ISNUMBER(E27)), OR(ISBLANK(F27),ISNUMBER(F27)), OR(ISBLANK(G27),ISNUMBER(G27)), OR(ISBLANK(H27),ISNUMBER(H27)), IF(I$1="",TRUE,OR(ISBLANK(I27),ISNUMBER(I27))), IF(I$1="",TRUE,OR(ISBLANK(J27),ISNUMBER(J27))), IF(K$1="",TRUE,OR(ISBLANK(K27),ISNUMBER(K27))), IF(K$1="",TRUE,OR(ISBLANK(L27),ISNUMBER(L27))) )), "Nombres attendus !", AND( OR(B27="Numérateur",B27="Dénominateur"), NOT(AND( OR(ISBLANK(C27),C27=ROUND(C27,0)), OR(ISBLANK(D27),D27=ROUND(D27,0)), OR(ISBLANK(E27),E27=ROUND(E27,0)), OR(ISBLANK(F27),F27=ROUND(F27,0)), OR(ISBLANK(G27),G27=ROUND(G27,0)), OR(ISBLANK(H27),H27=ROUND(H27,0)), IF(I$1="",TRUE,OR(ISBLANK(I27),I27=ROUND(I27,0))), IF(I$1="",TRUE,OR(ISBLANK(J27),J27=ROUND(J27,0))), IF(K$1="",TRUE,OR(ISBLANK(K27),K27=ROUND(K27,0))), IF(K$1="",TRUE,OR(ISBLANK(L27),L27=ROUND(L27,0))) )) ), "Entiers attendus !", AND(B27<>"Numérateur",B27<>"Dénominateur", NOT(AND( OR(ISBLANK(C27),C27=ROUND(C27,2)), OR(ISBLANK(D27),D27=ROUND(D27,2)), OR(ISBLANK(E27),E27=ROUND(E27,2)), OR(ISBLANK(F27),F27=ROUND(F27,2)), OR(ISBLANK(G27),G27=ROUND(G27,2)), OR(ISBLANK(H27),H27=ROUND(H27,2)), IF(I$1="",TRUE,OR(ISBLANK(I27),I27=ROUND(I27,2))), IF(I$1="",TRUE,OR(ISBLANK(J27),J27=ROUND(J27,2))), IF(K$1="",TRUE,OR(ISBLANK(K27),K27=ROUND(K27,2))), IF(K$1="",TRUE,OR(ISBLANK(L27),L27=ROUND(L27,2))) ))), "Précision supérieure à 2 décimales", MIN(C27:J27)<0,"Nombres positifs attendus !", AND(B27="Dénominateur", NOT(AND( OR(ISBLANK(C27),C27>0), OR(ISBLANK(D27),D27>0), OR(ISBLANK(E27),E27>0), OR(ISBLANK(F27),F27>0), OR(ISBLANK(G27),G27>0), OR(ISBLANK(H27),H27>0), IF(I$1="",TRUE,OR(ISBLANK(I27),I27>0)), IF(I$1="",TRUE,OR(ISBLANK(J27),J27>0)), IF(K$1="",TRUE,OR(ISBLANK(K27),K27>0)), IF(K$1="",TRUE,OR(ISBLANK(L27),L27>0)) ))), "Nombres strictement positifs attendus !", IF(B27="Dénominateur", NOT(AND( OR(ISBLANK(C26),ISBLANK(C27),C27>=C26), OR(ISBLANK(D26),ISBLANK(D27),D27>=D26), OR(ISBLANK(E26),ISBLANK(E27),E27>=E26), OR(ISBLANK(F26),ISBLANK(F27),F27>=F26), OR(ISBLANK(G26),ISBLANK(G27),G27>=G26), OR(ISBLANK(H26),ISBLANK(H27),H27>=H26), IF(I$1="",TRUE,OR(ISBLANK(I26),ISBLANK(I27),I27>=I26)), IF(I$1="",TRUE,OR(ISBLANK(J26),ISBLANK(J27),J27>=J26)), IF(K$1="",TRUE,OR(ISBLANK(K26),ISBLANK(K27),K27>=K26)), IF(K$1="",TRUE,OR(ISBLANK(L26),ISBLANK(L27),L27>=L26)) )),FALSE), "Numérateur supérieur à ce dénominateur !", LEFT( IF(B27="Dénominateur",A26,A27),12) = "(Facultatif)","", IF(I$1="",COUNTBLANK(C27:H27),COUNTBLANK(C27:J27))>0, _xlfn.CONCAT("Encore ",IF(I$1="",COUNTBLANK(C27:H27),COUNTBLANK(C27:J27)), " cellule(s) requise(s)"), TRUE,"" ) -> #NAME?
A28: Délai de rétablissement sur le segment PBO-DTIo – 95e centile | B28: 95e centile | C28: =IFERROR(GETPIVOTDATA("valeur",VUE_KPI_FTTH!$A$7,"codeIndicateur","xii","unite","95e centile","maille","Maille OI","type_valeur","Valeurs Nettes","OC","(vide)"),VUE_KPI_FTTH!A1) -> N/A | D28: =IFERROR(GETPIVOTDATA("valeur",VUE_KPI_FTTH!$A$7,"codeIndicateur","xii","unite","95e centile","maille","Maille OI","type_valeur","Valeurs Brutes","OC","(vide)"),VUE_KPI_FTTH!A1) -> N/A | E28: =IFERROR(GETPIVOTDATA("valeur",VUE_KPI_FTTH!$A$7,"codeIndicateur","xii","unite","95e centile","maille","Maille OI (offres commercialisées sur le marché de gros activé)","type_valeur","Valeurs Nettes","OC","(vide)"),VUE_KPI_FTTH!A1) -> N/A | F28: =IFERROR(GETPIVOTDATA("valeur",VUE_KPI_FTTH!$A$7,"codeIndicateur","xii","unite","95e centile","maille","Maille OI (offres commercialisées sur le marché de gros activé)","type_valeur","Valeurs Brutes","OC","(vide)"),VUE_KPI_FTTH!A1) -> N/A | G28: =IFERROR(GETPIVOTDATA("valeur",VUE_KPI_FTTH!$A$7,"codeIndicateur","xii","unite","95e centile","maille","Maille OI (offres commercialisées sur le marché de détail - Autofourniture)","type_valeur","Valeurs Nettes","OC","(vide)"),VUE_KPI_FTTH!A1) -> N/A | H28: =IFERROR(GETPIVOTDATA("valeur",VUE_KPI_FTTH!$A$7,"codeIndicateur","xii","unite","95e centile","maille","Maille OI (offres commercialisées sur le marché de détail - Autofourniture)","type_valeur","Valeurs Brutes","OC","(vide)"),VUE_KPI_FTTH!A1) -> N/A | I28: =IFERROR(GETPIVOTDATA("valeur",VUE_KPI_FTTH!$A$7,"codeIndicateur","xii","unite","95e centile","maille","Maille d'appréciation","type_valeur","Valeurs Nettes","OC","(vide)"),VUE_KPI_FTTH!A1) -> N/A | J28: =IFERROR(GETPIVOTDATA("valeur",VUE_KPI_FTTH!$A$7,"codeIndicateur","xii","unite","95e centile","maille","Maille d'appréciation","type_valeur","Valeurs Brutes","OC","(vide)"),VUE_KPI_FTTH!A1) -> N/A | K28: =_xlfn.IFS( OR(B28="Taux",B28=""), "", NOT(AND( OR(ISBLANK(C28),ISNUMBER(C28)), OR(ISBLANK(D28),ISNUMBER(D28)), OR(ISBLANK(E28),ISNUMBER(E28)), OR(ISBLANK(F28),ISNUMBER(F28)), OR(ISBLANK(G28),ISNUMBER(G28)), OR(ISBLANK(H28),ISNUMBER(H28)), IF(I$1="",TRUE,OR(ISBLANK(I28),ISNUMBER(I28))), IF(I$1="",TRUE,OR(ISBLANK(J28),ISNUMBER(J28))), IF(K$1="",TRUE,OR(ISBLANK(K28),ISNUMBER(K28))), IF(K$1="",TRUE,OR(ISBLANK(L28),ISNUMBER(L28))) )), "Nombres attendus !", AND( OR(B28="Numérateur",B28="Dénominateur"), NOT(AND( OR(ISBLANK(C28),C28=ROUND(C28,0)), OR(ISBLANK(D28),D28=ROUND(D28,0)), OR(ISBLANK(E28),E28=ROUND(E28,0)), OR(ISBLANK(F28),F28=ROUND(F28,0)), OR(ISBLANK(G28),G28=ROUND(G28,0)), OR(ISBLANK(H28),H28=ROUND(H28,0)), IF(I$1="",TRUE,OR(ISBLANK(I28),I28=ROUND(I28,0))), IF(I$1="",TRUE,OR(ISBLANK(J28),J28=ROUND(J28,0))), IF(K$1="",TRUE,OR(ISBLANK(K28),K28=ROUND(K28,0))), IF(K$1="",TRUE,OR(ISBLANK(L28),L28=ROUND(L28,0))) )) ), "Entiers attendus !", AND(B28<>"Numérateur",B28<>"Dénominateur", NOT(AND( OR(ISBLANK(C28),C28=ROUND(C28,2)), OR(ISBLANK(D28),D28=ROUND(D28,2)), OR(ISBLANK(E28),E28=ROUND(E28,2)), OR(ISBLANK(F28),F28=ROUND(F28,2)), OR(ISBLANK(G28),G28=ROUND(G28,2)), OR(ISBLANK(H28),H28=ROUND(H28,2)), IF(I$1="",TRUE,OR(ISBLANK(I28),I28=ROUND(I28,2))), IF(I$1="",TRUE,OR(ISBLANK(J28),J28=ROUND(J28,2))), IF(K$1="",TRUE,OR(ISBLANK(K28),K28=ROUND(K28,2))), IF(K$1="",TRUE,OR(ISBLANK(L28),L28=ROUND(L28,2))) ))), "Précision supérieure à 2 décimales", MIN(C28:J28)<0,"Nombres positifs attendus !", AND(B28="Dénominateur", NOT(AND( OR(ISBLANK(C28),C28>0), OR(ISBLANK(D28),D28>0), OR(ISBLANK(E28),E28>0), OR(ISBLANK(F28),F28>0), OR(ISBLANK(G28),G28>0), OR(ISBLANK(H28),H28>0), IF(I$1="",TRUE,OR(ISBLANK(I28),I28>0)), IF(I$1="",TRUE,OR(ISBLANK(J28),J28>0)), IF(K$1="",TRUE,OR(ISBLANK(K28),K28>0)), IF(K$1="",TRUE,OR(ISBLANK(L28),L28>0)) ))), "Nombres strictement positifs attendus !", IF(B28="Dénominateur", NOT(AND( OR(ISBLANK(C27),ISBLANK(C28),C28>=C27), OR(ISBLANK(D27),ISBLANK(D28),D28>=D27), OR(ISBLANK(E27),ISBLANK(E28),E28>=E27), OR(ISBLANK(F27),ISBLANK(F28),F28>=F27), OR(ISBLANK(G27),ISBLANK(G28),G28>=G27), OR(ISBLANK(H27),ISBLANK(H28),H28>=H27), IF(I$1="",TRUE,OR(ISBLANK(I27),ISBLANK(I28),I28>=I27)), IF(I$1="",TRUE,OR(ISBLANK(J27),ISBLANK(J28),J28>=J27)), IF(K$1="",TRUE,OR(ISBLANK(K27),ISBLANK(K28),K28>=K27)), IF(K$1="",TRUE,OR(ISBLANK(L27),ISBLANK(L28),L28>=L27)) )),FALSE), "Numérateur supérieur à ce dénominateur !", LEFT( IF(B28="Dénominateur",A27,A28),12) = "(Facultatif)","", IF(I$1="",COUNTBLANK(C28:H28),COUNTBLANK(C28:J28))>0, _xlfn.CONCAT("Encore ",IF(I$1="",COUNTBLANK(C28:H28),COUNTBLANK(C28:J28)), " cellule(s) requise(s)"), TRUE,"" ) -> #NAME?
A29: Taux de non-respect du délai de rétablissement sur le segment PM-PBO | B29: Numérateur | C29: =IFERROR(GETPIVOTDATA("valeur",VUE_KPI_FTTH!$A$7,"codeIndicateur","xiii","unite","Numérateur","maille","Maille OI","type_valeur","Valeurs Nettes","OC","(vide)"),VUE_KPI_FTTH!A1) -> 0 | D29: =IFERROR(GETPIVOTDATA("valeur",VUE_KPI_FTTH!$A$7,"codeIndicateur","xiii","unite","Numérateur","maille","Maille OI","type_valeur","Valeurs Brutes","OC","(vide)"),VUE_KPI_FTTH!A1) -> 0 | E29: =IFERROR(GETPIVOTDATA("valeur",VUE_KPI_FTTH!$A$7,"codeIndicateur","xiii","unite","Numérateur","maille","Maille OI (offres commercialisées sur le marché de gros activé)","type_valeur","Valeurs Nettes","OC","(vide)"),VUE_KPI_FTTH!A1) -> N/A | F29: =IFERROR(GETPIVOTDATA("valeur",VUE_KPI_FTTH!$A$7,"codeIndicateur","xiii","unite","Numérateur","maille","Maille OI (offres commercialisées sur le marché de gros activé)","type_valeur","Valeurs Brutes","OC","(vide)"),VUE_KPI_FTTH!A1) -> N/A | G29: =IFERROR(GETPIVOTDATA("valeur",VUE_KPI_FTTH!$A$7,"codeIndicateur","xiii","unite","Numérateur","maille","Maille OI (offres commercialisées sur le marché de détail - Autofourniture)","type_valeur","Valeurs Nettes","OC","(vide)"),VUE_KPI_FTTH!A1) -> 0 | H29: =IFERROR(GETPIVOTDATA("valeur",VUE_KPI_FTTH!$A$7,"codeIndicateur","xiii","unite","Numérateur","maille","Maille OI (offres commercialisées sur le marché de détail - Autofourniture)","type_valeur","Valeurs Brutes","OC","(vide)"),VUE_KPI_FTTH!A1) -> 0 | I29: =IFERROR(GETPIVOTDATA("valeur",VUE_KPI_FTTH!$A$7,"codeIndicateur","xiii","unite","Numérateur","maille","Maille d'appréciation","type_valeur","Valeurs Nettes","OC","(vide)"),VUE_KPI_FTTH!A1) -> N/A | J29: =IFERROR(GETPIVOTDATA("valeur",VUE_KPI_FTTH!$A$7,"codeIndicateur","xiii","unite","Numérateur","maille","Maille d'appréciation","type_valeur","Valeurs Brutes","OC","(vide)"),VUE_KPI_FTTH!A1) -> N/A | K29: =_xlfn.IFS( OR(B29="Taux",B29=""), "", NOT(AND( OR(ISBLANK(C29),ISNUMBER(C29)), OR(ISBLANK(D29),ISNUMBER(D29)), OR(ISBLANK(E29),ISNUMBER(E29)), OR(ISBLANK(F29),ISNUMBER(F29)), OR(ISBLANK(G29),ISNUMBER(G29)), OR(ISBLANK(H29),ISNUMBER(H29)), IF(I$1="",TRUE,OR(ISBLANK(I29),ISNUMBER(I29))), IF(I$1="",TRUE,OR(ISBLANK(J29),ISNUMBER(J29))), IF(K$1="",TRUE,OR(ISBLANK(K29),ISNUMBER(K29))), IF(K$1="",TRUE,OR(ISBLANK(L29),ISNUMBER(L29))) )), "Nombres attendus !", AND( OR(B29="Numérateur",B29="Dénominateur"), NOT(AND( OR(ISBLANK(C29),C29=ROUND(C29,0)), OR(ISBLANK(D29),D29=ROUND(D29,0)), OR(ISBLANK(E29),E29=ROUND(E29,0)), OR(ISBLANK(F29),F29=ROUND(F29,0)), OR(ISBLANK(G29),G29=ROUND(G29,0)), OR(ISBLANK(H29),H29=ROUND(H29,0)), IF(I$1="",TRUE,OR(ISBLANK(I29),I29=ROUND(I29,0))), IF(I$1="",TRUE,OR(ISBLANK(J29),J29=ROUND(J29,0))), IF(K$1="",TRUE,OR(ISBLANK(K29),K29=ROUND(K29,0))), IF(K$1="",TRUE,OR(ISBLANK(L29),L29=ROUND(L29,0))) )) ), "Entiers attendus !", AND(B29<>"Numérateur",B29<>"Dénominateur", NOT(AND( OR(ISBLANK(C29),C29=ROUND(C29,2)), OR(ISBLANK(D29),D29=ROUND(D29,2)), OR(ISBLANK(E29),E29=ROUND(E29,2)), OR(ISBLANK(F29),F29=ROUND(F29,2)), OR(ISBLANK(G29),G29=ROUND(G29,2)), OR(ISBLANK(H29),H29=ROUND(H29,2)), IF(I$1="",TRUE,OR(ISBLANK(I29),I29=ROUND(I29,2))), IF(I$1="",TRUE,OR(ISBLANK(J29),J29=ROUND(J29,2))), IF(K$1="",TRUE,OR(ISBLANK(K29),K29=ROUND(K29,2))), IF(K$1="",TRUE,OR(ISBLANK(L29),L29=ROUND(L29,2))) ))), "Précision supérieure à 2 décimales", MIN(C29:J29)<0,"Nombres positifs attendus !", AND(B29="Dénominateur", NOT(AND( OR(ISBLANK(C29),C29>0), OR(ISBLANK(D29),D29>0), OR(ISBLANK(E29),E29>0), OR(ISBLANK(F29),F29>0), OR(ISBLANK(G29),G29>0), OR(ISBLANK(H29),H29>0), IF(I$1="",TRUE,OR(ISBLANK(I29),I29>0)), IF(I$1="",TRUE,OR(ISBLANK(J29),J29>0)), IF(K$1="",TRUE,OR(ISBLANK(K29),K29>0)), IF(K$1="",TRUE,OR(ISBLANK(L29),L29>0)) ))), "Nombres strictement positifs attendus !", IF(B29="Dénominateur", NOT(AND( OR(ISBLANK(C28),ISBLANK(C29),C29>=C28), OR(ISBLANK(D28),ISBLANK(D29),D29>=D28), OR(ISBLANK(E28),ISBLANK(E29),E29>=E28), OR(ISBLANK(F28),ISBLANK(F29),F29>=F28), OR(ISBLANK(G28),ISBLANK(G29),G29>=G28), OR(ISBLANK(H28),ISBLANK(H29),H29>=H28), IF(I$1="",TRUE,OR(ISBLANK(I28),ISBLANK(I29),I29>=I28)), IF(I$1="",TRUE,OR(ISBLANK(J28),ISBLANK(J29),J29>=J28)), IF(K$1="",TRUE,OR(ISBLANK(K28),ISBLANK(K29),K29>=K28)), IF(K$1="",TRUE,OR(ISBLANK(L28),ISBLANK(L29),L29>=L28)) )),FALSE), "Numérateur supérieur à ce dénominateur !", LEFT( IF(B29="Dénominateur",A28,A29),12) = "(Facultatif)","", IF(I$1="",COUNTBLANK(C29:H29),COUNTBLANK(C29:J29))>0, _xlfn.CONCAT("Encore ",IF(I$1="",COUNTBLANK(C29:H29),COUNTBLANK(C29:J29)), " cellule(s) requise(s)"), TRUE,"" ) -> #NAME?
B30: Dénominateur | C30: =IFERROR(GETPIVOTDATA("valeur",VUE_KPI_FTTH!$A$7,"codeIndicateur","xiii","unite","Dénominateur","maille","Maille OI","type_valeur","Valeurs Nettes","OC","(vide)"),VUE_KPI_FTTH!A1) -> 5 | D30: =IFERROR(GETPIVOTDATA("valeur",VUE_KPI_FTTH!$A$7,"codeIndicateur","xiii","unite","Dénominateur","maille","Maille OI","type_valeur","Valeurs Brutes","OC","(vide)"),VUE_KPI_FTTH!A1) -> 5 | E30: =IFERROR(GETPIVOTDATA("valeur",VUE_KPI_FTTH!$A$7,"codeIndicateur","xiii","unite","Dénominateur","maille","Maille OI (offres commercialisées sur le marché de gros activé)","type_valeur","Valeurs Nettes","OC","(vide)"),VUE_KPI_FTTH!A1) -> N/A | F30: =IFERROR(GETPIVOTDATA("valeur",VUE_KPI_FTTH!$A$7,"codeIndicateur","xiii","unite","Dénominateur","maille","Maille OI (offres commercialisées sur le marché de gros activé)","type_valeur","Valeurs Brutes","OC","(vide)"),VUE_KPI_FTTH!A1) -> N/A | G30: =IFERROR(GETPIVOTDATA("valeur",VUE_KPI_FTTH!$A$7,"codeIndicateur","xiii","unite","Dénominateur","maille","Maille OI (offres commercialisées sur le marché de détail - Autofourniture)","type_valeur","Valeurs Nettes","OC","(vide)"),VUE_KPI_FTTH!A1) -> 5 | H30: =IFERROR(GETPIVOTDATA("valeur",VUE_KPI_FTTH!$A$7,"codeIndicateur","xiii","unite","Dénominateur","maille","Maille OI (offres commercialisées sur le marché de détail - Autofourniture)","type_valeur","Valeurs Brutes","OC","(vide)"),VUE_KPI_FTTH!A1) -> 5 | I30: =IFERROR(GETPIVOTDATA("valeur",VUE_KPI_FTTH!$A$7,"codeIndicateur","xiii","unite","Dénominateur","maille","Maille d'appréciation","type_valeur","Valeurs Nettes","OC","(vide)"),VUE_KPI_FTTH!A1) -> N/A | J30: =IFERROR(GETPIVOTDATA("valeur",VUE_KPI_FTTH!$A$7,"codeIndicateur","xiii","unite","Dénominateur","maille","Maille d'appréciation","type_valeur","Valeurs Brutes","OC","(vide)"),VUE_KPI_FTTH!A1) -> N/A | K30: =_xlfn.IFS( OR(B30="Taux",B30=""), "", NOT(AND( OR(ISBLANK(C30),ISNUMBER(C30)), OR(ISBLANK(D30),ISNUMBER(D30)), OR(ISBLANK(E30),ISNUMBER(E30)), OR(ISBLANK(F30),ISNUMBER(F30)), OR(ISBLANK(G30),ISNUMBER(G30)), OR(ISBLANK(H30),ISNUMBER(H30)), IF(I$1="",TRUE,OR(ISBLANK(I30),ISNUMBER(I30))), IF(I$1="",TRUE,OR(ISBLANK(J30),ISNUMBER(J30))), IF(K$1="",TRUE,OR(ISBLANK(K30),ISNUMBER(K30))), IF(K$1="",TRUE,OR(ISBLANK(L30),ISNUMBER(L30))) )), "Nombres attendus !", AND( OR(B30="Numérateur",B30="Dénominateur"), NOT(AND( OR(ISBLANK(C30),C30=ROUND(C30,0)), OR(ISBLANK(D30),D30=ROUND(D30,0)), OR(ISBLANK(E30),E30=ROUND(E30,0)), OR(ISBLANK(F30),F30=ROUND(F30,0)), OR(ISBLANK(G30),G30=ROUND(G30,0)), OR(ISBLANK(H30),H30=ROUND(H30,0)), IF(I$1="",TRUE,OR(ISBLANK(I30),I30=ROUND(I30,0))), IF(I$1="",TRUE,OR(ISBLANK(J30),J30=ROUND(J30,0))), IF(K$1="",TRUE,OR(ISBLANK(K30),K30=ROUND(K30,0))), IF(K$1="",TRUE,OR(ISBLANK(L30),L30=ROUND(L30,0))) )) ), "Entiers attendus !", AND(B30<>"Numérateur",B30<>"Dénominateur", NOT(AND( OR(ISBLANK(C30),C30=ROUND(C30,2)), OR(ISBLANK(D30),D30=ROUND(D30,2)), OR(ISBLANK(E30),E30=ROUND(E30,2)), OR(ISBLANK(F30),F30=ROUND(F30,2)), OR(ISBLANK(G30),G30=ROUND(G30,2)), OR(ISBLANK(H30),H30=ROUND(H30,2)), IF(I$1="",TRUE,OR(ISBLANK(I30),I30=ROUND(I30,2))), IF(I$1="",TRUE,OR(ISBLANK(J30),J30=ROUND(J30,2))), IF(K$1="",TRUE,OR(ISBLANK(K30),K30=ROUND(K30,2))), IF(K$1="",TRUE,OR(ISBLANK(L30),L30=ROUND(L30,2))) ))), "Précision supérieure à 2 décimales", MIN(C30:J30)<0,"Nombres positifs attendus !", AND(B30="Dénominateur", NOT(AND( OR(ISBLANK(C30),C30>0), OR(ISBLANK(D30),D30>0), OR(ISBLANK(E30),E30>0), OR(ISBLANK(F30),F30>0), OR(ISBLANK(G30),G30>0), OR(ISBLANK(H30),H30>0), IF(I$1="",TRUE,OR(ISBLANK(I30),I30>0)), IF(I$1="",TRUE,OR(ISBLANK(J30),J30>0)), IF(K$1="",TRUE,OR(ISBLANK(K30),K30>0)), IF(K$1="",TRUE,OR(ISBLANK(L30),L30>0)) ))), "Nombres strictement positifs attendus !", IF(B30="Dénominateur", NOT(AND( OR(ISBLANK(C29),ISBLANK(C30),C30>=C29), OR(ISBLANK(D29),ISBLANK(D30),D30>=D29), OR(ISBLANK(E29),ISBLANK(E30),E30>=E29), OR(ISBLANK(F29),ISBLANK(F30),F30>=F29), OR(ISBLANK(G29),ISBLANK(G30),G30>=G29), OR(ISBLANK(H29),ISBLANK(H30),H30>=H29), IF(I$1="",TRUE,OR(ISBLANK(I29),ISBLANK(I30),I30>=I29)), IF(I$1="",TRUE,OR(ISBLANK(J29),ISBLANK(J30),J30>=J29)), IF(K$1="",TRUE,OR(ISBLANK(K29),ISBLANK(K30),K30>=K29)), IF(K$1="",TRUE,OR(ISBLANK(L29),ISBLANK(L30),L30>=L29)) )),FALSE), "Numérateur supérieur à ce dénominateur !", LEFT( IF(B30="Dénominateur",A29,A30),12) = "(Facultatif)","", IF(I$1="",COUNTBLANK(C30:H30),COUNTBLANK(C30:J30))>0, _xlfn.CONCAT("Encore ",IF(I$1="",COUNTBLANK(C30:H30),COUNTBLANK(C30:J30)), " cellule(s) requise(s)"), TRUE,"" ) -> #NAME?
B31: Taux | C31: =IF(OR(C30="",C30="N/A",C30="NC",C30="ND"),"",C29/C30) -> 0 | D31: =IF(OR(D30="",D30="N/A",D30="NC",D30="ND"),"",D29/D30) -> 0 | E31: =IF(OR(E30="",E30="N/A",E30="NC",E30="ND"),"",E29/E30) | F31: =IF(OR(F30="",F30="N/A",F30="NC",F30="ND"),"",F29/F30) | G31: =IF(OR(G30="",G30="N/A",G30="NC",G30="ND"),"",G29/G30) -> 0 | H31: =IF(OR(H30="",H30="N/A",H30="NC",H30="ND"),"",H29/H30) -> 0 | I31: =IF(OR(I30="",I30="N/A",I30="NC",I30="ND"),"",I29/I30) | J31: =IF(OR(J30="",J30="N/A",J30="NC",J30="ND"),"",J29/J30) | K31: =_xlfn.IFS( OR(B31="Taux",B31=""), "", NOT(AND( OR(ISBLANK(C31),ISNUMBER(C31)), OR(ISBLANK(D31),ISNUMBER(D31)), OR(ISBLANK(E31),ISNUMBER(E31)), OR(ISBLANK(F31),ISNUMBER(F31)), OR(ISBLANK(G31),ISNUMBER(G31)), OR(ISBLANK(H31),ISNUMBER(H31)), IF(I$1="",TRUE,OR(ISBLANK(I31),ISNUMBER(I31))), IF(I$1="",TRUE,OR(ISBLANK(J31),ISNUMBER(J31))), IF(K$1="",TRUE,OR(ISBLANK(K31),ISNUMBER(K31))), IF(K$1="",TRUE,OR(ISBLANK(L31),ISNUMBER(L31))) )), "Nombres attendus !", AND( OR(B31="Numérateur",B31="Dénominateur"), NOT(AND( OR(ISBLANK(C31),C31=ROUND(C31,0)), OR(ISBLANK(D31),D31=ROUND(D31,0)), OR(ISBLANK(E31),E31=ROUND(E31,0)), OR(ISBLANK(F31),F31=ROUND(F31,0)), OR(ISBLANK(G31),G31=ROUND(G31,0)), OR(ISBLANK(H31),H31=ROUND(H31,0)), IF(I$1="",TRUE,OR(ISBLANK(I31),I31=ROUND(I31,0))), IF(I$1="",TRUE,OR(ISBLANK(J31),J31=ROUND(J31,0))), IF(K$1="",TRUE,OR(ISBLANK(K31),K31=ROUND(K31,0))), IF(K$1="",TRUE,OR(ISBLANK(L31),L31=ROUND(L31,0))) )) ), "Entiers attendus !", AND(B31<>"Numérateur",B31<>"Dénominateur", NOT(AND( OR(ISBLANK(C31),C31=ROUND(C31,2)), OR(ISBLANK(D31),D31=ROUND(D31,2)), OR(ISBLANK(E31),E31=ROUND(E31,2)), OR(ISBLANK(F31),F31=ROUND(F31,2)), OR(ISBLANK(G31),G31=ROUND(G31,2)), OR(ISBLANK(H31),H31=ROUND(H31,2)), IF(I$1="",TRUE,OR(ISBLANK(I31),I31=ROUND(I31,2))), IF(I$1="",TRUE,OR(ISBLANK(J31),J31=ROUND(J31,2))), IF(K$1="",TRUE,OR(ISBLANK(K31),K31=ROUND(K31,2))), IF(K$1="",TRUE,OR(ISBLANK(L31),L31=ROUND(L31,2))) ))), "Précision supérieure à 2 décimales", MIN(C31:J31)<0,"Nombres positifs attendus !", AND(B31="Dénominateur", NOT(AND( OR(ISBLANK(C31),C31>0), OR(ISBLANK(D31),D31>0), OR(ISBLANK(E31),E31>0), OR(ISBLANK(F31),F31>0), OR(ISBLANK(G31),G31>0), OR(ISBLANK(H31),H31>0), IF(I$1="",TRUE,OR(ISBLANK(I31),I31>0)), IF(I$1="",TRUE,OR(ISBLANK(J31),J31>0)), IF(K$1="",TRUE,OR(ISBLANK(K31),K31>0)), IF(K$1="",TRUE,OR(ISBLANK(L31),L31>0)) ))), "Nombres strictement positifs attendus !", IF(B31="Dénominateur", NOT(AND( OR(ISBLANK(C30),ISBLANK(C31),C31>=C30), OR(ISBLANK(D30),ISBLANK(D31),D31>=D30), OR(ISBLANK(E30),ISBLANK(E31),E31>=E30), OR(ISBLANK(F30),ISBLANK(F31),F31>=F30), OR(ISBLANK(G30),ISBLANK(G31),G31>=G30), OR(ISBLANK(H30),ISBLANK(H31),H31>=H30), IF(I$1="",TRUE,OR(ISBLANK(I30),ISBLANK(I31),I31>=I30)), IF(I$1="",TRUE,OR(ISBLANK(J30),ISBLANK(J31),J31>=J30)), IF(K$1="",TRUE,OR(ISBLANK(K30),ISBLANK(K31),K31>=K30)), IF(K$1="",TRUE,OR(ISBLANK(L30),ISBLANK(L31),L31>=L30)) )),FALSE), "Numérateur supérieur à ce dénominateur !", LEFT( IF(B31="Dénominateur",A30,A31),12) = "(Facultatif)","", IF(I$1="",COUNTBLANK(C31:H31),COUNTBLANK(C31:J31))>0, _xlfn.CONCAT("Encore ",IF(I$1="",COUNTBLANK(C31:H31),COUNTBLANK(C31:J31)), " cellule(s) requise(s)"), TRUE,"" ) -> #NAME?
A32: Délai de rétablissement sur le segment PM-PBO – 95e centile | B32: 95e centile | C32: =IFERROR(GETPIVOTDATA("valeur",VUE_KPI_FTTH!$A$7,"codeIndicateur","xiv","unite","95e centile","maille","Maille OI","type_valeur","Valeurs Nettes","OC","(vide)"),VUE_KPI_FTTH!A1) -> 3.61 | D32: =IFERROR(GETPIVOTDATA("valeur",VUE_KPI_FTTH!$A$7,"codeIndicateur","xiv","unite","95e centile","maille","Maille OI","type_valeur","Valeurs Brutes","OC","(vide)"),VUE_KPI_FTTH!A1) -> 3.61 | E32: =IFERROR(GETPIVOTDATA("valeur",VUE_KPI_FTTH!$A$7,"codeIndicateur","xiv","unite","95e centile","maille","Maille OI (offres commercialisées sur le marché de gros activé)","type_valeur","Valeurs Nettes","OC","(vide)"),VUE_KPI_FTTH!A1) -> N/A | F32: =IFERROR(GETPIVOTDATA("valeur",VUE_KPI_FTTH!$A$7,"codeIndicateur","xiv","unite","95e centile","maille","Maille OI (offres commercialisées sur le marché de gros activé)","type_valeur","Valeurs Brutes","OC","(vide)"),VUE_KPI_FTTH!A1) -> N/A | G32: =IFERROR(GETPIVOTDATA("valeur",VUE_KPI_FTTH!$A$7,"codeIndicateur","xiv","unite","95e centile","maille","Maille OI (offres commercialisées sur le marché de détail - Autofourniture)","type_valeur","Valeurs Nettes","OC","(vide)"),VUE_KPI_FTTH!A1) -> 3.61 | H32: =IFERROR(GETPIVOTDATA("valeur",VUE_KPI_FTTH!$A$7,"codeIndicateur","xiv","unite","95e centile","maille","Maille OI (offres commercialisées sur le marché de détail - Autofourniture)","type_valeur","Valeurs Brutes","OC","(vide)"),VUE_KPI_FTTH!A1) -> 3.61 | I32: =IFERROR(GETPIVOTDATA("valeur",VUE_KPI_FTTH!$A$7,"codeIndicateur","xiv","unite","95e centile","maille","Maille d'appréciation","type_valeur","Valeurs Nettes","OC","(vide)"),VUE_KPI_FTTH!A1) -> N/A | J32: =IFERROR(GETPIVOTDATA("valeur",VUE_KPI_FTTH!$A$7,"codeIndicateur","xiv","unite","95e centile","maille","Maille d'appréciation","type_valeur","Valeurs Brutes","OC","(vide)"),VUE_KPI_FTTH!A1) -> N/A | K32: =_xlfn.IFS( OR(B32="Taux",B32=""), "", NOT(AND( OR(ISBLANK(C32),ISNUMBER(C32)), OR(ISBLANK(D32),ISNUMBER(D32)), OR(ISBLANK(E32),ISNUMBER(E32)), OR(ISBLANK(F32),ISNUMBER(F32)), OR(ISBLANK(G32),ISNUMBER(G32)), OR(ISBLANK(H32),ISNUMBER(H32)), IF(I$1="",TRUE,OR(ISBLANK(I32),ISNUMBER(I32))), IF(I$1="",TRUE,OR(ISBLANK(J32),ISNUMBER(J32))), IF(K$1="",TRUE,OR(ISBLANK(K32),ISNUMBER(K32))), IF(K$1="",TRUE,OR(ISBLANK(L32),ISNUMBER(L32))) )), "Nombres attendus !", AND( OR(B32="Numérateur",B32="Dénominateur"), NOT(AND( OR(ISBLANK(C32),C32=ROUND(C32,0)), OR(ISBLANK(D32),D32=ROUND(D32,0)), OR(ISBLANK(E32),E32=ROUND(E32,0)), OR(ISBLANK(F32),F32=ROUND(F32,0)), OR(ISBLANK(G32),G32=ROUND(G32,0)), OR(ISBLANK(H32),H32=ROUND(H32,0)), IF(I$1="",TRUE,OR(ISBLANK(I32),I32=ROUND(I32,0))), IF(I$1="",TRUE,OR(ISBLANK(J32),J32=ROUND(J32,0))), IF(K$1="",TRUE,OR(ISBLANK(K32),K32=ROUND(K32,0))), IF(K$1="",TRUE,OR(ISBLANK(L32),L32=ROUND(L32,0))) )) ), "Entiers attendus !", AND(B32<>"Numérateur",B32<>"Dénominateur", NOT(AND( OR(ISBLANK(C32),C32=ROUND(C32,2)), OR(ISBLANK(D32),D32=ROUND(D32,2)), OR(ISBLANK(E32),E32=ROUND(E32,2)), OR(ISBLANK(F32),F32=ROUND(F32,2)), OR(ISBLANK(G32),G32=ROUND(G32,2)), OR(ISBLANK(H32),H32=ROUND(H32,2)), IF(I$1="",TRUE,OR(ISBLANK(I32),I32=ROUND(I32,2))), IF(I$1="",TRUE,OR(ISBLANK(J32),J32=ROUND(J32,2))), IF(K$1="",TRUE,OR(ISBLANK(K32),K32=ROUND(K32,2))), IF(K$1="",TRUE,OR(ISBLANK(L32),L32=ROUND(L32,2))) ))), "Précision supérieure à 2 décimales", MIN(C32:J32)<0,"Nombres positifs attendus !", AND(B32="Dénominateur", NOT(AND( OR(ISBLANK(C32),C32>0), OR(ISBLANK(D32),D32>0), OR(ISBLANK(E32),E32>0), OR(ISBLANK(F32),F32>0), OR(ISBLANK(G32),G32>0), OR(ISBLANK(H32),H32>0), IF(I$1="",TRUE,OR(ISBLANK(I32),I32>0)), IF(I$1="",TRUE,OR(ISBLANK(J32),J32>0)), IF(K$1="",TRUE,OR(ISBLANK(K32),K32>0)), IF(K$1="",TRUE,OR(ISBLANK(L32),L32>0)) ))), "Nombres strictement positifs attendus !", IF(B32="Dénominateur", NOT(AND( OR(ISBLANK(C31),ISBLANK(C32),C32>=C31), OR(ISBLANK(D31),ISBLANK(D32),D32>=D31), OR(ISBLANK(E31),ISBLANK(E32),E32>=E31), OR(ISBLANK(F31),ISBLANK(F32),F32>=F31), OR(ISBLANK(G31),ISBLANK(G32),G32>=G31), OR(ISBLANK(H31),ISBLANK(H32),H32>=H31), IF(I$1="",TRUE,OR(ISBLANK(I31),ISBLANK(I32),I32>=I31)), IF(I$1="",TRUE,OR(ISBLANK(J31),ISBLANK(J32),J32>=J31)), IF(K$1="",TRUE,OR(ISBLANK(K31),ISBLANK(K32),K32>=K31)), IF(K$1="",TRUE,OR(ISBLANK(L31),ISBLANK(L32),L32>=L31)) )),FALSE), "Numérateur supérieur à ce dénominateur !", LEFT( IF(B32="Dénominateur",A31,A32),12) = "(Facultatif)","", IF(I$1="",COUNTBLANK(C32:H32),COUNTBLANK(C32:J32))>0, _xlfn.CONCAT("Encore ",IF(I$1="",COUNTBLANK(C32:H32),COUNTBLANK(C32:J32)), " cellule(s) requise(s)"), TRUE,"" ) -> #NAME?
A33: Taux de non-respect de la garantie du temps de rétablissement 10 heures ouvrées PRDM-PM | B33: Numérateur | C33: =IFERROR(GETPIVOTDATA("valeur",VUE_KPI_FTTH!$A$7,"codeIndicateur","xv","unite","Numérateur","maille","Maille OI","type_valeur","Valeurs Nettes","OC","(vide)"),VUE_KPI_FTTH!A1) -> N/A | D33: =IFERROR(GETPIVOTDATA("valeur",VUE_KPI_FTTH!$A$7,"codeIndicateur","xv","unite","Numérateur","maille","Maille OI","type_valeur","Valeurs Brutes","OC","(vide)"),VUE_KPI_FTTH!A1) -> N/A | E33: =IFERROR(GETPIVOTDATA("valeur",VUE_KPI_FTTH!$A$7,"codeIndicateur","xv","unite","Numérateur","maille","Maille OI (offres commercialisées sur le marché de gros activé)","type_valeur","Valeurs Nettes","OC","(vide)"),VUE_KPI_FTTH!A1) -> N/A | F33: =IFERROR(GETPIVOTDATA("valeur",VUE_KPI_FTTH!$A$7,"codeIndicateur","xv","unite","Numérateur","maille","Maille OI (offres commercialisées sur le marché de gros activé)","type_valeur","Valeurs Brutes","OC","(vide)"),VUE_KPI_FTTH!A1) -> N/A | G33: =IFERROR(GETPIVOTDATA("valeur",VUE_KPI_FTTH!$A$7,"codeIndicateur","xv","unite","Numérateur","maille","Maille OI (offres commercialisées sur le marché de détail - Autofourniture)","type_valeur","Valeurs Nettes","OC","(vide)"),VUE_KPI_FTTH!A1) -> N/A | H33: =IFERROR(GETPIVOTDATA("valeur",VUE_KPI_FTTH!$A$7,"codeIndicateur","xv","unite","Numérateur","maille","Maille OI (offres commercialisées sur le marché de détail - Autofourniture)","type_valeur","Valeurs Brutes","OC","(vide)"),VUE_KPI_FTTH!A1) -> N/A | I33: =IFERROR(GETPIVOTDATA("valeur",VUE_KPI_FTTH!$A$7,"codeIndicateur","xv","unite","Numérateur","maille","Maille d'appréciation","type_valeur","Valeurs Nettes","OC","(vide)"),VUE_KPI_FTTH!A1) -> N/A | J33: =IFERROR(GETPIVOTDATA("valeur",VUE_KPI_FTTH!$A$7,"codeIndicateur","xv","unite","Numérateur","maille","Maille d'appréciation","type_valeur","Valeurs Brutes","OC","(vide)"),VUE_KPI_FTTH!A1) -> N/A | K33: =_xlfn.IFS( OR(B33="Taux",B33=""), "", NOT(AND( OR(ISBLANK(C33),ISNUMBER(C33)), OR(ISBLANK(D33),ISNUMBER(D33)), OR(ISBLANK(E33),ISNUMBER(E33)), OR(ISBLANK(F33),ISNUMBER(F33)), OR(ISBLANK(G33),ISNUMBER(G33)), OR(ISBLANK(H33),ISNUMBER(H33)), IF(I$1="",TRUE,OR(ISBLANK(I33),ISNUMBER(I33))), IF(I$1="",TRUE,OR(ISBLANK(J33),ISNUMBER(J33))), IF(K$1="",TRUE,OR(ISBLANK(K33),ISNUMBER(K33))), IF(K$1="",TRUE,OR(ISBLANK(L33),ISNUMBER(L33))) )), "Nombres attendus !", AND( OR(B33="Numérateur",B33="Dénominateur"), NOT(AND( OR(ISBLANK(C33),C33=ROUND(C33,0)), OR(ISBLANK(D33),D33=ROUND(D33,0)), OR(ISBLANK(E33),E33=ROUND(E33,0)), OR(ISBLANK(F33),F33=ROUND(F33,0)), OR(ISBLANK(G33),G33=ROUND(G33,0)), OR(ISBLANK(H33),H33=ROUND(H33,0)), IF(I$1="",TRUE,OR(ISBLANK(I33),I33=ROUND(I33,0))), IF(I$1="",TRUE,OR(ISBLANK(J33),J33=ROUND(J33,0))), IF(K$1="",TRUE,OR(ISBLANK(K33),K33=ROUND(K33,0))), IF(K$1="",TRUE,OR(ISBLANK(L33),L33=ROUND(L33,0))) )) ), "Entiers attendus !", AND(B33<>"Numérateur",B33<>"Dénominateur", NOT(AND( OR(ISBLANK(C33),C33=ROUND(C33,2)), OR(ISBLANK(D33),D33=ROUND(D33,2)), OR(ISBLANK(E33),E33=ROUND(E33,2)), OR(ISBLANK(F33),F33=ROUND(F33,2)), OR(ISBLANK(G33),G33=ROUND(G33,2)), OR(ISBLANK(H33),H33=ROUND(H33,2)), IF(I$1="",TRUE,OR(ISBLANK(I33),I33=ROUND(I33,2))), IF(I$1="",TRUE,OR(ISBLANK(J33),J33=ROUND(J33,2))), IF(K$1="",TRUE,OR(ISBLANK(K33),K33=ROUND(K33,2))), IF(K$1="",TRUE,OR(ISBLANK(L33),L33=ROUND(L33,2))) ))), "Précision supérieure à 2 décimales", MIN(C33:J33)<0,"Nombres positifs attendus !", AND(B33="Dénominateur", NOT(AND( OR(ISBLANK(C33),C33>0), OR(ISBLANK(D33),D33>0), OR(ISBLANK(E33),E33>0), OR(ISBLANK(F33),F33>0), OR(ISBLANK(G33),G33>0), OR(ISBLANK(H33),H33>0), IF(I$1="",TRUE,OR(ISBLANK(I33),I33>0)), IF(I$1="",TRUE,OR(ISBLANK(J33),J33>0)), IF(K$1="",TRUE,OR(ISBLANK(K33),K33>0)), IF(K$1="",TRUE,OR(ISBLANK(L33),L33>0)) ))), "Nombres strictement positifs attendus !", IF(B33="Dénominateur", NOT(AND( OR(ISBLANK(C32),ISBLANK(C33),C33>=C32), OR(ISBLANK(D32),ISBLANK(D33),D33>=D32), OR(ISBLANK(E32),ISBLANK(E33),E33>=E32), OR(ISBLANK(F32),ISBLANK(F33),F33>=F32), OR(ISBLANK(G32),ISBLANK(G33),G33>=G32), OR(ISBLANK(H32),ISBLANK(H33),H33>=H32), IF(I$1="",TRUE,OR(ISBLANK(I32),ISBLANK(I33),I33>=I32)), IF(I$1="",TRUE,OR(ISBLANK(J32),ISBLANK(J33),J33>=J32)), IF(K$1="",TRUE,OR(ISBLANK(K32),ISBLANK(K33),K33>=K32)), IF(K$1="",TRUE,OR(ISBLANK(L32),ISBLANK(L33),L33>=L32)) )),FALSE), "Numérateur supérieur à ce dénominateur !", LEFT( IF(B33="Dénominateur",A32,A33),12) = "(Facultatif)","", IF(I$1="",COUNTBLANK(C33:H33),COUNTBLANK(C33:J33))>0, _xlfn.CONCAT("Encore ",IF(I$1="",COUNTBLANK(C33:H33),COUNTBLANK(C33:J33)), " cellule(s) requise(s)"), TRUE,"" ) -> #NAME?
B34: Dénominateur | C34: =IFERROR(GETPIVOTDATA("valeur",VUE_KPI_FTTH!$A$7,"codeIndicateur","xv","unite","Dénominateur","maille","Maille OI","type_valeur","Valeurs Nettes","OC","(vide)"),VUE_KPI_FTTH!A1) -> N/A | D34: =IFERROR(GETPIVOTDATA("valeur",VUE_KPI_FTTH!$A$7,"codeIndicateur","xv","unite","Dénominateur","maille","Maille OI","type_valeur","Valeurs Brutes","OC","(vide)"),VUE_KPI_FTTH!A1) -> N/A | E34: =IFERROR(GETPIVOTDATA("valeur",VUE_KPI_FTTH!$A$7,"codeIndicateur","xv","unite","Dénominateur","maille","Maille OI (offres commercialisées sur le marché de gros activé)","type_valeur","Valeurs Nettes","OC","(vide)"),VUE_KPI_FTTH!A1) -> N/A | F34: =IFERROR(GETPIVOTDATA("valeur",VUE_KPI_FTTH!$A$7,"codeIndicateur","xv","unite","Dénominateur","maille","Maille OI (offres commercialisées sur le marché de gros activé)","type_valeur","Valeurs Brutes","OC","(vide)"),VUE_KPI_FTTH!A1) -> N/A | G34: =IFERROR(GETPIVOTDATA("valeur",VUE_KPI_FTTH!$A$7,"codeIndicateur","xv","unite","Dénominateur","maille","Maille OI (offres commercialisées sur le marché de détail - Autofourniture)","type_valeur","Valeurs Nettes","OC","(vide)"),VUE_KPI_FTTH!A1) -> N/A | H34: =IFERROR(GETPIVOTDATA("valeur",VUE_KPI_FTTH!$A$7,"codeIndicateur","xv","unite","Dénominateur","maille","Maille OI (offres commercialisées sur le marché de détail - Autofourniture)","type_valeur","Valeurs Brutes","OC","(vide)"),VUE_KPI_FTTH!A1) -> N/A | I34: =IFERROR(GETPIVOTDATA("valeur",VUE_KPI_FTTH!$A$7,"codeIndicateur","xv","unite","Dénominateur","maille","Maille d'appréciation","type_valeur","Valeurs Nettes","OC","(vide)"),VUE_KPI_FTTH!A1) -> N/A | J34: =IFERROR(GETPIVOTDATA("valeur",VUE_KPI_FTTH!$A$7,"codeIndicateur","xv","unite","Dénominateur","maille","Maille d'appréciation","type_valeur","Valeurs Brutes","OC","(vide)"),VUE_KPI_FTTH!A1) -> N/A | K34: =_xlfn.IFS( OR(B34="Taux",B34=""), "", NOT(AND( OR(ISBLANK(C34),ISNUMBER(C34)), OR(ISBLANK(D34),ISNUMBER(D34)), OR(ISBLANK(E34),ISNUMBER(E34)), OR(ISBLANK(F34),ISNUMBER(F34)), OR(ISBLANK(G34),ISNUMBER(G34)), OR(ISBLANK(H34),ISNUMBER(H34)), IF(I$1="",TRUE,OR(ISBLANK(I34),ISNUMBER(I34))), IF(I$1="",TRUE,OR(ISBLANK(J34),ISNUMBER(J34))), IF(K$1="",TRUE,OR(ISBLANK(K34),ISNUMBER(K34))), IF(K$1="",TRUE,OR(ISBLANK(L34),ISNUMBER(L34))) )), "Nombres attendus !", AND( OR(B34="Numérateur",B34="Dénominateur"), NOT(AND( OR(ISBLANK(C34),C34=ROUND(C34,0)), OR(ISBLANK(D34),D34=ROUND(D34,0)), OR(ISBLANK(E34),E34=ROUND(E34,0)), OR(ISBLANK(F34),F34=ROUND(F34,0)), OR(ISBLANK(G34),G34=ROUND(G34,0)), OR(ISBLANK(H34),H34=ROUND(H34,0)), IF(I$1="",TRUE,OR(ISBLANK(I34),I34=ROUND(I34,0))), IF(I$1="",TRUE,OR(ISBLANK(J34),J34=ROUND(J34,0))), IF(K$1="",TRUE,OR(ISBLANK(K34),K34=ROUND(K34,0))), IF(K$1="",TRUE,OR(ISBLANK(L34),L34=ROUND(L34,0))) )) ), "Entiers attendus !", AND(B34<>"Numérateur",B34<>"Dénominateur", NOT(AND( OR(ISBLANK(C34),C34=ROUND(C34,2)), OR(ISBLANK(D34),D34=ROUND(D34,2)), OR(ISBLANK(E34),E34=ROUND(E34,2)), OR(ISBLANK(F34),F34=ROUND(F34,2)), OR(ISBLANK(G34),G34=ROUND(G34,2)), OR(ISBLANK(H34),H34=ROUND(H34,2)), IF(I$1="",TRUE,OR(ISBLANK(I34),I34=ROUND(I34,2))), IF(I$1="",TRUE,OR(ISBLANK(J34),J34=ROUND(J34,2))), IF(K$1="",TRUE,OR(ISBLANK(K34),K34=ROUND(K34,2))), IF(K$1="",TRUE,OR(ISBLANK(L34),L34=ROUND(L34,2))) ))), "Précision supérieure à 2 décimales", MIN(C34:J34)<0,"Nombres positifs attendus !", AND(B34="Dénominateur", NOT(AND( OR(ISBLANK(C34),C34>0), OR(ISBLANK(D34),D34>0), OR(ISBLANK(E34),E34>0), OR(ISBLANK(F34),F34>0), OR(ISBLANK(G34),G34>0), OR(ISBLANK(H34),H34>0), IF(I$1="",TRUE,OR(ISBLANK(I34),I34>0)), IF(I$1="",TRUE,OR(ISBLANK(J34),J34>0)), IF(K$1="",TRUE,OR(ISBLANK(K34),K34>0)), IF(K$1="",TRUE,OR(ISBLANK(L34),L34>0)) ))), "Nombres strictement positifs attendus !", IF(B34="Dénominateur", NOT(AND( OR(ISBLANK(C33),ISBLANK(C34),C34>=C33), OR(ISBLANK(D33),ISBLANK(D34),D34>=D33), OR(ISBLANK(E33),ISBLANK(E34),E34>=E33), OR(ISBLANK(F33),ISBLANK(F34),F34>=F33), OR(ISBLANK(G33),ISBLANK(G34),G34>=G33), OR(ISBLANK(H33),ISBLANK(H34),H34>=H33), IF(I$1="",TRUE,OR(ISBLANK(I33),ISBLANK(I34),I34>=I33)), IF(I$1="",TRUE,OR(ISBLANK(J33),ISBLANK(J34),J34>=J33)), IF(K$1="",TRUE,OR(ISBLANK(K33),ISBLANK(K34),K34>=K33)), IF(K$1="",TRUE,OR(ISBLANK(L33),ISBLANK(L34),L34>=L33)) )),FALSE), "Numérateur supérieur à ce dénominateur !", LEFT( IF(B34="Dénominateur",A33,A34),12) = "(Facultatif)","", IF(I$1="",COUNTBLANK(C34:H34),COUNTBLANK(C34:J34))>0, _xlfn.CONCAT("Encore ",IF(I$1="",COUNTBLANK(C34:H34),COUNTBLANK(C34:J34)), " cellule(s) requise(s)"), TRUE,"" ) -> #NAME?
B35: Taux | C35: =IF(OR(C34="",C34="N/A",C34="NC",C34="ND"),"",C33/C34) | D35: =IF(OR(D34="",D34="N/A",D34="NC",D34="ND"),"",D33/D34) | E35: =IF(OR(E34="",E34="N/A",E34="NC",E34="ND"),"",E33/E34) | F35: =IF(OR(F34="",F34="N/A",F34="NC",F34="ND"),"",F33/F34) | G35: =IF(OR(G34="",G34="N/A",G34="NC",G34="ND"),"",G33/G34) | H35: =IF(OR(H34="",H34="N/A",H34="NC",H34="ND"),"",H33/H34) | I35: =IF(OR(I34="",I34="N/A",I34="NC",I34="ND"),"",I33/I34) | J35: =IF(OR(J34="",J34="N/A",J34="NC",J34="ND"),"",J33/J34) | K35: =_xlfn.IFS( OR(B35="Taux",B35=""), "", NOT(AND( OR(ISBLANK(C35),ISNUMBER(C35)), OR(ISBLANK(D35),ISNUMBER(D35)), OR(ISBLANK(E35),ISNUMBER(E35)), OR(ISBLANK(F35),ISNUMBER(F35)), OR(ISBLANK(G35),ISNUMBER(G35)), OR(ISBLANK(H35),ISNUMBER(H35)), IF(I$1="",TRUE,OR(ISBLANK(I35),ISNUMBER(I35))), IF(I$1="",TRUE,OR(ISBLANK(J35),ISNUMBER(J35))), IF(K$1="",TRUE,OR(ISBLANK(K35),ISNUMBER(K35))), IF(K$1="",TRUE,OR(ISBLANK(L35),ISNUMBER(L35))) )), "Nombres attendus !", AND( OR(B35="Numérateur",B35="Dénominateur"), NOT(AND( OR(ISBLANK(C35),C35=ROUND(C35,0)), OR(ISBLANK(D35),D35=ROUND(D35,0)), OR(ISBLANK(E35),E35=ROUND(E35,0)), OR(ISBLANK(F35),F35=ROUND(F35,0)), OR(ISBLANK(G35),G35=ROUND(G35,0)), OR(ISBLANK(H35),H35=ROUND(H35,0)), IF(I$1="",TRUE,OR(ISBLANK(I35),I35=ROUND(I35,0))), IF(I$1="",TRUE,OR(ISBLANK(J35),J35=ROUND(J35,0))), IF(K$1="",TRUE,OR(ISBLANK(K35),K35=ROUND(K35,0))), IF(K$1="",TRUE,OR(ISBLANK(L35),L35=ROUND(L35,0))) )) ), "Entiers attendus !", AND(B35<>"Numérateur",B35<>"Dénominateur", NOT(AND( OR(ISBLANK(C35),C35=ROUND(C35,2)), OR(ISBLANK(D35),D35=ROUND(D35,2)), OR(ISBLANK(E35),E35=ROUND(E35,2)), OR(ISBLANK(F35),F35=ROUND(F35,2)), OR(ISBLANK(G35),G35=ROUND(G35,2)), OR(ISBLANK(H35),H35=ROUND(H35,2)), IF(I$1="",TRUE,OR(ISBLANK(I35),I35=ROUND(I35,2))), IF(I$1="",TRUE,OR(ISBLANK(J35),J35=ROUND(J35,2))), IF(K$1="",TRUE,OR(ISBLANK(K35),K35=ROUND(K35,2))), IF(K$1="",TRUE,OR(ISBLANK(L35),L35=ROUND(L35,2))) ))), "Précision supérieure à 2 décimales", MIN(C35:J35)<0,"Nombres positifs attendus !", AND(B35="Dénominateur", NOT(AND( OR(ISBLANK(C35),C35>0), OR(ISBLANK(D35),D35>0), OR(ISBLANK(E35),E35>0), OR(ISBLANK(F35),F35>0), OR(ISBLANK(G35),G35>0), OR(ISBLANK(H35),H35>0), IF(I$1="",TRUE,OR(ISBLANK(I35),I35>0)), IF(I$1="",TRUE,OR(ISBLANK(J35),J35>0)), IF(K$1="",TRUE,OR(ISBLANK(K35),K35>0)), IF(K$1="",TRUE,OR(ISBLANK(L35),L35>0)) ))), "Nombres strictement positifs attendus !", IF(B35="Dénominateur", NOT(AND( OR(ISBLANK(C34),ISBLANK(C35),C35>=C34), OR(ISBLANK(D34),ISBLANK(D35),D35>=D34), OR(ISBLANK(E34),ISBLANK(E35),E35>=E34), OR(ISBLANK(F34),ISBLANK(F35),F35>=F34), OR(ISBLANK(G34),ISBLANK(G35),G35>=G34), OR(ISBLANK(H34),ISBLANK(H35),H35>=H34), IF(I$1="",TRUE,OR(ISBLANK(I34),ISBLANK(I35),I35>=I34)), IF(I$1="",TRUE,OR(ISBLANK(J34),ISBLANK(J35),J35>=J34)), IF(K$1="",TRUE,OR(ISBLANK(K34),ISBLANK(K35),K35>=K34)), IF(K$1="",TRUE,OR(ISBLANK(L34),ISBLANK(L35),L35>=L34)) )),FALSE), "Numérateur supérieur à ce dénominateur !", LEFT( IF(B35="Dénominateur",A34,A35),12) = "(Facultatif)","", IF(I$1="",COUNTBLANK(C35:H35),COUNTBLANK(C35:J35))>0, _xlfn.CONCAT("Encore ",IF(I$1="",COUNTBLANK(C35:H35),COUNTBLANK(C35:J35)), " cellule(s) requise(s)"), TRUE,"" ) -> #NAME?
A36: Délai moyen de rétablissement sur le segment PRDM-PM | B36: Délai moyen | C36: =IFERROR(GETPIVOTDATA("valeur",VUE_KPI_FTTH!$A$7,"codeIndicateur","xvi","unite","Délai moyen","maille","Maille OI","type_valeur","Valeurs Nettes","OC","(vide)"),VUE_KPI_FTTH!A1) -> N/A | D36: =IFERROR(GETPIVOTDATA("valeur",VUE_KPI_FTTH!$A$7,"codeIndicateur","xvi","unite","Délai moyen","maille","Maille OI","type_valeur","Valeurs Brutes","OC","(vide)"),VUE_KPI_FTTH!A1) -> N/A | E36: =IFERROR(GETPIVOTDATA("valeur",VUE_KPI_FTTH!$A$7,"codeIndicateur","xvi","unite","Délai moyen","maille","Maille OI (offres commercialisées sur le marché de gros activé)","type_valeur","Valeurs Nettes","OC","(vide)"),VUE_KPI_FTTH!A1) -> N/A | F36: =IFERROR(GETPIVOTDATA("valeur",VUE_KPI_FTTH!$A$7,"codeIndicateur","xvi","unite","Délai moyen","maille","Maille OI (offres commercialisées sur le marché de gros activé)","type_valeur","Valeurs Brutes","OC","(vide)"),VUE_KPI_FTTH!A1) -> N/A | G36: =IFERROR(GETPIVOTDATA("valeur",VUE_KPI_FTTH!$A$7,"codeIndicateur","xvi","unite","Délai moyen","maille","Maille OI (offres commercialisées sur le marché de détail - Autofourniture)","type_valeur","Valeurs Nettes","OC","(vide)"),VUE_KPI_FTTH!A1) -> N/A | H36: =IFERROR(GETPIVOTDATA("valeur",VUE_KPI_FTTH!$A$7,"codeIndicateur","xvi","unite","Délai moyen","maille","Maille OI (offres commercialisées sur le marché de détail - Autofourniture)","type_valeur","Valeurs Brutes","OC","(vide)"),VUE_KPI_FTTH!A1) -> N/A | I36: =IFERROR(GETPIVOTDATA("valeur",VUE_KPI_FTTH!$A$7,"codeIndicateur","xvi","unite","Délai moyen","maille","Maille d'appréciation","type_valeur","Valeurs Nettes","OC","(vide)"),VUE_KPI_FTTH!A1) -> N/A | J36: =IFERROR(GETPIVOTDATA("valeur",VUE_KPI_FTTH!$A$7,"codeIndicateur","xvi","unite","Délai moyen","maille","Maille d'appréciation","type_valeur","Valeurs Brutes","OC","(vide)"),VUE_KPI_FTTH!A1) -> N/A | K36: =_xlfn.IFS( OR(B36="Taux",B36=""), "", NOT(AND( OR(ISBLANK(C36),ISNUMBER(C36)), OR(ISBLANK(D36),ISNUMBER(D36)), OR(ISBLANK(E36),ISNUMBER(E36)), OR(ISBLANK(F36),ISNUMBER(F36)), OR(ISBLANK(G36),ISNUMBER(G36)), OR(ISBLANK(H36),ISNUMBER(H36)), IF(I$1="",TRUE,OR(ISBLANK(I36),ISNUMBER(I36))), IF(I$1="",TRUE,OR(ISBLANK(J36),ISNUMBER(J36))), IF(K$1="",TRUE,OR(ISBLANK(K36),ISNUMBER(K36))), IF(K$1="",TRUE,OR(ISBLANK(L36),ISNUMBER(L36))) )), "Nombres attendus !", AND( OR(B36="Numérateur",B36="Dénominateur"), NOT(AND( OR(ISBLANK(C36),C36=ROUND(C36,0)), OR(ISBLANK(D36),D36=ROUND(D36,0)), OR(ISBLANK(E36),E36=ROUND(E36,0)), OR(ISBLANK(F36),F36=ROUND(F36,0)), OR(ISBLANK(G36),G36=ROUND(G36,0)), OR(ISBLANK(H36),H36=ROUND(H36,0)), IF(I$1="",TRUE,OR(ISBLANK(I36),I36=ROUND(I36,0))), IF(I$1="",TRUE,OR(ISBLANK(J36),J36=ROUND(J36,0))), IF(K$1="",TRUE,OR(ISBLANK(K36),K36=ROUND(K36,0))), IF(K$1="",TRUE,OR(ISBLANK(L36),L36=ROUND(L36,0))) )) ), "Entiers attendus !", AND(B36<>"Numérateur",B36<>"Dénominateur", NOT(AND( OR(ISBLANK(C36),C36=ROUND(C36,2)), OR(ISBLANK(D36),D36=ROUND(D36,2)), OR(ISBLANK(E36),E36=ROUND(E36,2)), OR(ISBLANK(F36),F36=ROUND(F36,2)), OR(ISBLANK(G36),G36=ROUND(G36,2)), OR(ISBLANK(H36),H36=ROUND(H36,2)), IF(I$1="",TRUE,OR(ISBLANK(I36),I36=ROUND(I36,2))), IF(I$1="",TRUE,OR(ISBLANK(J36),J36=ROUND(J36,2))), IF(K$1="",TRUE,OR(ISBLANK(K36),K36=ROUND(K36,2))), IF(K$1="",TRUE,OR(ISBLANK(L36),L36=ROUND(L36,2))) ))), "Précision supérieure à 2 décimales", MIN(C36:J36)<0,"Nombres positifs attendus !", AND(B36="Dénominateur", NOT(AND( OR(ISBLANK(C36),C36>0), OR(ISBLANK(D36),D36>0), OR(ISBLANK(E36),E36>0), OR(ISBLANK(F36),F36>0), OR(ISBLANK(G36),G36>0), OR(ISBLANK(H36),H36>0), IF(I$1="",TRUE,OR(ISBLANK(I36),I36>0)), IF(I$1="",TRUE,OR(ISBLANK(J36),J36>0)), IF(K$1="",TRUE,OR(ISBLANK(K36),K36>0)), IF(K$1="",TRUE,OR(ISBLANK(L36),L36>0)) ))), "Nombres strictement positifs attendus !", IF(B36="Dénominateur", NOT(AND( OR(ISBLANK(C35),ISBLANK(C36),C36>=C35), OR(ISBLANK(D35),ISBLANK(D36),D36>=D35), OR(ISBLANK(E35),ISBLANK(E36),E36>=E35), OR(ISBLANK(F35),ISBLANK(F36),F36>=F35), OR(ISBLANK(G35),ISBLANK(G36),G36>=G35), OR(ISBLANK(H35),ISBLANK(H36),H36>=H35), IF(I$1="",TRUE,OR(ISBLANK(I35),ISBLANK(I36),I36>=I35)), IF(I$1="",TRUE,OR(ISBLANK(J35),ISBLANK(J36),J36>=J35)), IF(K$1="",TRUE,OR(ISBLANK(K35),ISBLANK(K36),K36>=K35)), IF(K$1="",TRUE,OR(ISBLANK(L35),ISBLANK(L36),L36>=L35)) )),FALSE), "Numérateur supérieur à ce dénominateur !", LEFT( IF(B36="Dénominateur",A35,A36),12) = "(Facultatif)","", IF(I$1="",COUNTBLANK(C36:H36),COUNTBLANK(C36:J36))>0, _xlfn.CONCAT("Encore ",IF(I$1="",COUNTBLANK(C36:H36),COUNTBLANK(C36:J36)), " cellule(s) requise(s)"), TRUE,"" ) -> #NAME?
A37: Taux de signalisations sur parc (NRO-DTIO) sur une période d’un mois | B37: Numérateur | C37: =IFERROR(GETPIVOTDATA("valeur",VUE_KPI_FTTH!$A$7,"codeIndicateur","xvii","unite","Numérateur","maille","Maille OI","type_valeur","Valeurs Nettes","OC","(vide)"),VUE_KPI_FTTH!A1) -> 1.66667 | D37: =IFERROR(GETPIVOTDATA("valeur",VUE_KPI_FTTH!$A$7,"codeIndicateur","xvii","unite","Numérateur","maille","Maille OI","type_valeur","Valeurs Brutes","OC","(vide)"),VUE_KPI_FTTH!A1) -> 1.66667 | E37: =IFERROR(GETPIVOTDATA("valeur",VUE_KPI_FTTH!$A$7,"codeIndicateur","xvii","unite","Numérateur","maille","Maille OI (offres commercialisées sur le marché de gros activé)","type_valeur","Valeurs Nettes","OC","(vide)"),VUE_KPI_FTTH!A1) -> N/A | F37: =IFERROR(GETPIVOTDATA("valeur",VUE_KPI_FTTH!$A$7,"codeIndicateur","xvii","unite","Numérateur","maille","Maille OI (offres commercialisées sur le marché de gros activé)","type_valeur","Valeurs Brutes","OC","(vide)"),VUE_KPI_FTTH!A1) -> N/A | G37: =IFERROR(GETPIVOTDATA("valeur",VUE_KPI_FTTH!$A$7,"codeIndicateur","xvii","unite","Numérateur","maille","Maille OI (offres commercialisées sur le marché de détail - Autofourniture)","type_valeur","Valeurs Nettes","OC","(vide)"),VUE_KPI_FTTH!A1) -> 1.66667 | H37: =IFERROR(GETPIVOTDATA("valeur",VUE_KPI_FTTH!$A$7,"codeIndicateur","xvii","unite","Numérateur","maille","Maille OI (offres commercialisées sur le marché de détail - Autofourniture)","type_valeur","Valeurs Brutes","OC","(vide)"),VUE_KPI_FTTH!A1) -> 1.66667 | I37: =IFERROR(GETPIVOTDATA("valeur",VUE_KPI_FTTH!$A$7,"codeIndicateur","xvii","unite","Numérateur","maille","Maille d'appréciation","type_valeur","Valeurs Nettes","OC","(vide)"),VUE_KPI_FTTH!A1) -> N/A | J37: =IFERROR(GETPIVOTDATA("valeur",VUE_KPI_FTTH!$A$7,"codeIndicateur","xvii","unite","Numérateur","maille","Maille d'appréciation","type_valeur","Valeurs Brutes","OC","(vide)"),VUE_KPI_FTTH!A1) -> N/A | K37: =_xlfn.IFS( OR(B37="Taux",B37=""), "", NOT(AND( OR(ISBLANK(C37),ISNUMBER(C37)), OR(ISBLANK(D37),ISNUMBER(D37)), OR(ISBLANK(E37),ISNUMBER(E37)), OR(ISBLANK(F37),ISNUMBER(F37)), OR(ISBLANK(G37),ISNUMBER(G37)), OR(ISBLANK(H37),ISNUMBER(H37)), IF(I$1="",TRUE,OR(ISBLANK(I37),ISNUMBER(I37))), IF(I$1="",TRUE,OR(ISBLANK(J37),ISNUMBER(J37))), IF(K$1="",TRUE,OR(ISBLANK(K37),ISNUMBER(K37))), IF(K$1="",TRUE,OR(ISBLANK(L37),ISNUMBER(L37))) )), "Nombres attendus !", AND( OR(B37="Numérateur",B37="Dénominateur"), NOT(AND( OR(ISBLANK(C37),C37=ROUND(C37,0)), OR(ISBLANK(D37),D37=ROUND(D37,0)), OR(ISBLANK(E37),E37=ROUND(E37,0)), OR(ISBLANK(F37),F37=ROUND(F37,0)), OR(ISBLANK(G37),G37=ROUND(G37,0)), OR(ISBLANK(H37),H37=ROUND(H37,0)), IF(I$1="",TRUE,OR(ISBLANK(I37),I37=ROUND(I37,0))), IF(I$1="",TRUE,OR(ISBLANK(J37),J37=ROUND(J37,0))), IF(K$1="",TRUE,OR(ISBLANK(K37),K37=ROUND(K37,0))), IF(K$1="",TRUE,OR(ISBLANK(L37),L37=ROUND(L37,0))) )) ), "Entiers attendus !", AND(B37<>"Numérateur",B37<>"Dénominateur", NOT(AND( OR(ISBLANK(C37),C37=ROUND(C37,2)), OR(ISBLANK(D37),D37=ROUND(D37,2)), OR(ISBLANK(E37),E37=ROUND(E37,2)), OR(ISBLANK(F37),F37=ROUND(F37,2)), OR(ISBLANK(G37),G37=ROUND(G37,2)), OR(ISBLANK(H37),H37=ROUND(H37,2)), IF(I$1="",TRUE,OR(ISBLANK(I37),I37=ROUND(I37,2))), IF(I$1="",TRUE,OR(ISBLANK(J37),J37=ROUND(J37,2))), IF(K$1="",TRUE,OR(ISBLANK(K37),K37=ROUND(K37,2))), IF(K$1="",TRUE,OR(ISBLANK(L37),L37=ROUND(L37,2))) ))), "Précision supérieure à 2 décimales", MIN(C37:J37)<0,"Nombres positifs attendus !", AND(B37="Dénominateur", NOT(AND( OR(ISBLANK(C37),C37>0), OR(ISBLANK(D37),D37>0), OR(ISBLANK(E37),E37>0), OR(ISBLANK(F37),F37>0), OR(ISBLANK(G37),G37>0), OR(ISBLANK(H37),H37>0), IF(I$1="",TRUE,OR(ISBLANK(I37),I37>0)), IF(I$1="",TRUE,OR(ISBLANK(J37),J37>0)), IF(K$1="",TRUE,OR(ISBLANK(K37),K37>0)), IF(K$1="",TRUE,OR(ISBLANK(L37),L37>0)) ))), "Nombres strictement positifs attendus !", IF(B37="Dénominateur", NOT(AND( OR(ISBLANK(C36),ISBLANK(C37),C37>=C36), OR(ISBLANK(D36),ISBLANK(D37),D37>=D36), OR(ISBLANK(E36),ISBLANK(E37),E37>=E36), OR(ISBLANK(F36),ISBLANK(F37),F37>=F36), OR(ISBLANK(G36),ISBLANK(G37),G37>=G36), OR(ISBLANK(H36),ISBLANK(H37),H37>=H36), IF(I$1="",TRUE,OR(ISBLANK(I36),ISBLANK(I37),I37>=I36)), IF(I$1="",TRUE,OR(ISBLANK(J36),ISBLANK(J37),J37>=J36)), IF(K$1="",TRUE,OR(ISBLANK(K36),ISBLANK(K37),K37>=K36)), IF(K$1="",TRUE,OR(ISBLANK(L36),ISBLANK(L37),L37>=L36)) )),FALSE), "Numérateur supérieur à ce dénominateur !", LEFT( IF(B37="Dénominateur",A36,A37),12) = "(Facultatif)","", IF(I$1="",COUNTBLANK(C37:H37),COUNTBLANK(C37:J37))>0, _xlfn.CONCAT("Encore ",IF(I$1="",COUNTBLANK(C37:H37),COUNTBLANK(C37:J37)), " cellule(s) requise(s)"), TRUE,"" ) -> #NAME?
B38: Dénominateur | C38: =IFERROR(GETPIVOTDATA("valeur",VUE_KPI_FTTH!$A$7,"codeIndicateur","xvii","unite","Dénominateur","maille","Maille OI","type_valeur","Valeurs Nettes","OC","(vide)"),VUE_KPI_FTTH!A1) -> 15532.333 | D38: =IFERROR(GETPIVOTDATA("valeur",VUE_KPI_FTTH!$A$7,"codeIndicateur","xvii","unite","Dénominateur","maille","Maille OI","type_valeur","Valeurs Brutes","OC","(vide)"),VUE_KPI_FTTH!A1) -> 15532.333 | E38: =IFERROR(GETPIVOTDATA("valeur",VUE_KPI_FTTH!$A$7,"codeIndicateur","xvii","unite","Dénominateur","maille","Maille OI (offres commercialisées sur le marché de gros activé)","type_valeur","Valeurs Nettes","OC","(vide)"),VUE_KPI_FTTH!A1) -> N/A | F38: =IFERROR(GETPIVOTDATA("valeur",VUE_KPI_FTTH!$A$7,"codeIndicateur","xvii","unite","Dénominateur","maille","Maille OI (offres commercialisées sur le marché de gros activé)","type_valeur","Valeurs Brutes","OC","(vide)"),VUE_KPI_FTTH!A1) -> N/A | G38: =IFERROR(GETPIVOTDATA("valeur",VUE_KPI_FTTH!$A$7,"codeIndicateur","xvii","unite","Dénominateur","maille","Maille OI (offres commercialisées sur le marché de détail - Autofourniture)","type_valeur","Valeurs Nettes","OC","(vide)"),VUE_KPI_FTTH!A1) -> 15532.333 | H38: =IFERROR(GETPIVOTDATA("valeur",VUE_KPI_FTTH!$A$7,"codeIndicateur","xvii","unite","Dénominateur","maille","Maille OI (offres commercialisées sur le marché de détail - Autofourniture)","type_valeur","Valeurs Brutes","OC","(vide)"),VUE_KPI_FTTH!A1) -> 15532.333 | I38: =IFERROR(GETPIVOTDATA("valeur",VUE_KPI_FTTH!$A$7,"codeIndicateur","xvii","unite","Dénominateur","maille","Maille d'appréciation","type_valeur","Valeurs Nettes","OC","(vide)"),VUE_KPI_FTTH!A1) -> N/A | J38: =IFERROR(GETPIVOTDATA("valeur",VUE_KPI_FTTH!$A$7,"codeIndicateur","xvii","unite","Dénominateur","maille","Maille d'appréciation","type_valeur","Valeurs Brutes","OC","(vide)"),VUE_KPI_FTTH!A1) -> N/A | K38: =_xlfn.IFS( OR(B38="Taux",B38=""), "", NOT(AND( OR(ISBLANK(C38),ISNUMBER(C38)), OR(ISBLANK(D38),ISNUMBER(D38)), OR(ISBLANK(E38),ISNUMBER(E38)), OR(ISBLANK(F38),ISNUMBER(F38)), OR(ISBLANK(G38),ISNUMBER(G38)), OR(ISBLANK(H38),ISNUMBER(H38)), IF(I$1="",TRUE,OR(ISBLANK(I38),ISNUMBER(I38))), IF(I$1="",TRUE,OR(ISBLANK(J38),ISNUMBER(J38))), IF(K$1="",TRUE,OR(ISBLANK(K38),ISNUMBER(K38))), IF(K$1="",TRUE,OR(ISBLANK(L38),ISNUMBER(L38))) )), "Nombres attendus !", AND( OR(B38="Numérateur",B38="Dénominateur"), NOT(AND( OR(ISBLANK(C38),C38=ROUND(C38,0)), OR(ISBLANK(D38),D38=ROUND(D38,0)), OR(ISBLANK(E38),E38=ROUND(E38,0)), OR(ISBLANK(F38),F38=ROUND(F38,0)), OR(ISBLANK(G38),G38=ROUND(G38,0)), OR(ISBLANK(H38),H38=ROUND(H38,0)), IF(I$1="",TRUE,OR(ISBLANK(I38),I38=ROUND(I38,0))), IF(I$1="",TRUE,OR(ISBLANK(J38),J38=ROUND(J38,0))), IF(K$1="",TRUE,OR(ISBLANK(K38),K38=ROUND(K38,0))), IF(K$1="",TRUE,OR(ISBLANK(L38),L38=ROUND(L38,0))) )) ), "Entiers attendus !", AND(B38<>"Numérateur",B38<>"Dénominateur", NOT(AND( OR(ISBLANK(C38),C38=ROUND(C38,2)), OR(ISBLANK(D38),D38=ROUND(D38,2)), OR(ISBLANK(E38),E38=ROUND(E38,2)), OR(ISBLANK(F38),F38=ROUND(F38,2)), OR(ISBLANK(G38),G38=ROUND(G38,2)), OR(ISBLANK(H38),H38=ROUND(H38,2)), IF(I$1="",TRUE,OR(ISBLANK(I38),I38=ROUND(I38,2))), IF(I$1="",TRUE,OR(ISBLANK(J38),J38=ROUND(J38,2))), IF(K$1="",TRUE,OR(ISBLANK(K38),K38=ROUND(K38,2))), IF(K$1="",TRUE,OR(ISBLANK(L38),L38=ROUND(L38,2))) ))), "Précision supérieure à 2 décimales", MIN(C38:J38)<0,"Nombres positifs attendus !", AND(B38="Dénominateur", NOT(AND( OR(ISBLANK(C38),C38>0), OR(ISBLANK(D38),D38>0), OR(ISBLANK(E38),E38>0), OR(ISBLANK(F38),F38>0), OR(ISBLANK(G38),G38>0), OR(ISBLANK(H38),H38>0), IF(I$1="",TRUE,OR(ISBLANK(I38),I38>0)), IF(I$1="",TRUE,OR(ISBLANK(J38),J38>0)), IF(K$1="",TRUE,OR(ISBLANK(K38),K38>0)), IF(K$1="",TRUE,OR(ISBLANK(L38),L38>0)) ))), "Nombres strictement positifs attendus !", IF(B38="Dénominateur", NOT(AND( OR(ISBLANK(C37),ISBLANK(C38),C38>=C37), OR(ISBLANK(D37),ISBLANK(D38),D38>=D37), OR(ISBLANK(E37),ISBLANK(E38),E38>=E37), OR(ISBLANK(F37),ISBLANK(F38),F38>=F37), OR(ISBLANK(G37),ISBLANK(G38),G38>=G37), OR(ISBLANK(H37),ISBLANK(H38),H38>=H37), IF(I$1="",TRUE,OR(ISBLANK(I37),ISBLANK(I38),I38>=I37)), IF(I$1="",TRUE,OR(ISBLANK(J37),ISBLANK(J38),J38>=J37)), IF(K$1="",TRUE,OR(ISBLANK(K37),ISBLANK(K38),K38>=K37)), IF(K$1="",TRUE,OR(ISBLANK(L37),ISBLANK(L38),L38>=L37)) )),FALSE), "Numérateur supérieur à ce dénominateur !", LEFT( IF(B38="Dénominateur",A37,A38),12) = "(Facultatif)","", IF(I$1="",COUNTBLANK(C38:H38),COUNTBLANK(C38:J38))>0, _xlfn.CONCAT("Encore ",IF(I$1="",COUNTBLANK(C38:H38),COUNTBLANK(C38:J38)), " cellule(s) requise(s)"), TRUE,"" ) -> #NAME?
B39: Taux | C39: =IF(OR(C38="",C38="N/A",C38="NC",C38="ND"),"",C37/C38) -> 0.00010730326 | D39: =IF(OR(D38="",D38="N/A",D38="NC",D38="ND"),"",D37/D38) -> 0.00010730326 | E39: =IF(OR(E38="",E38="N/A",E38="NC",E38="ND"),"",E37/E38) | F39: =IF(OR(F38="",F38="N/A",F38="NC",F38="ND"),"",F37/F38) | G39: =IF(OR(G38="",G38="N/A",G38="NC",G38="ND"),"",G37/G38) -> 0.00010730326 | H39: =IF(OR(H38="",H38="N/A",H38="NC",H38="ND"),"",H37/H38) -> 0.00010730326 | I39: =IF(OR(I38="",I38="N/A",I38="NC",I38="ND"),"",I37/I38) | J39: =IF(OR(J38="",J38="N/A",J38="NC",J38="ND"),"",J37/J38) | K39: =_xlfn.IFS( OR(B39="Taux",B39=""), "", NOT(AND( OR(ISBLANK(C39),ISNUMBER(C39)), OR(ISBLANK(D39),ISNUMBER(D39)), OR(ISBLANK(E39),ISNUMBER(E39)), OR(ISBLANK(F39),ISNUMBER(F39)), OR(ISBLANK(G39),ISNUMBER(G39)), OR(ISBLANK(H39),ISNUMBER(H39)), IF(I$1="",TRUE,OR(ISBLANK(I39),ISNUMBER(I39))), IF(I$1="",TRUE,OR(ISBLANK(J39),ISNUMBER(J39))), IF(K$1="",TRUE,OR(ISBLANK(K39),ISNUMBER(K39))), IF(K$1="",TRUE,OR(ISBLANK(L39),ISNUMBER(L39))) )), "Nombres attendus !", AND( OR(B39="Numérateur",B39="Dénominateur"), NOT(AND( OR(ISBLANK(C39),C39=ROUND(C39,0)), OR(ISBLANK(D39),D39=ROUND(D39,0)), OR(ISBLANK(E39),E39=ROUND(E39,0)), OR(ISBLANK(F39),F39=ROUND(F39,0)), OR(ISBLANK(G39),G39=ROUND(G39,0)), OR(ISBLANK(H39),H39=ROUND(H39,0)), IF(I$1="",TRUE,OR(ISBLANK(I39),I39=ROUND(I39,0))), IF(I$1="",TRUE,OR(ISBLANK(J39),J39=ROUND(J39,0))), IF(K$1="",TRUE,OR(ISBLANK(K39),K39=ROUND(K39,0))), IF(K$1="",TRUE,OR(ISBLANK(L39),L39=ROUND(L39,0))) )) ), "Entiers attendus !", AND(B39<>"Numérateur",B39<>"Dénominateur", NOT(AND( OR(ISBLANK(C39),C39=ROUND(C39,2)), OR(ISBLANK(D39),D39=ROUND(D39,2)), OR(ISBLANK(E39),E39=ROUND(E39,2)), OR(ISBLANK(F39),F39=ROUND(F39,2)), OR(ISBLANK(G39),G39=ROUND(G39,2)), OR(ISBLANK(H39),H39=ROUND(H39,2)), IF(I$1="",TRUE,OR(ISBLANK(I39),I39=ROUND(I39,2))), IF(I$1="",TRUE,OR(ISBLANK(J39),J39=ROUND(J39,2))), IF(K$1="",TRUE,OR(ISBLANK(K39),K39=ROUND(K39,2))), IF(K$1="",TRUE,OR(ISBLANK(L39),L39=ROUND(L39,2))) ))), "Précision supérieure à 2 décimales", MIN(C39:J39)<0,"Nombres positifs attendus !", AND(B39="Dénominateur", NOT(AND( OR(ISBLANK(C39),C39>0), OR(ISBLANK(D39),D39>0), OR(ISBLANK(E39),E39>0), OR(ISBLANK(F39),F39>0), OR(ISBLANK(G39),G39>0), OR(ISBLANK(H39),H39>0), IF(I$1="",TRUE,OR(ISBLANK(I39),I39>0)), IF(I$1="",TRUE,OR(ISBLANK(J39),J39>0)), IF(K$1="",TRUE,OR(ISBLANK(K39),K39>0)), IF(K$1="",TRUE,OR(ISBLANK(L39),L39>0)) ))), "Nombres strictement positifs attendus !", IF(B39="Dénominateur", NOT(AND( OR(ISBLANK(C38),ISBLANK(C39),C39>=C38), OR(ISBLANK(D38),ISBLANK(D39),D39>=D38), OR(ISBLANK(E38),ISBLANK(E39),E39>=E38), OR(ISBLANK(F38),ISBLANK(F39),F39>=F38), OR(ISBLANK(G38),ISBLANK(G39),G39>=G38), OR(ISBLANK(H38),ISBLANK(H39),H39>=H38), IF(I$1="",TRUE,OR(ISBLANK(I38),ISBLANK(I39),I39>=I38)), IF(I$1="",TRUE,OR(ISBLANK(J38),ISBLANK(J39),J39>=J38)), IF(K$1="",TRUE,OR(ISBLANK(K38),ISBLANK(K39),K39>=K38)), IF(K$1="",TRUE,OR(ISBLANK(L38),ISBLANK(L39),L39>=L38)) )),FALSE), "Numérateur supérieur à ce dénominateur !", LEFT( IF(B39="Dénominateur",A38,A39),12) = "(Facultatif)","", IF(I$1="",COUNTBLANK(C39:H39),COUNTBLANK(C39:J39))>0, _xlfn.CONCAT("Encore ",IF(I$1="",COUNTBLANK(C39:H39),COUNTBLANK(C39:J39)), " cellule(s) requise(s)"), TRUE,"" ) -> #NAME?
A40: Taux de réitération des interruptions de services sur le segment PM-PBO | B40: Numérateur | C40: =IFERROR(GETPIVOTDATA("valeur",VUE_KPI_FTTH!$A$7,"codeIndicateur","xviii","unite","Numérateur","maille","Maille OI","type_valeur","Valeurs Nettes","OC","(vide)"),VUE_KPI_FTTH!A1) -> 0 | D40: =IFERROR(GETPIVOTDATA("valeur",VUE_KPI_FTTH!$A$7,"codeIndicateur","xviii","unite","Numérateur","maille","Maille OI","type_valeur","Valeurs Brutes","OC","(vide)"),VUE_KPI_FTTH!A1) -> 0 | E40: =IFERROR(GETPIVOTDATA("valeur",VUE_KPI_FTTH!$A$7,"codeIndicateur","xviii","unite","Numérateur","maille","Maille OI (offres commercialisées sur le marché de gros activé)","type_valeur","Valeurs Nettes","OC","(vide)"),VUE_KPI_FTTH!A1) -> N/A | F40: =IFERROR(GETPIVOTDATA("valeur",VUE_KPI_FTTH!$A$7,"codeIndicateur","xviii","unite","Numérateur","maille","Maille OI (offres commercialisées sur le marché de gros activé)","type_valeur","Valeurs Brutes","OC","(vide)"),VUE_KPI_FTTH!A1) -> N/A | G40: =IFERROR(GETPIVOTDATA("valeur",VUE_KPI_FTTH!$A$7,"codeIndicateur","xviii","unite","Numérateur","maille","Maille OI (offres commercialisées sur le marché de détail - Autofourniture)","type_valeur","Valeurs Nettes","OC","(vide)"),VUE_KPI_FTTH!A1) -> 0 | H40: =IFERROR(GETPIVOTDATA("valeur",VUE_KPI_FTTH!$A$7,"codeIndicateur","xviii","unite","Numérateur","maille","Maille OI (offres commercialisées sur le marché de détail - Autofourniture)","type_valeur","Valeurs Brutes","OC","(vide)"),VUE_KPI_FTTH!A1) -> 0 | I40: =IFERROR(GETPIVOTDATA("valeur",VUE_KPI_FTTH!$A$7,"codeIndicateur","xviii","unite","Numérateur","maille","Maille d'appréciation","type_valeur","Valeurs Nettes","OC","(vide)"),VUE_KPI_FTTH!A1) -> N/A | J40: =IFERROR(GETPIVOTDATA("valeur",VUE_KPI_FTTH!$A$7,"codeIndicateur","xviii","unite","Numérateur","maille","Maille d'appréciation","type_valeur","Valeurs Brutes","OC","(vide)"),VUE_KPI_FTTH!A1) -> N/A | K40: =_xlfn.IFS( OR(B40="Taux",B40=""), "", NOT(AND( OR(ISBLANK(C40),ISNUMBER(C40)), OR(ISBLANK(D40),ISNUMBER(D40)), OR(ISBLANK(E40),ISNUMBER(E40)), OR(ISBLANK(F40),ISNUMBER(F40)), OR(ISBLANK(G40),ISNUMBER(G40)), OR(ISBLANK(H40),ISNUMBER(H40)), IF(I$1="",TRUE,OR(ISBLANK(I40),ISNUMBER(I40))), IF(I$1="",TRUE,OR(ISBLANK(J40),ISNUMBER(J40))), IF(K$1="",TRUE,OR(ISBLANK(K40),ISNUMBER(K40))), IF(K$1="",TRUE,OR(ISBLANK(L40),ISNUMBER(L40))) )), "Nombres attendus !", AND( OR(B40="Numérateur",B40="Dénominateur"), NOT(AND( OR(ISBLANK(C40),C40=ROUND(C40,0)), OR(ISBLANK(D40),D40=ROUND(D40,0)), OR(ISBLANK(E40),E40=ROUND(E40,0)), OR(ISBLANK(F40),F40=ROUND(F40,0)), OR(ISBLANK(G40),G40=ROUND(G40,0)), OR(ISBLANK(H40),H40=ROUND(H40,0)), IF(I$1="",TRUE,OR(ISBLANK(I40),I40=ROUND(I40,0))), IF(I$1="",TRUE,OR(ISBLANK(J40),J40=ROUND(J40,0))), IF(K$1="",TRUE,OR(ISBLANK(K40),K40=ROUND(K40,0))), IF(K$1="",TRUE,OR(ISBLANK(L40),L40=ROUND(L40,0))) )) ), "Entiers attendus !", AND(B40<>"Numérateur",B40<>"Dénominateur", NOT(AND( OR(ISBLANK(C40),C40=ROUND(C40,2)), OR(ISBLANK(D40),D40=ROUND(D40,2)), OR(ISBLANK(E40),E40=ROUND(E40,2)), OR(ISBLANK(F40),F40=ROUND(F40,2)), OR(ISBLANK(G40),G40=ROUND(G40,2)), OR(ISBLANK(H40),H40=ROUND(H40,2)), IF(I$1="",TRUE,OR(ISBLANK(I40),I40=ROUND(I40,2))), IF(I$1="",TRUE,OR(ISBLANK(J40),J40=ROUND(J40,2))), IF(K$1="",TRUE,OR(ISBLANK(K40),K40=ROUND(K40,2))), IF(K$1="",TRUE,OR(ISBLANK(L40),L40=ROUND(L40,2))) ))), "Précision supérieure à 2 décimales", MIN(C40:J40)<0,"Nombres positifs attendus !", AND(B40="Dénominateur", NOT(AND( OR(ISBLANK(C40),C40>0), OR(ISBLANK(D40),D40>0), OR(ISBLANK(E40),E40>0), OR(ISBLANK(F40),F40>0), OR(ISBLANK(G40),G40>0), OR(ISBLANK(H40),H40>0), IF(I$1="",TRUE,OR(ISBLANK(I40),I40>0)), IF(I$1="",TRUE,OR(ISBLANK(J40),J40>0)), IF(K$1="",TRUE,OR(ISBLANK(K40),K40>0)), IF(K$1="",TRUE,OR(ISBLANK(L40),L40>0)) ))), "Nombres strictement positifs attendus !", IF(B40="Dénominateur", NOT(AND( OR(ISBLANK(C39),ISBLANK(C40),C40>=C39), OR(ISBLANK(D39),ISBLANK(D40),D40>=D39), OR(ISBLANK(E39),ISBLANK(E40),E40>=E39), OR(ISBLANK(F39),ISBLANK(F40),F40>=F39), OR(ISBLANK(G39),ISBLANK(G40),G40>=G39), OR(ISBLANK(H39),ISBLANK(H40),H40>=H39), IF(I$1="",TRUE,OR(ISBLANK(I39),ISBLANK(I40),I40>=I39)), IF(I$1="",TRUE,OR(ISBLANK(J39),ISBLANK(J40),J40>=J39)), IF(K$1="",TRUE,OR(ISBLANK(K39),ISBLANK(K40),K40>=K39)), IF(K$1="",TRUE,OR(ISBLANK(L39),ISBLANK(L40),L40>=L39)) )),FALSE), "Numérateur supérieur à ce dénominateur !", LEFT( IF(B40="Dénominateur",A39,A40),12) = "(Facultatif)","", IF(I$1="",COUNTBLANK(C40:H40),COUNTBLANK(C40:J40))>0, _xlfn.CONCAT("Encore ",IF(I$1="",COUNTBLANK(C40:H40),COUNTBLANK(C40:J40)), " cellule(s) requise(s)"), TRUE,"" ) -> #NAME?
B41: Dénominateur | C41: =IFERROR(GETPIVOTDATA("valeur",VUE_KPI_FTTH!$A$7,"codeIndicateur","xviii","unite","Dénominateur","maille","Maille OI","type_valeur","Valeurs Nettes","OC","(vide)"),VUE_KPI_FTTH!A1) -> 4 | D41: =IFERROR(GETPIVOTDATA("valeur",VUE_KPI_FTTH!$A$7,"codeIndicateur","xviii","unite","Dénominateur","maille","Maille OI","type_valeur","Valeurs Brutes","OC","(vide)"),VUE_KPI_FTTH!A1) -> 4 | E41: =IFERROR(GETPIVOTDATA("valeur",VUE_KPI_FTTH!$A$7,"codeIndicateur","xviii","unite","Dénominateur","maille","Maille OI (offres commercialisées sur le marché de gros activé)","type_valeur","Valeurs Nettes","OC","(vide)"),VUE_KPI_FTTH!A1) -> N/A | F41: =IFERROR(GETPIVOTDATA("valeur",VUE_KPI_FTTH!$A$7,"codeIndicateur","xviii","unite","Dénominateur","maille","Maille OI (offres commercialisées sur le marché de gros activé)","type_valeur","Valeurs Brutes","OC","(vide)"),VUE_KPI_FTTH!A1) -> N/A | G41: =IFERROR(GETPIVOTDATA("valeur",VUE_KPI_FTTH!$A$7,"codeIndicateur","xviii","unite","Dénominateur","maille","Maille OI (offres commercialisées sur le marché de détail - Autofourniture)","type_valeur","Valeurs Nettes","OC","(vide)"),VUE_KPI_FTTH!A1) -> 4 | H41: =IFERROR(GETPIVOTDATA("valeur",VUE_KPI_FTTH!$A$7,"codeIndicateur","xviii","unite","Dénominateur","maille","Maille OI (offres commercialisées sur le marché de détail - Autofourniture)","type_valeur","Valeurs Brutes","OC","(vide)"),VUE_KPI_FTTH!A1) -> 4 | I41: =IFERROR(GETPIVOTDATA("valeur",VUE_KPI_FTTH!$A$7,"codeIndicateur","xviii","unite","Dénominateur","maille","Maille d'appréciation","type_valeur","Valeurs Nettes","OC","(vide)"),VUE_KPI_FTTH!A1) -> N/A | J41: =IFERROR(GETPIVOTDATA("valeur",VUE_KPI_FTTH!$A$7,"codeIndicateur","xviii","unite","Dénominateur","maille","Maille d'appréciation","type_valeur","Valeurs Brutes","OC","(vide)"),VUE_KPI_FTTH!A1) -> N/A | K41: =_xlfn.IFS( OR(B41="Taux",B41=""), "", NOT(AND( OR(ISBLANK(C41),ISNUMBER(C41)), OR(ISBLANK(D41),ISNUMBER(D41)), OR(ISBLANK(E41),ISNUMBER(E41)), OR(ISBLANK(F41),ISNUMBER(F41)), OR(ISBLANK(G41),ISNUMBER(G41)), OR(ISBLANK(H41),ISNUMBER(H41)), IF(I$1="",TRUE,OR(ISBLANK(I41),ISNUMBER(I41))), IF(I$1="",TRUE,OR(ISBLANK(J41),ISNUMBER(J41))), IF(K$1="",TRUE,OR(ISBLANK(K41),ISNUMBER(K41))), IF(K$1="",TRUE,OR(ISBLANK(L41),ISNUMBER(L41))) )), "Nombres attendus !", AND( OR(B41="Numérateur",B41="Dénominateur"), NOT(AND( OR(ISBLANK(C41),C41=ROUND(C41,0)), OR(ISBLANK(D41),D41=ROUND(D41,0)), OR(ISBLANK(E41),E41=ROUND(E41,0)), OR(ISBLANK(F41),F41=ROUND(F41,0)), OR(ISBLANK(G41),G41=ROUND(G41,0)), OR(ISBLANK(H41),H41=ROUND(H41,0)), IF(I$1="",TRUE,OR(ISBLANK(I41),I41=ROUND(I41,0))), IF(I$1="",TRUE,OR(ISBLANK(J41),J41=ROUND(J41,0))), IF(K$1="",TRUE,OR(ISBLANK(K41),K41=ROUND(K41,0))), IF(K$1="",TRUE,OR(ISBLANK(L41),L41=ROUND(L41,0))) )) ), "Entiers attendus !", AND(B41<>"Numérateur",B41<>"Dénominateur", NOT(AND( OR(ISBLANK(C41),C41=ROUND(C41,2)), OR(ISBLANK(D41),D41=ROUND(D41,2)), OR(ISBLANK(E41),E41=ROUND(E41,2)), OR(ISBLANK(F41),F41=ROUND(F41,2)), OR(ISBLANK(G41),G41=ROUND(G41,2)), OR(ISBLANK(H41),H41=ROUND(H41,2)), IF(I$1="",TRUE,OR(ISBLANK(I41),I41=ROUND(I41,2))), IF(I$1="",TRUE,OR(ISBLANK(J41),J41=ROUND(J41,2))), IF(K$1="",TRUE,OR(ISBLANK(K41),K41=ROUND(K41,2))), IF(K$1="",TRUE,OR(ISBLANK(L41),L41=ROUND(L41,2))) ))), "Précision supérieure à 2 décimales", MIN(C41:J41)<0,"Nombres positifs attendus !", AND(B41="Dénominateur", NOT(AND( OR(ISBLANK(C41),C41>0), OR(ISBLANK(D41),D41>0), OR(ISBLANK(E41),E41>0), OR(ISBLANK(F41),F41>0), OR(ISBLANK(G41),G41>0), OR(ISBLANK(H41),H41>0), IF(I$1="",TRUE,OR(ISBLANK(I41),I41>0)), IF(I$1="",TRUE,OR(ISBLANK(J41),J41>0)), IF(K$1="",TRUE,OR(ISBLANK(K41),K41>0)), IF(K$1="",TRUE,OR(ISBLANK(L41),L41>0)) ))), "Nombres strictement positifs attendus !", IF(B41="Dénominateur", NOT(AND( OR(ISBLANK(C40),ISBLANK(C41),C41>=C40), OR(ISBLANK(D40),ISBLANK(D41),D41>=D40), OR(ISBLANK(E40),ISBLANK(E41),E41>=E40), OR(ISBLANK(F40),ISBLANK(F41),F41>=F40), OR(ISBLANK(G40),ISBLANK(G41),G41>=G40), OR(ISBLANK(H40),ISBLANK(H41),H41>=H40), IF(I$1="",TRUE,OR(ISBLANK(I40),ISBLANK(I41),I41>=I40)), IF(I$1="",TRUE,OR(ISBLANK(J40),ISBLANK(J41),J41>=J40)), IF(K$1="",TRUE,OR(ISBLANK(K40),ISBLANK(K41),K41>=K40)), IF(K$1="",TRUE,OR(ISBLANK(L40),ISBLANK(L41),L41>=L40)) )),FALSE), "Numérateur supérieur à ce dénominateur !", LEFT( IF(B41="Dénominateur",A40,A41),12) = "(Facultatif)","", IF(I$1="",COUNTBLANK(C41:H41),COUNTBLANK(C41:J41))>0, _xlfn.CONCAT("Encore ",IF(I$1="",COUNTBLANK(C41:H41),COUNTBLANK(C41:J41)), " cellule(s) requise(s)"), TRUE,"" ) -> #NAME?
B42: Taux | C42: =IF(OR(C41="",C41="N/A",C41="NC",C41="ND"),"",C40/C41) -> 0 | D42: =IF(OR(D41="",D41="N/A",D41="NC",D41="ND"),"",D40/D41) -> 0 | E42: =IF(OR(E41="",E41="N/A",E41="NC",E41="ND"),"",E40/E41) | F42: =IF(OR(F41="",F41="N/A",F41="NC",F41="ND"),"",F40/F41) | G42: =IF(OR(G41="",G41="N/A",G41="NC",G41="ND"),"",G40/G41) -> 0 | H42: =IF(OR(H41="",H41="N/A",H41="NC",H41="ND"),"",H40/H41) -> 0 | I42: =IF(OR(I41="",I41="N/A",I41="NC",I41="ND"),"",I40/I41) | J42: =IF(OR(J41="",J41="N/A",J41="NC",J41="ND"),"",J40/J41) | K42: =_xlfn.IFS( OR(B42="Taux",B42=""), "", NOT(AND( OR(ISBLANK(C42),ISNUMBER(C42)), OR(ISBLANK(D42),ISNUMBER(D42)), OR(ISBLANK(E42),ISNUMBER(E42)), OR(ISBLANK(F42),ISNUMBER(F42)), OR(ISBLANK(G42),ISNUMBER(G42)), OR(ISBLANK(H42),ISNUMBER(H42)), IF(I$1="",TRUE,OR(ISBLANK(I42),ISNUMBER(I42))), IF(I$1="",TRUE,OR(ISBLANK(J42),ISNUMBER(J42))), IF(K$1="",TRUE,OR(ISBLANK(K42),ISNUMBER(K42))), IF(K$1="",TRUE,OR(ISBLANK(L42),ISNUMBER(L42))) )), "Nombres attendus !", AND( OR(B42="Numérateur",B42="Dénominateur"), NOT(AND( OR(ISBLANK(C42),C42=ROUND(C42,0)), OR(ISBLANK(D42),D42=ROUND(D42,0)), OR(ISBLANK(E42),E42=ROUND(E42,0)), OR(ISBLANK(F42),F42=ROUND(F42,0)), OR(ISBLANK(G42),G42=ROUND(G42,0)), OR(ISBLANK(H42),H42=ROUND(H42,0)), IF(I$1="",TRUE,OR(ISBLANK(I42),I42=ROUND(I42,0))), IF(I$1="",TRUE,OR(ISBLANK(J42),J42=ROUND(J42,0))), IF(K$1="",TRUE,OR(ISBLANK(K42),K42=ROUND(K42,0))), IF(K$1="",TRUE,OR(ISBLANK(L42),L42=ROUND(L42,0))) )) ), "Entiers attendus !", AND(B42<>"Numérateur",B42<>"Dénominateur", NOT(AND( OR(ISBLANK(C42),C42=ROUND(C42,2)), OR(ISBLANK(D42),D42=ROUND(D42,2)), OR(ISBLANK(E42),E42=ROUND(E42,2)), OR(ISBLANK(F42),F42=ROUND(F42,2)), OR(ISBLANK(G42),G42=ROUND(G42,2)), OR(ISBLANK(H42),H42=ROUND(H42,2)), IF(I$1="",TRUE,OR(ISBLANK(I42),I42=ROUND(I42,2))), IF(I$1="",TRUE,OR(ISBLANK(J42),J42=ROUND(J42,2))), IF(K$1="",TRUE,OR(ISBLANK(K42),K42=ROUND(K42,2))), IF(K$1="",TRUE,OR(ISBLANK(L42),L42=ROUND(L42,2))) ))), "Précision supérieure à 2 décimales", MIN(C42:J42)<0,"Nombres positifs attendus !", AND(B42="Dénominateur", NOT(AND( OR(ISBLANK(C42),C42>0), OR(ISBLANK(D42),D42>0), OR(ISBLANK(E42),E42>0), OR(ISBLANK(F42),F42>0), OR(ISBLANK(G42),G42>0), OR(ISBLANK(H42),H42>0), IF(I$1="",TRUE,OR(ISBLANK(I42),I42>0)), IF(I$1="",TRUE,OR(ISBLANK(J42),J42>0)), IF(K$1="",TRUE,OR(ISBLANK(K42),K42>0)), IF(K$1="",TRUE,OR(ISBLANK(L42),L42>0)) ))), "Nombres strictement positifs attendus !", IF(B42="Dénominateur", NOT(AND( OR(ISBLANK(C41),ISBLANK(C42),C42>=C41), OR(ISBLANK(D41),ISBLANK(D42),D42>=D41), OR(ISBLANK(E41),ISBLANK(E42),E42>=E41), OR(ISBLANK(F41),ISBLANK(F42),F42>=F41), OR(ISBLANK(G41),ISBLANK(G42),G42>=G41), OR(ISBLANK(H41),ISBLANK(H42),H42>=H41), IF(I$1="",TRUE,OR(ISBLANK(I41),ISBLANK(I42),I42>=I41)), IF(I$1="",TRUE,OR(ISBLANK(J41),ISBLANK(J42),J42>=J41)), IF(K$1="",TRUE,OR(ISBLANK(K41),ISBLANK(K42),K42>=K41)), IF(K$1="",TRUE,OR(ISBLANK(L41),ISBLANK(L42),L42>=L41)) )),FALSE), "Numérateur supérieur à ce dénominateur !", LEFT( IF(B42="Dénominateur",A41,A42),12) = "(Facultatif)","", IF(I$1="",COUNTBLANK(C42:H42),COUNTBLANK(C42:J42))>0, _xlfn.CONCAT("Encore ",IF(I$1="",COUNTBLANK(C42:H42),COUNTBLANK(C42:J42)), " cellule(s) requise(s)"), TRUE,"" ) -> #NAME?

Sheet Annexe 2-2
C1: Maille OI | E1: Maille OI (offres commercialisées sur le marché de gros activé) | G1: Maille OI (offres commercialisées sur le marché de détail - Autofourniture) | I1: Maille d'appréciation
C2: Valeurs nettes | D2: Valeurs brutes | E2: Valeurs nettes | F2: Valeurs brutes | G2: Valeurs nettes | H2: Valeurs brutes | I2: Valeurs nettes | J2: Valeurs brutes
A3: PRODUCTION
A4: Taux de non respect de la date de livraison de l'accès avec GTR 4HO/HNO – mode OI | B4: Numérateur | C4: =IFERROR(GETPIVOTDATA("valeur",VUE_KPI_FTTH!$A$7,"codeIndicateur","xxiii","unite","Numérateur","maille","Maille OI","type_valeur","Valeurs Nettes","OC","(vide)"),VUE_KPI_FTTH!A1) -> N/A | D4: =IFERROR(GETPIVOTDATA("valeur",VUE_KPI_FTTH!$A$7,"codeIndicateur","xxiii","unite","Numérateur","maille","Maille OI","type_valeur","Valeurs Brutes","OC","(vide)"),VUE_KPI_FTTH!A1) -> N/A | E4: =IFERROR(GETPIVOTDATA("valeur",VUE_KPI_FTTH!$A$7,"codeIndicateur","xxiii","unite","Numérateur","maille","Maille OI (offres commercialisées sur le marché de gros activé)","type_valeur","Valeurs Nettes","OC","(vide)"),VUE_KPI_FTTH!A1) -> N/A | F4: =IFERROR(GETPIVOTDATA("valeur",VUE_KPI_FTTH!$A$7,"codeIndicateur","xxiii","unite","Numérateur","maille","Maille OI (offres commercialisées sur le marché de gros activé)","type_valeur","Valeurs Brutes","OC","(vide)"),VUE_KPI_FTTH!A1) -> N/A | G4: =IFERROR(GETPIVOTDATA("valeur",VUE_KPI_FTTH!$A$7,"codeIndicateur","xxiii","unite","Numérateur","maille","Maille OI (offres commercialisées sur le marché de détail - Autofourniture)","type_valeur","Valeurs Nettes","OC","(vide)"),VUE_KPI_FTTH!A1) -> N/A | H4: =IFERROR(GETPIVOTDATA("valeur",VUE_KPI_FTTH!$A$7,"codeIndicateur","xxiii","unite","Numérateur","maille","Maille OI (offres commercialisées sur le marché de détail - Autofourniture)","type_valeur","Valeurs Brutes","OC","(vide)"),VUE_KPI_FTTH!A1) -> N/A | I4: =IFERROR(GETPIVOTDATA("valeur",VUE_KPI_FTTH!$A$7,"codeIndicateur","xxiii","unite","Numérateur","maille","Maille d'appréciation","type_valeur","Valeurs Nettes","OC","(vide)"),VUE_KPI_FTTH!A1) -> N/A | J4: =IFERROR(GETPIVOTDATA("valeur",VUE_KPI_FTTH!$A$7,"codeIndicateur","xxiii","unite","Numérateur","maille","Maille d'appréciation","type_valeur","Valeurs Brutes","OC","(vide)"),VUE_KPI_FTTH!A1) -> N/A | K4: =_xlfn.IFS( OR(B4="Taux",B4=""), "", NOT(AND( OR(ISBLANK(C4),ISNUMBER(C4)), OR(ISBLANK(D4),ISNUMBER(D4)), OR(ISBLANK(E4),ISNUMBER(E4)), OR(ISBLANK(F4),ISNUMBER(F4)), OR(ISBLANK(G4),ISNUMBER(G4)), OR(ISBLANK(H4),ISNUMBER(H4)), IF(I$1="",TRUE,OR(ISBLANK(I4),ISNUMBER(I4))), IF(I$1="",TRUE,OR(ISBLANK(J4),ISNUMBER(J4))), IF(K$1="",TRUE,OR(ISBLANK(K4),ISNUMBER(K4))), IF(K$1="",TRUE,OR(ISBLANK(L4),ISNUMBER(L4))) )), "Nombres attendus !", AND( OR(B4="Numérateur",B4="Dénominateur"), NOT(AND( OR(ISBLANK(C4),C4=ROUND(C4,0)), OR(ISBLANK(D4),D4=ROUND(D4,0)), OR(ISBLANK(E4),E4=ROUND(E4,0)), OR(ISBLANK(F4),F4=ROUND(F4,0)), OR(ISBLANK(G4),G4=ROUND(G4,0)), OR(ISBLANK(H4),H4=ROUND(H4,0)), IF(I$1="",TRUE,OR(ISBLANK(I4),I4=ROUND(I4,0))), IF(I$1="",TRUE,OR(ISBLANK(J4),J4=ROUND(J4,0))), IF(K$1="",TRUE,OR(ISBLANK(K4),K4=ROUND(K4,0))), IF(K$1="",TRUE,OR(ISBLANK(L4),L4=ROUND(L4,0))) )) ), "Entiers attendus !", AND(B4<>"Numérateur",B4<>"Dénominateur", NOT(AND( OR(ISBLANK(C4),C4=ROUND(C4,2)), OR(ISBLANK(D4),D4=ROUND(D4,2)), OR(ISBLANK(E4),E4=ROUND(E4,2)), OR(ISBLANK(F4),F4=ROUND(F4,2)), OR(ISBLANK(G4),G4=ROUND(G4,2)), OR(ISBLANK(H4),H4=ROUND(H4,2)), IF(I$1="",TRUE,OR(ISBLANK(I4),I4=ROUND(I4,2))), IF(I$1="",TRUE,OR(ISBLANK(J4),J4=ROUND(J4,2))), IF(K$1="",TRUE,OR(ISBLANK(K4),K4=ROUND(K4,2))), IF(K$1="",TRUE,OR(ISBLANK(L4),L4=ROUND(L4,2))) ))), "Précision supérieure à 2 décimales", MIN(C4:J4)<0,"Nombres positifs attendus !", AND(B4="Dénominateur", NOT(AND( OR(ISBLANK(C4),C4>0), OR(ISBLANK(D4),D4>0), OR(ISBLANK(E4),E4>0), OR(ISBLANK(F4),F4>0), OR(ISBLANK(G4),G4>0), OR(ISBLANK(H4),H4>0), IF(I$1="",TRUE,OR(ISBLANK(I4),I4>0)), IF(I$1="",TRUE,OR(ISBLANK(J4),J4>0)), IF(K$1="",TRUE,OR(ISBLANK(K4),K4>0)), IF(K$1="",TRUE,OR(ISBLANK(L4),L4>0)) ))), "Nombres strictement positifs attendus !", IF(B4="Dénominateur", NOT(AND( OR(ISBLANK(C3),ISBLANK(C4),C4>=C3), OR(ISBLANK(D3),ISBLANK(D4),D4>=D3), OR(ISBLANK(E3),ISBLANK(E4),E4>=E3), OR(ISBLANK(F3),ISBLANK(F4),F4>=F3), OR(ISBLANK(G3),ISBLANK(G4),G4>=G3), OR(ISBLANK(H3),ISBLANK(H4),H4>=H3), IF(I$1="",TRUE,OR(ISBLANK(I3),ISBLANK(I4),I4>=I3)), IF(I$1="",TRUE,OR(ISBLANK(J3),ISBLANK(J4),J4>=J3)), IF(K$1="",TRUE,OR(ISBLANK(K3),ISBLANK(K4),K4>=K3)), IF(K$1="",TRUE,OR(ISBLANK(L3),ISBLANK(L4),L4>=L3)) )),FALSE), "Numérateur supérieur à ce dénominateur !", LEFT( IF(B4="Dénominateur",A3,A4),12) = "(Facultatif)","", IF(I$1="",COUNTBLANK(C4:H4),COUNTBLANK(C4:J4))>0, _xlfn.CONCAT("Encore ",IF(I$1="",COUNTBLANK(C4:H4),COUNTBLANK(C4:J4)), " cellule(s) requise(s)"), TRUE,"" ) -> #NAME?
B5: Dénominateur | C5: =IFERROR(GETPIVOTDATA("valeur",VUE_KPI_FTTH!$A$7,"codeIndicateur","xxiii","unite","Dénominateur","maille","Maille OI","type_valeur","Valeurs Nettes","OC","(vide)"),VUE_KPI_FTTH!A1) -> N/A | D5: =IFERROR(GETPIVOTDATA("valeur",VUE_KPI_FTTH!$A$7,"codeIndicateur","xxiii","unite","Dénominateur","maille","Maille OI","type_valeur","Valeurs Brutes","OC","(vide)"),VUE_KPI_FTTH!A1) -> N/A | E5: =IFERROR(GETPIVOTDATA("valeur",VUE_KPI_FTTH!$A$7,"codeIndicateur","xxiii","unite","Dénominateur","maille","Maille OI (offres commercialisées sur le marché de gros activé)","type_valeur","Valeurs Nettes","OC","(vide)"),VUE_KPI_FTTH!A1) -> N/A | F5: =IFERROR(GETPIVOTDATA("valeur",VUE_KPI_FTTH!$A$7,"codeIndicateur","xxiii","unite","Dénominateur","maille","Maille OI (offres commercialisées sur le marché de gros activé)","type_valeur","Valeurs Brutes","OC","(vide)"),VUE_KPI_FTTH!A1) -> N/A | G5: =IFERROR(GETPIVOTDATA("valeur",VUE_KPI_FTTH!$A$7,"codeIndicateur","xxiii","unite","Dénominateur","maille","Maille OI (offres commercialisées sur le marché de détail - Autofourniture)","type_valeur","Valeurs Nettes","OC","(vide)"),VUE_KPI_FTTH!A1) -> N/A | H5: =IFERROR(GETPIVOTDATA("valeur",VUE_KPI_FTTH!$A$7,"codeIndicateur","xxiii","unite","Dénominateur","maille","Maille OI (offres commercialisées sur le marché de détail - Autofourniture)","type_valeur","Valeurs Brutes","OC","(vide)"),VUE_KPI_FTTH!A1) -> N/A | I5: =IFERROR(GETPIVOTDATA("valeur",VUE_KPI_FTTH!$A$7,"codeIndicateur","xxiii","unite","Dénominateur","maille","Maille d'appréciation","type_valeur","Valeurs Nettes","OC","(vide)"),VUE_KPI_FTTH!A1) -> N/A | J5: =IFERROR(GETPIVOTDATA("valeur",VUE_KPI_FTTH!$A$7,"codeIndicateur","xxiii","unite","Dénominateur","maille","Maille d'appréciation","type_valeur","Valeurs Brutes","OC","(vide)"),VUE_KPI_FTTH!A1) -> N/A | K5: =_xlfn.IFS( OR(B5="Taux",B5=""), "", NOT(AND( OR(ISBLANK(C5),ISNUMBER(C5)), OR(ISBLANK(D5),ISNUMBER(D5)), OR(ISBLANK(E5),ISNUMBER(E5)), OR(ISBLANK(F5),ISNUMBER(F5)), OR(ISBLANK(G5),ISNUMBER(G5)), OR(ISBLANK(H5),ISNUMBER(H5)), IF(I$1="",TRUE,OR(ISBLANK(I5),ISNUMBER(I5))), IF(I$1="",TRUE,OR(ISBLANK(J5),ISNUMBER(J5))), IF(K$1="",TRUE,OR(ISBLANK(K5),ISNUMBER(K5))), IF(K$1="",TRUE,OR(ISBLANK(L5),ISNUMBER(L5))) )), "Nombres attendus !", AND( OR(B5="Numérateur",B5="Dénominateur"), NOT(AND( OR(ISBLANK(C5),C5=ROUND(C5,0)), OR(ISBLANK(D5),D5=ROUND(D5,0)), OR(ISBLANK(E5),E5=ROUND(E5,0)), OR(ISBLANK(F5),F5=ROUND(F5,0)), OR(ISBLANK(G5),G5=ROUND(G5,0)), OR(ISBLANK(H5),H5=ROUND(H5,0)), IF(I$1="",TRUE,OR(ISBLANK(I5),I5=ROUND(I5,0))), IF(I$1="",TRUE,OR(ISBLANK(J5),J5=ROUND(J5,0))), IF(K$1="",TRUE,OR(ISBLANK(K5),K5=ROUND(K5,0))), IF(K$1="",TRUE,OR(ISBLANK(L5),L5=ROUND(L5,0))) )) ), "Entiers attendus !", AND(B5<>"Numérateur",B5<>"Dénominateur", NOT(AND( OR(ISBLANK(C5),C5=ROUND(C5,2)), OR(ISBLANK(D5),D5=ROUND(D5,2)), OR(ISBLANK(E5),E5=ROUND(E5,2)), OR(ISBLANK(F5),F5=ROUND(F5,2)), OR(ISBLANK(G5),G5=ROUND(G5,2)), OR(ISBLANK(H5),H5=ROUND(H5,2)), IF(I$1="",TRUE,OR(ISBLANK(I5),I5=ROUND(I5,2))), IF(I$1="",TRUE,OR(ISBLANK(J5),J5=ROUND(J5,2))), IF(K$1="",TRUE,OR(ISBLANK(K5),K5=ROUND(K5,2))), IF(K$1="",TRUE,OR(ISBLANK(L5),L5=ROUND(L5,2))) ))), "Précision supérieure à 2 décimales", MIN(C5:J5)<0,"Nombres positifs attendus !", AND(B5="Dénominateur", NOT(AND( OR(ISBLANK(C5),C5>0), OR(ISBLANK(D5),D5>0), OR(ISBLANK(E5),E5>0), OR(ISBLANK(F5),F5>0), OR(ISBLANK(G5),G5>0), OR(ISBLANK(H5),H5>0), IF(I$1="",TRUE,OR(ISBLANK(I5),I5>0)), IF(I$1="",TRUE,OR(ISBLANK(J5),J5>0)), IF(K$1="",TRUE,OR(ISBLANK(K5),K5>0)), IF(K$1="",TRUE,OR(ISBLANK(L5),L5>0)) ))), "Nombres strictement positifs attendus !", IF(B5="Dénominateur", NOT(AND( OR(ISBLANK(C4),ISBLANK(C5),C5>=C4), OR(ISBLANK(D4),ISBLANK(D5),D5>=D4), OR(ISBLANK(E4),ISBLANK(E5),E5>=E4), OR(ISBLANK(F4),ISBLANK(F5),F5>=F4), OR(ISBLANK(G4),ISBLANK(G5),G5>=G4), OR(ISBLANK(H4),ISBLANK(H5),H5>=H4), IF(I$1="",TRUE,OR(ISBLANK(I4),ISBLANK(I5),I5>=I4)), IF(I$1="",TRUE,OR(ISBLANK(J4),ISBLANK(J5),J5>=J4)), IF(K$1="",TRUE,OR(ISBLANK(K4),ISBLANK(K5),K5>=K4)), IF(K$1="",TRUE,OR(ISBLANK(L4),ISBLANK(L5),L5>=L4)) )),FALSE), "Numérateur supérieur à ce dénominateur !", LEFT( IF(B5="Dénominateur",A4,A5),12) = "(Facultatif)","", IF(I$1="",COUNTBLANK(C5:H5),COUNTBLANK(C5:J5))>0, _xlfn.CONCAT("Encore ",IF(I$1="",COUNTBLANK(C5:H5),COUNTBLANK(C5:J5)), " cellule(s) requise(s)"), TRUE,"" ) -> #NAME?
B6: Taux | C6: =IF(OR(C5="",C5="N/A",C5="NC",C5="ND"),"",C4/C5) | D6: =IF(OR(D5="",D5="N/A",D5="NC",D5="ND"),"",D4/D5) | E6: =IF(OR(E5="",E5="N/A",E5="NC",E5="ND"),"",E4/E5) | F6: =IF(OR(F5="",F5="N/A",F5="NC",F5="ND"),"",F4/F5) | G6: =IF(OR(G5="",G5="N/A",G5="NC",G5="ND"),"",G4/G5) | H6: =IF(OR(H5="",H5="N/A",H5="NC",H5="ND"),"",H4/H5) | I6: =IF(OR(I5="",I5="N/A",I5="NC",I5="ND"),"",I4/I5) | J6: =IF(OR(J5="",J5="N/A",J5="NC",J5="ND"),"",J4/J5) | K6: =_xlfn.IFS( OR(B6="Taux",B6=""), "", NOT(AND( OR(ISBLANK(C6),ISNUMBER(C6)), OR(ISBLANK(D6),ISNUMBER(D6)), OR(ISBLANK(E6),ISNUMBER(E6)), OR(ISBLANK(F6),ISNUMBER(F6)), OR(ISBLANK(G6),ISNUMBER(G6)), OR(ISBLANK(H6),ISNUMBER(H6)), IF(I$1="",TRUE,OR(ISBLANK(I6),ISNUMBER(I6))), IF(I$1="",TRUE,OR(ISBLANK(J6),ISNUMBER(J6))), IF(K$1="",TRUE,OR(ISBLANK(K6),ISNUMBER(K6))), IF(K$1="",TRUE,OR(ISBLANK(L6),ISNUMBER(L6))) )), "Nombres attendus !", AND( OR(B6="Numérateur",B6="Dénominateur"), NOT(AND( OR(ISBLANK(C6),C6=ROUND(C6,0)), OR(ISBLANK(D6),D6=ROUND(D6,0)), OR(ISBLANK(E6),E6=ROUND(E6,0)), OR(ISBLANK(F6),F6=ROUND(F6,0)), OR(ISBLANK(G6),G6=ROUND(G6,0)), OR(ISBLANK(H6),H6=ROUND(H6,0)), IF(I$1="",TRUE,OR(ISBLANK(I6),I6=ROUND(I6,0))), IF(I$1="",TRUE,OR(ISBLANK(J6),J6=ROUND(J6,0))), IF(K$1="",TRUE,OR(ISBLANK(K6),K6=ROUND(K6,0))), IF(K$1="",TRUE,OR(ISBLANK(L6),L6=ROUND(L6,0))) )) ), "Entiers attendus !", AND(B6<>"Numérateur",B6<>"Dénominateur", NOT(AND( OR(ISBLANK(C6),C6=ROUND(C6,2)), OR(ISBLANK(D6),D6=ROUND(D6,2)), OR(ISBLANK(E6),E6=ROUND(E6,2)), OR(ISBLANK(F6),F6=ROUND(F6,2)), OR(ISBLANK(G6),G6=ROUND(G6,2)), OR(ISBLANK(H6),H6=ROUND(H6,2)), IF(I$1="",TRUE,OR(ISBLANK(I6),I6=ROUND(I6,2))), IF(I$1="",TRUE,OR(ISBLANK(J6),J6=ROUND(J6,2))), IF(K$1="",TRUE,OR(ISBLANK(K6),K6=ROUND(K6,2))), IF(K$1="",TRUE,OR(ISBLANK(L6),L6=ROUND(L6,2))) ))), "Précision supérieure à 2 décimales", MIN(C6:J6)<0,"Nombres positifs attendus !", AND(B6="Dénominateur", NOT(AND( OR(ISBLANK(C6),C6>0), OR(ISBLANK(D6),D6>0), OR(ISBLANK(E6),E6>0), OR(ISBLANK(F6),F6>0), OR(ISBLANK(G6),G6>0), OR(ISBLANK(H6),H6>0), IF(I$1="",TRUE,OR(ISBLANK(I6),I6>0)), IF(I$1="",TRUE,OR(ISBLANK(J6),J6>0)), IF(K$1="",TRUE,OR(ISBLANK(K6),K6>0)), IF(K$1="",TRUE,OR(ISBLANK(L6),L6>0)) ))), "Nombres strictement positifs attendus !", IF(B6="Dénominateur", NOT(AND( OR(ISBLANK(C5),ISBLANK(C6),C6>=C5), OR(ISBLANK(D5),ISBLANK(D6),D6>=D5), OR(ISBLANK(E5),ISBLANK(E6),E6>=E5), OR(ISBLANK(F5),ISBLANK(F6),F6>=F5), OR(ISBLANK(G5),ISBLANK(G6),G6>=G5), OR(ISBLANK(H5),ISBLANK(H6),H6>=H5), IF(I$1="",TRUE,OR(ISBLANK(I5),ISBLANK(I6),I6>=I5)), IF(I$1="",TRUE,OR(ISBLANK(J5),ISBLANK(J6),J6>=J5)), IF(K$1="",TRUE,OR(ISBLANK(K5),ISBLANK(K6),K6>=K5)), IF(K$1="",TRUE,OR(ISBLANK(L5),ISBLANK(L6),L6>=L5)) )),FALSE), "Numérateur supérieur à ce dénominateur !", LEFT( IF(B6="Dénominateur",A5,A6),12) = "(Facultatif)","", IF(I$1="",COUNTBLANK(C6:H6),COUNTBLANK(C6:J6))>0, _xlfn.CONCAT("Encore ",IF(I$1="",COUNTBLANK(C6:H6),COUNTBLANK(C6:J6)), " cellule(s) requise(s)"), TRUE,"" ) -> #NAME?
A7: Délai moyen de livraison de l'accès avec GTR 4HO/HNO – mode OI | B7: Délai moyen | C7: =IFERROR(GETPIVOTDATA("valeur",VUE_KPI_FTTH!$A$7,"codeIndicateur","xxiv","unite","Délai moyen","maille","Maille OI","type_valeur","Valeurs Nettes","OC","(vide)"),VUE_KPI_FTTH!A1) -> N/A | D7: =IFERROR(GETPIVOTDATA("valeur",VUE_KPI_FTTH!$A$7,"codeIndicateur","xxiv","unite","Délai moyen","maille","Maille OI","type_valeur","Valeurs Brutes","OC","(vide)"),VUE_KPI_FTTH!A1) -> N/A | E7: =IFERROR(GETPIVOTDATA("valeur",VUE_KPI_FTTH!$A$7,"codeIndicateur","xxiv","unite","Délai moyen","maille","Maille OI (offres commercialisées sur le marché de gros activé)","type_valeur","Valeurs Nettes","OC","(vide)"),VUE_KPI_FTTH!A1) -> N/A | F7: =IFERROR(GETPIVOTDATA("valeur",VUE_KPI_FTTH!$A$7,"codeIndicateur","xxiv","unite","Délai moyen","maille","Maille OI (offres commercialisées sur le marché de gros activé)","type_valeur","Valeurs Brutes","OC","(vide)"),VUE_KPI_FTTH!A1) -> N/A | G7: =IFERROR(GETPIVOTDATA("valeur",VUE_KPI_FTTH!$A$7,"codeIndicateur","xxiv","unite","Délai moyen","maille","Maille OI (offres commercialisées sur le marché de détail - Autofourniture)","type_valeur","Valeurs Nettes","OC","(vide)"),VUE_KPI_FTTH!A1) -> N/A | H7: =IFERROR(GETPIVOTDATA("valeur",VUE_KPI_FTTH!$A$7,"codeIndicateur","xxiv","unite","Délai moyen","maille","Maille OI (offres commercialisées sur le marché de détail - Autofourniture)","type_valeur","Valeurs Brutes","OC","(vide)"),VUE_KPI_FTTH!A1) -> N/A | I7: =IFERROR(GETPIVOTDATA("valeur",VUE_KPI_FTTH!$A$7,"codeIndicateur","xxiv","unite","Délai moyen","maille","Maille d'appréciation","type_valeur","Valeurs Nettes","OC","(vide)"),VUE_KPI_FTTH!A1) -> N/A | J7: =IFERROR(GETPIVOTDATA("valeur",VUE_KPI_FTTH!$A$7,"codeIndicateur","xxiv","unite","Délai moyen","maille","Maille d'appréciation","type_valeur","Valeurs Brutes","OC","(vide)"),VUE_KPI_FTTH!A1) -> N/A | K7: =_xlfn.IFS( OR(B7="Taux",B7=""), "", NOT(AND( OR(ISBLANK(C7),ISNUMBER(C7)), OR(ISBLANK(D7),ISNUMBER(D7)), OR(ISBLANK(E7),ISNUMBER(E7)), OR(ISBLANK(F7),ISNUMBER(F7)), OR(ISBLANK(G7),ISNUMBER(G7)), OR(ISBLANK(H7),ISNUMBER(H7)), IF(I$1="",TRUE,OR(ISBLANK(I7),ISNUMBER(I7))), IF(I$1="",TRUE,OR(ISBLANK(J7),ISNUMBER(J7))), IF(K$1="",TRUE,OR(ISBLANK(K7),ISNUMBER(K7))), IF(K$1="",TRUE,OR(ISBLANK(L7),ISNUMBER(L7))) )), "Nombres attendus !", AND( OR(B7="Numérateur",B7="Dénominateur"), NOT(AND( OR(ISBLANK(C7),C7=ROUND(C7,0)), OR(ISBLANK(D7),D7=ROUND(D7,0)), OR(ISBLANK(E7),E7=ROUND(E7,0)), OR(ISBLANK(F7),F7=ROUND(F7,0)), OR(ISBLANK(G7),G7=ROUND(G7,0)), OR(ISBLANK(H7),H7=ROUND(H7,0)), IF(I$1="",TRUE,OR(ISBLANK(I7),I7=ROUND(I7,0))), IF(I$1="",TRUE,OR(ISBLANK(J7),J7=ROUND(J7,0))), IF(K$1="",TRUE,OR(ISBLANK(K7),K7=ROUND(K7,0))), IF(K$1="",TRUE,OR(ISBLANK(L7),L7=ROUND(L7,0))) )) ), "Entiers attendus !", AND(B7<>"Numérateur",B7<>"Dénominateur", NOT(AND( OR(ISBLANK(C7),C7=ROUND(C7,2)), OR(ISBLANK(D7),D7=ROUND(D7,2)), OR(ISBLANK(E7),E7=ROUND(E7,2)), OR(ISBLANK(F7),F7=ROUND(F7,2)), OR(ISBLANK(G7),G7=ROUND(G7,2)), OR(ISBLANK(H7),H7=ROUND(H7,2)), IF(I$1="",TRUE,OR(ISBLANK(I7),I7=ROUND(I7,2))), IF(I$1="",TRUE,OR(ISBLANK(J7),J7=ROUND(J7,2))), IF(K$1="",TRUE,OR(ISBLANK(K7),K7=ROUND(K7,2))), IF(K$1="",TRUE,OR(ISBLANK(L7),L7=ROUND(L7,2))) ))), "Précision supérieure à 2 décimales", MIN(C7:J7)<0,"Nombres positifs attendus !", AND(B7="Dénominateur", NOT(AND( OR(ISBLANK(C7),C7>0), OR(ISBLANK(D7),D7>0), OR(ISBLANK(E7),E7>0), OR(ISBLANK(F7),F7>0), OR(ISBLANK(G7),G7>0), OR(ISBLANK(H7),H7>0), IF(I$1="",TRUE,OR(ISBLANK(I7),I7>0)), IF(I$1="",TRUE,OR(ISBLANK(J7),J7>0)), IF(K$1="",TRUE,OR(ISBLANK(K7),K7>0)), IF(K$1="",TRUE,OR(ISBLANK(L7),L7>0)) ))), "Nombres strictement positifs attendus !", IF(B7="Dénominateur", NOT(AND( OR(ISBLANK(C6),ISBLANK(C7),C7>=C6), OR(ISBLANK(D6),ISBLANK(D7),D7>=D6), OR(ISBLANK(E6),ISBLANK(E7),E7>=E6), OR(ISBLANK(F6),ISBLANK(F7),F7>=F6), OR(ISBLANK(G6),ISBLANK(G7),G7>=G6), OR(ISBLANK(H6),ISBLANK(H7),H7>=H6), IF(I$1="",TRUE,OR(ISBLANK(I6),ISBLANK(I7),I7>=I6)), IF(I$1="",TRUE,OR(ISBLANK(J6),ISBLANK(J7),J7>=J6)), IF(K$1="",TRUE,OR(ISBLANK(K6),ISBLANK(K7),K7>=K6)), IF(K$1="",TRUE,OR(ISBLANK(L6),ISBLANK(L7),L7>=L6)) )),FALSE), "Numérateur supérieur à ce dénominateur !", LEFT( IF(B7="Dénominateur",A6,A7),12) = "(Facultatif)","", IF(I$1="",COUNTBLANK(C7:H7),COUNTBLANK(C7:J7))>0, _xlfn.CONCAT("Encore ",IF(I$1="",COUNTBLANK(C7:H7),COUNTBLANK(C7:J7)), " cellule(s) requise(s)"), TRUE,"" ) -> #NAME?
A8: SERVICE APRES-VENTE | K8: =_xlfn.IFS( OR(B8="Taux",B8=""), "", NOT(AND( OR(ISBLANK(C8),ISNUMBER(C8)), OR(ISBLANK(D8),ISNUMBER(D8)), OR(ISBLANK(E8),ISNUMBER(E8)), OR(ISBLANK(F8),ISNUMBER(F8)), OR(ISBLANK(G8),ISNUMBER(G8)), OR(ISBLANK(H8),ISNUMBER(H8)), IF(I$1="",TRUE,OR(ISBLANK(I8),ISNUMBER(I8))), IF(I$1="",TRUE,OR(ISBLANK(J8),ISNUMBER(J8))), IF(K$1="",TRUE,OR(ISBLANK(K8),ISNUMBER(K8))), IF(K$1="",TRUE,OR(ISBLANK(L8),ISNUMBER(L8))) )), "Nombres attendus !", AND( OR(B8="Numérateur",B8="Dénominateur"), NOT(AND( OR(ISBLANK(C8),C8=ROUND(C8,0)), OR(ISBLANK(D8),D8=ROUND(D8,0)), OR(ISBLANK(E8),E8=ROUND(E8,0)), OR(ISBLANK(F8),F8=ROUND(F8,0)), OR(ISBLANK(G8),G8=ROUND(G8,0)), OR(ISBLANK(H8),H8=ROUND(H8,0)), IF(I$1="",TRUE,OR(ISBLANK(I8),I8=ROUND(I8,0))), IF(I$1="",TRUE,OR(ISBLANK(J8),J8=ROUND(J8,0))), IF(K$1="",TRUE,OR(ISBLANK(K8),K8=ROUND(K8,0))), IF(K$1="",TRUE,OR(ISBLANK(L8),L8=ROUND(L8,0))) )) ), "Entiers attendus !", AND(B8<>"Numérateur",B8<>"Dénominateur", NOT(AND( OR(ISBLANK(C8),C8=ROUND(C8,2)), OR(ISBLANK(D8),D8=ROUND(D8,2)), OR(ISBLANK(E8),E8=ROUND(E8,2)), OR(ISBLANK(F8),F8=ROUND(F8,2)), OR(ISBLANK(G8),G8=ROUND(G8,2)), OR(ISBLANK(H8),H8=ROUND(H8,2)), IF(I$1="",TRUE,OR(ISBLANK(I8),I8=ROUND(I8,2))), IF(I$1="",TRUE,OR(ISBLANK(J8),J8=ROUND(J8,2))), IF(K$1="",TRUE,OR(ISBLANK(K8),K8=ROUND(K8,2))), IF(K$1="",TRUE,OR(ISBLANK(L8),L8=ROUND(L8,2))) ))), "Précision supérieure à 2 décimales", MIN(C8:J8)<0,"Nombres positifs attendus !", AND(B8="Dénominateur", NOT(AND( OR(ISBLANK(C8),C8>0), OR(ISBLANK(D8),D8>0), OR(ISBLANK(E8),E8>0), OR(ISBLANK(F8),F8>0), OR(ISBLANK(G8),G8>0), OR(ISBLANK(H8),H8>0), IF(I$1="",TRUE,OR(ISBLANK(I8),I8>0)), IF(I$1="",TRUE,OR(ISBLANK(J8),J8>0)), IF(K$1="",TRUE,OR(ISBLANK(K8),K8>0)), IF(K$1="",TRUE,OR(ISBLANK(L8),L8>0)) ))), "Nombres strictement positifs attendus !", IF(B8="Dénominateur", NOT(AND( OR(ISBLANK(C7),ISBLANK(C8),C8>=C7), OR(ISBLANK(D7),ISBLANK(D8),D8>=D7), OR(ISBLANK(E7),ISBLANK(E8),E8>=E7), OR(ISBLANK(F7),ISBLANK(F8),F8>=F7), OR(ISBLANK(G7),ISBLANK(G8),G8>=G7), OR(ISBLANK(H7),ISBLANK(H8),H8>=H7), IF(I$1="",TRUE,OR(ISBLANK(I7),ISBLANK(I8),I8>=I7)), IF(I$1="",TRUE,OR(ISBLANK(J7),ISBLANK(J8),J8>=J7)), IF(K$1="",TRUE,OR(ISBLANK(K7),ISBLANK(K8),K8>=K7)), IF(K$1="",TRUE,OR(ISBLANK(L7),ISBLANK(L8),L8>=L7)) )),FALSE), "Numérateur supérieur à ce dénominateur !", LEFT( IF(B8="Dénominateur",A7,A8),12) = "(Facultatif)","", IF(I$1="",COUNTBLANK(C8:H8),COUNTBLANK(C8:J8))>0, _xlfn.CONCAT("Encore ",IF(I$1="",COUNTBLANK(C8:H8),COUNTBLANK(C8:J8)), " cellule(s) requise(s)"), TRUE,"" ) -> #NAME?
A9: Taux de respect du délai de rétablissement | B9: Numérateur | C9: =IFERROR(GETPIVOTDATA("valeur",VUE_KPI_FTTH!$A$7,"codeIndicateur","xix","unite","Numérateur","maille","Maille OI","type_valeur","Valeurs Nettes","OC","(vide)"),VUE_KPI_FTTH!A1) -> N/A | D9: =IFERROR(GETPIVOTDATA("valeur",VUE_KPI_FTTH!$A$7,"codeIndicateur","xix","unite","Numérateur","maille","Maille OI","type_valeur","Valeurs Brutes","OC","(vide)"),VUE_KPI_FTTH!A1) -> N/A | E9: =IFERROR(GETPIVOTDATA("valeur",VUE_KPI_FTTH!$A$7,"codeIndicateur","xix","unite","Numérateur","maille","Maille OI (offres commercialisées sur le marché de gros activé)","type_valeur","Valeurs Nettes","OC","(vide)"),VUE_KPI_FTTH!A1) -> N/A | F9: =IFERROR(GETPIVOTDATA("valeur",VUE_KPI_FTTH!$A$7,"codeIndicateur","xix","unite","Numérateur","maille","Maille OI (offres commercialisées sur le marché de gros activé)","type_valeur","Valeurs Brutes","OC","(vide)"),VUE_KPI_FTTH!A1) -> N/A | G9: =IFERROR(GETPIVOTDATA("valeur",VUE_KPI_FTTH!$A$7,"codeIndicateur","xix","unite","Numérateur","maille","Maille OI (offres commercialisées sur le marché de détail - Autofourniture)","type_valeur","Valeurs Nettes","OC","(vide)"),VUE_KPI_FTTH!A1) -> N/A | H9: =IFERROR(GETPIVOTDATA("valeur",VUE_KPI_FTTH!$A$7,"codeIndicateur","xix","unite","Numérateur","maille","Maille OI (offres commercialisées sur le marché de détail - Autofourniture)","type_valeur","Valeurs Brutes","OC","(vide)"),VUE_KPI_FTTH!A1) -> N/A | I9: =IFERROR(GETPIVOTDATA("valeur",VUE_KPI_FTTH!$A$7,"codeIndicateur","xix","unite","Numérateur","maille","Maille d'appréciation","type_valeur","Valeurs Nettes","OC","(vide)"),VUE_KPI_FTTH!A1) -> N/A | J9: =IFERROR(GETPIVOTDATA("valeur",VUE_KPI_FTTH!$A$7,"codeIndicateur","xix","unite","Numérateur","maille","Maille d'appréciation","type_valeur","Valeurs Brutes","OC","(vide)"),VUE_KPI_FTTH!A1) -> N/A | K9: =_xlfn.IFS( OR(B9="Taux",B9=""), "", NOT(AND( OR(ISBLANK(C9),ISNUMBER(C9)), OR(ISBLANK(D9),ISNUMBER(D9)), OR(ISBLANK(E9),ISNUMBER(E9)), OR(ISBLANK(F9),ISNUMBER(F9)), OR(ISBLANK(G9),ISNUMBER(G9)), OR(ISBLANK(H9),ISNUMBER(H9)), IF(I$1="",TRUE,OR(ISBLANK(I9),ISNUMBER(I9))), IF(I$1="",TRUE,OR(ISBLANK(J9),ISNUMBER(J9))), IF(K$1="",TRUE,OR(ISBLANK(K9),ISNUMBER(K9))), IF(K$1="",TRUE,OR(ISBLANK(L9),ISNUMBER(L9))) )), "Nombres attendus !", AND( OR(B9="Numérateur",B9="Dénominateur"), NOT(AND( OR(ISBLANK(C9),C9=ROUND(C9,0)), OR(ISBLANK(D9),D9=ROUND(D9,0)), OR(ISBLANK(E9),E9=ROUND(E9,0)), OR(ISBLANK(F9),F9=ROUND(F9,0)), OR(ISBLANK(G9),G9=ROUND(G9,0)), OR(ISBLANK(H9),H9=ROUND(H9,0)), IF(I$1="",TRUE,OR(ISBLANK(I9),I9=ROUND(I9,0))), IF(I$1="",TRUE,OR(ISBLANK(J9),J9=ROUND(J9,0))), IF(K$1="",TRUE,OR(ISBLANK(K9),K9=ROUND(K9,0))), IF(K$1="",TRUE,OR(ISBLANK(L9),L9=ROUND(L9,0))) )) ), "Entiers attendus !", AND(B9<>"Numérateur",B9<>"Dénominateur", NOT(AND( OR(ISBLANK(C9),C9=ROUND(C9,2)), OR(ISBLANK(D9),D9=ROUND(D9,2)), OR(ISBLANK(E9),E9=ROUND(E9,2)), OR(ISBLANK(F9),F9=ROUND(F9,2)), OR(ISBLANK(G9),G9=ROUND(G9,2)), OR(ISBLANK(H9),H9=ROUND(H9,2)), IF(I$1="",TRUE,OR(ISBLANK(I9),I9=ROUND(I9,2))), IF(I$1="",TRUE,OR(ISBLANK(J9),J9=ROUND(J9,2))), IF(K$1="",TRUE,OR(ISBLANK(K9),K9=ROUND(K9,2))), IF(K$1="",TRUE,OR(ISBLANK(L9),L9=ROUND(L9,2))) ))), "Précision supérieure à 2 décimales", MIN(C9:J9)<0,"Nombres positifs attendus !", AND(B9="Dénominateur", NOT(AND( OR(ISBLANK(C9),C9>0), OR(ISBLANK(D9),D9>0), OR(ISBLANK(E9),E9>0), OR(ISBLANK(F9),F9>0), OR(ISBLANK(G9),G9>0), OR(ISBLANK(H9),H9>0), IF(I$1="",TRUE,OR(ISBLANK(I9),I9>0)), IF(I$1="",TRUE,OR(ISBLANK(J9),J9>0)), IF(K$1="",TRUE,OR(ISBLANK(K9),K9>0)), IF(K$1="",TRUE,OR(ISBLANK(L9),L9>0)) ))), "Nombres strictement positifs attendus !", IF(B9="Dénominateur", NOT(AND( OR(ISBLANK(C8),ISBLANK(C9),C9>=C8), OR(ISBLANK(D8),ISBLANK(D9),D9>=D8), OR(ISBLANK(E8),ISBLANK(E9),E9>=E8), OR(ISBLANK(F8),ISBLANK(F9),F9>=F8), OR(ISBLANK(G8),ISBLANK(G9),G9>=G8), OR(ISBLANK(H8),ISBLANK(H9),H9>=H8), IF(I$1="",TRUE,OR(ISBLANK(I8),ISBLANK(I9),I9>=I8)), IF(I$1="",TRUE,OR(ISBLANK(J8),ISBLANK(J9),J9>=J8)), IF(K$1="",TRUE,OR(ISBLANK(K8),ISBLANK(K9),K9>=K8)), IF(K$1="",TRUE,OR(ISBLANK(L8),ISBLANK(L9),L9>=L8)) )),FALSE), "Numérateur supérieur à ce dénominateur !", LEFT( IF(B9="Dénominateur",A8,A9),12) = "(Facultatif)","", IF(I$1="",COUNTBLANK(C9:H9),COUNTBLANK(C9:J9))>0, _xlfn.CONCAT("Encore ",IF(I$1="",COUNTBLANK(C9:H9),COUNTBLANK(C9:J9)), " cellule(s) requise(s)"), TRUE,"" ) -> #NAME?
B10: Dénominateur | C10: =IFERROR(GETPIVOTDATA("valeur",VUE_KPI_FTTH!$A$7,"codeIndicateur","xix","unite","Dénominateur","maille","Maille OI","type_valeur","Valeurs Nettes","OC","(vide)"),VUE_KPI_FTTH!A1) -> N/A | D10: =IFERROR(GETPIVOTDATA("valeur",VUE_KPI_FTTH!$A$7,"codeIndicateur","xix","unite","Dénominateur","maille","Maille OI","type_valeur","Valeurs Brutes","OC","(vide)"),VUE_KPI_FTTH!A1) -> N/A | E10: =IFERROR(GETPIVOTDATA("valeur",VUE_KPI_FTTH!$A$7,"codeIndicateur","xix","unite","Dénominateur","maille","Maille OI (offres commercialisées sur le marché de gros activé)","type_valeur","Valeurs Nettes","OC","(vide)"),VUE_KPI_FTTH!A1) -> N/A | F10: =IFERROR(GETPIVOTDATA("valeur",VUE_KPI_FTTH!$A$7,"codeIndicateur","xix","unite","Dénominateur","maille","Maille OI (offres commercialisées sur le marché de gros activé)","type_valeur","Valeurs Brutes","OC","(vide)"),VUE_KPI_FTTH!A1) -> N/A | G10: =IFERROR(GETPIVOTDATA("valeur",VUE_KPI_FTTH!$A$7,"codeIndicateur","xix","unite","Dénominateur","maille","Maille OI (offres commercialisées sur le marché de détail - Autofourniture)","type_valeur","Valeurs Nettes","OC","(vide)"),VUE_KPI_FTTH!A1) -> N/A | H10: =IFERROR(GETPIVOTDATA("valeur",VUE_KPI_FTTH!$A$7,"codeIndicateur","xix","unite","Dénominateur","maille","Maille OI (offres commercialisées sur le marché de détail - Autofourniture)","type_valeur","Valeurs Brutes","OC","(vide)"),VUE_KPI_FTTH!A1) -> N/A | I10: =IFERROR(GETPIVOTDATA("valeur",VUE_KPI_FTTH!$A$7,"codeIndicateur","xix","unite","Dénominateur","maille","Maille d'appréciation","type_valeur","Valeurs Nettes","OC","(vide)"),VUE_KPI_FTTH!A1) -> N/A | J10: =IFERROR(GETPIVOTDATA("valeur",VUE_KPI_FTTH!$A$7,"codeIndicateur","xix","unite","Dénominateur","maille","Maille d'appréciation","type_valeur","Valeurs Brutes","OC","(vide)"),VUE_KPI_FTTH!A1) -> N/A | K10: =_xlfn.IFS( OR(B10="Taux",B10=""), "", NOT(AND( OR(ISBLANK(C10),ISNUMBER(C10)), OR(ISBLANK(D10),ISNUMBER(D10)), OR(ISBLANK(E10),ISNUMBER(E10)), OR(ISBLANK(F10),ISNUMBER(F10)), OR(ISBLANK(G10),ISNUMBER(G10)), OR(ISBLANK(H10),ISNUMBER(H10)), IF(I$1="",TRUE,OR(ISBLANK(I10),ISNUMBER(I10))), IF(I$1="",TRUE,OR(ISBLANK(J10),ISNUMBER(J10))), IF(K$1="",TRUE,OR(ISBLANK(K10),ISNUMBER(K10))), IF(K$1="",TRUE,OR(ISBLANK(L10),ISNUMBER(L10))) )), "Nombres attendus !", AND( OR(B10="Numérateur",B10="Dénominateur"), NOT(AND( OR(ISBLANK(C10),C10=ROUND(C10,0)), OR(ISBLANK(D10),D10=ROUND(D10,0)), OR(ISBLANK(E10),E10=ROUND(E10,0)), OR(ISBLANK(F10),F10=ROUND(F10,0)), OR(ISBLANK(G10),G10=ROUND(G10,0)), OR(ISBLANK(H10),H10=ROUND(H10,0)), IF(I$1="",TRUE,OR(ISBLANK(I10),I10=ROUND(I10,0))), IF(I$1="",TRUE,OR(ISBLANK(J10),J10=ROUND(J10,0))), IF(K$1="",TRUE,OR(ISBLANK(K10),K10=ROUND(K10,0))), IF(K$1="",TRUE,OR(ISBLANK(L10),L10=ROUND(L10,0))) )) ), "Entiers attendus !", AND(B10<>"Numérateur",B10<>"Dénominateur", NOT(AND( OR(ISBLANK(C10),C10=ROUND(C10,2)), OR(ISBLANK(D10),D10=ROUND(D10,2)), OR(ISBLANK(E10),E10=ROUND(E10,2)), OR(ISBLANK(F10),F10=ROUND(F10,2)), OR(ISBLANK(G10),G10=ROUND(G10,2)), OR(ISBLANK(H10),H10=ROUND(H10,2)), IF(I$1="",TRUE,OR(ISBLANK(I10),I10=ROUND(I10,2))), IF(I$1="",TRUE,OR(ISBLANK(J10),J10=ROUND(J10,2))), IF(K$1="",TRUE,OR(ISBLANK(K10),K10=ROUND(K10,2))), IF(K$1="",TRUE,OR(ISBLANK(L10),L10=ROUND(L10,2))) ))), "Précision supérieure à 2 décimales", MIN(C10:J10)<0,"Nombres positifs attendus !", AND(B10="Dénominateur", NOT(AND( OR(ISBLANK(C10),C10>0), OR(ISBLANK(D10),D10>0), OR(ISBLANK(E10),E10>0), OR(ISBLANK(F10),F10>0), OR(ISBLANK(G10),G10>0), OR(ISBLANK(H10),H10>0), IF(I$1="",TRUE,OR(ISBLANK(I10),I10>0)), IF(I$1="",TRUE,OR(ISBLANK(J10),J10>0)), IF(K$1="",TRUE,OR(ISBLANK(K10),K10>0)), IF(K$1="",TRUE,OR(ISBLANK(L10),L10>0)) ))), "Nombres strictement positifs attendus !", IF(B10="Dénominateur", NOT(AND( OR(ISBLANK(C9),ISBLANK(C10),C10>=C9), OR(ISBLANK(D9),ISBLANK(D10),D10>=D9), OR(ISBLANK(E9),ISBLANK(E10),E10>=E9), OR(ISBLANK(F9),ISBLANK(F10),F10>=F9), OR(ISBLANK(G9),ISBLANK(G10),G10>=G9), OR(ISBLANK(H9),ISBLANK(H10),H10>=H9), IF(I$1="",TRUE,OR(ISBLANK(I9),ISBLANK(I10),I10>=I9)), IF(I$1="",TRUE,OR(ISBLANK(J9),ISBLANK(J10),J10>=J9)), IF(K$1="",TRUE,OR(ISBLANK(K9),ISBLANK(K10),K10>=K9)), IF(K$1="",TRUE,OR(ISBLANK(L9),ISBLANK(L10),L10>=L9)) )),FALSE), "Numérateur supérieur à ce dénominateur !", LEFT( IF(B10="Dénominateur",A9,A10),12) = "(Facultatif)","", IF(I$1="",COUNTBLANK(C10:H10),COUNTBLANK(C10:J10))>0, _xlfn.CONCAT("Encore ",IF(I$1="",COUNTBLANK(C10:H10),COUNTBLANK(C10:J10)), " cellule(s) requise(s)"), TRUE,"" ) -> #NAME?
